Workbook

Sheet SGV

Sheet Bia 
B2: ĐẢNG BỘ ỦY BAN NHÂN DÂN TỈNH ĐẢNG ỦY SỞ XÂY DỰNG | G2: ĐẢNG CỘNG SẢN VIỆT NAM
B10: BÁO CÁO THỐNG KÊ SỐ LIỆU VỀ CÔNG TÁC KIỂM TRA, GIÁM SÁT
B11: VÀ THI HÀNH KỶ LUẬT ĐẢNG 9 THÁNG ĐẦU NĂM 2026
I23: Hưng Yên, ngày tháng năm 2026
C24: CÁN BỘ LẬP BIỂU | I24: T/M ĐẢNG ỦY
I25: CHỦ NHIỆM UBKT
C29: Trần Thị Minh Huệ | I29: Bùi Anh Tuấn

Sheet PTDL
A1: STT | B1: BIỂU TỔNG HỢP, PHÂN TÍCH DỮ LIỆU THỐNG KÊ | C1: Tổng cộng | D1: Nguồn số liệu | E1: …
A2: TT | B2: NỘI DUNG
A3: A | B3: KIỂM TRA, GIÁM SÁT CỦA ĐẢNG ỦY, BTV ĐẢNG ỦY, ĐẢNG ỦY BỘ PHẬN VÀ CHI BỘ TRỰC THUỘC
A4: I | B4: KIỂM TRA THEO ĐIỀU 30 ĐIỀU LỆ ĐẢNG
A5: 1 | B5: Kiểm tra tổ chức đảng | D5: Biểu 01
B6: Tổng số tổ chức đảng được kiểm tra | C6: 1
B7: Cấp kiểm tra
B8: Đảng uỷ cơ sở, BTV Đảng ủy cơ sở | C8: 1
B9: Đảng uỷ bộ phận | C9: ='B01'!K7 -> 0
B10: Nội dung kiểm tra
B11: Việc chấp hành Cương lĩnh chính trị, Điều lệ Đảng, chủ trương, nghị quyết, chỉ thị, quy định, quyết định, quy chế, kết luận, hướng dẫn của Đảng | C11: 0
B12: Việc chấp hành chính sách, pháp luật của Nhà nước | C12: ='B01'!M7 -> 1
B13: Việc chấp hành các nguyên tắc tổ chức và hoạt động của Đảng, giữ gìn đoàn kết nội bộ, quy chế làm việc, chế độ công tác, thực hiện dân chủ trong Đảng | C13: ='B01'!N7 -> 0
B14: Việc lãnh đạo, chỉ đạo thực hành tiết kiệm; phòng, chống tham nhũng, lãng phí, tiêu cực | C14: ='B01'!O7 -> 0
B15: Việc quản lý, rèn luyện phẩm chất, đạo đức, lối sống của đảng viên | C15: ='B01'!P7 -> 0
B16: Việc lãnh đạo, chỉ đạo và tổ chức thực hiện cải cách hành chính, cải cách pháp luật và tư pháp | C16: ='B01'!Q7 -> 0
B17: Việc lãnh đạo, chỉ đạo các cơ quan bảo vệ pháp luật trong công tác điều tra, truy tố, xét xử, thi hành án | C17: ='B01'!R7 -> 0
B18: Công tác cán bộ | C18: ='B01'!S7 -> 0
B19: Giải quyết khiếu nại, tố cáo | C19: ='B01'!T7 -> 0
B20: Việc thực hiện các thông báo kết luận kiểm tra, giám sát, thanh tra, kiểm toán | C20: ='B01'!U7 -> 0
B21: Việc lãnh đạo, chỉ đạo và tổ chức thực hiện kê khai, công khai tài sản, thu nhập | C21: ='B01'!V7 -> 0
B22: Khác | C22: ='B01'!W7 -> 0
B23: Tổ chức đảng được kiểm tra
B24: Đảng uỷ bộ phận | C24: ='B01'!C14 -> 0
B25: Chi bộ, Chi ủy | C25: 1
B26: Khác (ban chỉ đạo, tiểu ban, hội đồng...) | C26: ='B01'!C16 -> 0
B27: Kết luận | C27: ='B01'!C17 -> 0
B28: Thực hiện tốt | C28: 1
B29: Thực hiện chưa tốt | C29: ='B01'!C19 -> 0
B30: Trong đó: Có vi phạm, khuyết điểm chưa đến mức phải kỷ luật | C30: ='B01'!C20 -> 0
B31: Phải thi hành kỷ luật | C31: ='B01'!C21 -> 0
B32: Đã thi hành kỷ luật | C32: ='B01'!C22 -> 0
A33: 2 | B33: Kiểm tra đảng viên | D33: Biểu 02
B34: Tổng số đảng viên được kiểm tra | C34: 25
B35: Cấp kiểm tra
B36: Đảng ủy cơ sở, BTV Đảng ủy cơ sở | C36: 1
B37: Đảng ủy bộ phận | C37: ='B02'!K7 -> 0
B38: Chi bộ cơ sở | C38: ='B02'!L7 -> 0
B39: Chi bộ trực thuộc | C39: 24
B40: Nội dung kiểm tra
B41: Việc thực hiện những điều đảng viên không được làm | C41: 2
B42: Tiêu chuẩn đảng viên, tiêu chuẩn cấp ủy viên | C42: 1
B43: Việc thực hiện nhiệm vụ đảng viên, nhiệm vụ cấp ủy viên | C43: 9
B44: Việc chấp hành nghị quyết, chỉ thị, quy định, kết luận của Đảng; chính sách, pháp luật của Nhà nước | C44: 6
B45: Việc chấp hành quy chế làm việc, nguyên tắc tập trung dân chủ, chế độ công tác | C45: 1
B46: Tư tưởng chính trị, đạo đức, lối sống, trách nhiệm nêu gương | C46: 2
B47: Việc thực hiện các thông báo kết luận kiểm tra, giám sát, thanh tra, kiểm toán | C47: ='B02'!T7 -> 0
B48: Kê khai, công khai tài sản, thu nhập | C48: ='B02'!U7 -> 0
B49: Khác | C49: 4
B50: Đảng viên do từng cấp quản lý
B51: Cấp trên trực tiếp cơ sở và tương đương | C51: ='B02'!C10 -> 0
B52: Cấp cơ sở | C52: 25
B53: Là cấp ủy viên các cấp | C53: 7
B54: Uỷ viên Trung ương | C54: ='B02'!C13 -> 0
B55: Tỉnh ủy viên và tương đương | C55: ='B02'!C14 -> 0
B56: Đảng ủy viên ĐU cấp trên trực tiếp cơ sở và tương đương | C56: ='B02'!C15 -> 0
B57: Đảng ủy viên đảng ủy cơ sở | C57: 1
B58: Đảng ủy viên đảng ủy bộ phận | C58: ='B02'!C17 -> 0
B59: Chi ủy viên | C59: 6
B60: Đảng viên ở các lĩnh vực | C60: 25
B61: Đảng | C61: ='B02'!C20 -> 0
B62: Hành chính, Nhà nước | C62: 25
B63: Đoàn thể | C63: ='B02'!C22 -> 0
B64: Lực lượng vũ trang | C64: ='B02'!C23 -> 0
B65: Sự nghiệp công lập | C65: ='B02'!C24 -> 0
B66: Sản xuất kinh doanh, dịch vụ | C66: ='B02'!C25 -> 0
B67: Các lĩnh vực khác | C67: ='B02'!C26 -> 0
B68: Kết luận | C68: ='B02'!C27 -> 25
B69: Thực hiện tốt | C69: 25
B70: Thực hiện chưa tốt | C70: ='B02'!C29 -> 0
B71: Trong đó: Có vi phạm, khuyết điểm chưa đến mức phải kỷ luật | C71: ='B02'!C30 -> 0
B72: Phải thi hành kỷ luật | C72: ='B02'!C31 -> 0
B73: Đã thi hành kỷ luật | C73: ='B02'!C32 -> 0
A74: II | B74: KIỂM TRA KHI CÓ DẤU HIỆU VI PHẠM
A75: 1 | B75: Kiểm tra tổ chức đảng khi có dấu hiệu vi phạm | D75: Biểu 03
B76: Tổng số tổ chức đảng được kiểm tra | C76: ='B03'!C7 -> 0
B77: Cấp kiểm tra
B78: Đảng ủy cơ sở, BTV đảng ủy cơ sở | C78: ='B03'!G7 -> 0
B79: Nội dung kiểm tra
B80: Việc chấp hành Cương lĩnh chính trị, Điều lệ Đảng, chủ trương, nghị quyết, chỉ thị, quy định, quyết định, quy chế, kết luận, hướng dẫn của Đảng | C80: ='B03'!H7 -> 0
B81: Việc chấp hành chính sách, pháp luật của Nhà nước | C81: ='B03'!I7 -> 0
B82: Việc chấp hành các nguyên tắc tổ chức và hoạt động của Đảng, giữ gìn đoàn kết nội bộ, quy chế làm việc, chế độ công tác, thực hiện dân chủ trong Đảng | C82: ='B03'!J7 -> 0
B83: Việc lãnh đạo, chỉ đạo thực hành tiết kiệm; phòng, chống tham nhũng, lãng phí | C83: ='B03'!K7 -> 0
B84: Việc quản lý, tèn luyện phẩm chất, đạo đức, lối sống của đảng viên | C84: ='B03'!L7 -> 0
B85: Việc lãnh đạo, chỉ đạo và tổ chức thực hiện cải cách hành chính, cải cách tư pháp | C85: ='B03'!M7 -> 0
B86: Việc lãnh đạo, chỉ đạo các cơ quan bảo vệ pháp luật trong công tác điều tra, truy tố, xét xử, thi hành án | C86: ='B03'!N7 -> 0
B87: Công tác cán bộ | C87: ='B03'!O7 -> 0
B88: Giải quyết khiếu nại, tố cáo | C88: ='B03'!P7 -> 0
B89: Khác | C89: ='B03'!Q7 -> 0
B90: Tổ chức đảng được kiểm tra
B91: Đảng ủy bộ phận | C91: ='B03'!C14 -> 0
B92: Chi bộ, Chi ủy | C92: ='B03'!C15 -> 0
B93: Khác (ban chỉ đạo, tiểu ban, hội đồng, tổ đảng,...) | C93: ='B03'!C16 -> 0
B94: Kết luận | C94: ='B03'!C17 -> 0
B95: Số có vi phạm | C95: ='B03'!C18 -> 0
B96: Phải thi hành kỷ luật | C96: ='B03'!C19 -> 0
B97: Đã thi hành kỷ luật | C97: ='B03'!T7 -> 0
B98: Đề nghị cấp có thẩm quyền thi hành kỷ luật | C98: ='B03'!U7 -> 0
A99: 2 | B99: Kiểm tra đảng viên khi có dấu hiệu vi phạm | D99: Biểu 04
B100: Tổng số đảng viên được kiểm tra | C100: ='B04'!C7 -> 0
...

Sheet B01
A1: KIỂM TRA TỔ CHỨC ĐẢNG CẤP DƯỚI THEO ĐIỀU 30 ĐIỀU LỆ ĐẢNG | Z1: Biểu 01
X2: (ĐVT: Tổ chức đảng)
A3: TT | B3: Tổ chức đảng được kiểm tra | C3: Tổng số tổ chức đảng được kiểm tra | D3: Cấp kiểm tra | L3: Nội dung kiểm tra | X3: Kết luận
D4: BCH Trung ương, BCT, BBT | E4: Các CQ tham mưu của Trung ương | F4: Tỉnh ủy, BTV Tỉnh uỷ và tương đương | G4: Các CQ tham mưu của cấp ủy tỉnh và tương đương | H4: Đảng ủy, BTV ĐU cấp trên trực tiếp cơ sở và tương đương | I4: Các CQ tham mưu của cấp ủy cấp trên trực tiếp cơ sở và tương đương | J4: Đảng ủy cơ sở, BTV Đảng ủy cơ sở | K4: Đảng uỷ bộ phận | L4: Việc chấp hành Cương lĩnh chính trị, Điều lệ Đảng, chủ trương, nghị quyết, chỉ thị, quy định, quyết định, quy chế, kết luận, hướng dẫn của Đảng | M4: Việc chấp hành chính sách, pháp luật của Nhà nước | N4: Việc chấp hành các nguyên tắc tổ chức và hoạt động của Đảng, giữ gìn đoàn kết nội bộ, quy chế làm việc, chế độ công tác, thực hiện dân chủ trong Đảng | O4: Việc lãnh đạo, chỉ đạo thực hành tiết kiệm; phòng, chống tham nhũng, lãng phí, tiêu cực | P4: Việc quản lý, rèn luyện phẩm chất, đạo đức, lối sống của đảng viên | Q4: Việc lãnh đạo, chỉ đạo và tổ chức thực hiện cải cách hành chính, cải cách pháp luật và tư pháp | R4: Việc lãnh đạo, chỉ đạo các cơ quan bảo vệ pháp luật trong công tác điều tra, truy tố, xét xử, thi hành án | S4: Công tác cán bộ | T4: Giải quyết khiếu nại, tố cáo | U4: Việc thực hiện các thông báo kết luận kiểm tra, giám sát, thanh tra, kiểm toán | V4: Việc lãnh đạo, chỉ đạo và tổ chức thực hiện kê khai, công khai tài sản, thu nhập | W4: Khác | X4: Thực hiện tốt | Y4: Thực hiện chưa tốt | Z4: Trong đó
Z5: Có vi phạm, khuyết điểm chưa đến mức phải kỷ luật | AA5: Phải thi hành kỷ luật | AB5: Đã thi hành kỷ luật
A6: 1 | B6: 2 | C6: 3 | D6: 4 | E6: 5 | F6: 6 | G6: 7 | H6: 8 | I6: 9 | J6: 10 | K6: 11 | L6: 12 | M6: 13 | N6: 14 | O6: 15 | P6: 16 | Q6: 17 | R6: 18 | S6: 19 | T6: 20 | U6: 21 | V6: 22 | W6: 23 | X6: 24 | Y6: 25 | Z6: 26 | AA6: 27 | AB6: 28
A7: I | B7: Tổ chức đảng được kiểm tra | C7: =SUM(C8:C16) -> 0 | D7: =SUM(D8:D16) -> 0 | E7: =SUM(E8:E16) -> 0 | F7: =SUM(F8:F16) -> 0 | G7: =SUM(G8:G16) -> 0 | H7: =SUM(H8:H16) -> 0 | I7: =SUM(I8:I16) -> 0 | J7: =SUM(J8:J16) -> 0 | K7: =SUM(K8:K16) -> 0 | L7: 0 | M7: =SUM(M8:M16) -> 1 | N7: =SUM(N8:N16) -> 0 | O7: =SUM(O8:O16) -> 0 | P7: =SUM(P8:P16) -> 0 | Q7: =SUM(Q8:Q16) -> 0 | R7: =SUM(R8:R16) -> 0 | S7: =SUM(S8:S16) -> 0 | T7: =SUM(T8:T16) -> 0 | ... AB7: =SUM(AB8:AB16) -> 0 | AC7: =IF(AND(L7<=C7,M7<=C7,N7<=C7,O7<=C7,P7<=C7,Q7<=C7,R7<=C7,S7<=C7,T7<=C7,U7<=C7,V7<=C7,W7<=C7), "Đúng", "Sai") -> Sai | AD7: =IF(C7=X7+Y7, "Đúng", "Sai") -> Đúng | AE7: =IF(Y7=Z7+AA7, "Đúng", "Sai") -> Đúng | AF7: =IF(AB7<=AA7,"Đúng","Sai") -> Đúng
B8: Các CQ tham mưu của Trung ương | C8: =SUM(D8:K8) -> 0 | AC8: =IF(AND(L8<=C8,M8<=C8,N8<=C8,O8<=C8,P8<=C8,Q8<=C8,R8<=C8,S8<=C8,T8<=C8,U8<=C8,V8<=C8,W8<=C8), "Đúng", "Sai") -> Đúng | AD8: =IF(C8=X8+Y8, "Đúng", "Sai") -> Đúng | AE8: =IF(Y8=Z8+AA8, "Đúng", "Sai") -> Đúng | AF8: =IF(AB8<=AA8,"Đúng","Sai") -> Đúng
B9: Tỉnh uỷ, BTV tỉnh uỷ và tương đương | C9: =SUM(D9:K9) -> 0 | AC9: =IF(AND(L9<=C9,M9<=C9,N9<=C9,O9<=C9,P9<=C9,Q9<=C9,R9<=C9,S9<=C9,T9<=C9,U9<=C9,V9<=C9,W9<=C9), "Đúng", "Sai") -> Đúng | AD9: =IF(C9=X9+Y9, "Đúng", "Sai") -> Đúng | AE9: =IF(Y9=Z9+AA9, "Đúng", "Sai") -> Đúng | AF9: =IF(AB9<=AA9,"Đúng","Sai") -> Đúng
B10: Các CQ tham mưu của cấp ủy tỉnh và tương đương | C10: =SUM(D10:K10) -> 0 | AC10: =IF(AND(L10<=C10,M10<=C10,N10<=C10,O10<=C10,P10<=C10,Q10<=C10,R10<=C10,S10<=C10,T10<=C10,U10<=C10,V10<=C10,W10<=C10), "Đúng", "Sai") -> Đúng | AD10: =IF(C10=X10+Y10, "Đúng", "Sai") -> Đúng | AE10: =IF(Y10=Z10+AA10, "Đúng", "Sai") -> Đúng | AF10: =IF(AB10<=AA10,"Đúng","Sai") -> Đúng
B11: Đảng ủy, BTV ĐU cấp trên trực tiếp cơ sở và tương đương | C11: =SUM(D11:K11) -> 0 | AC11: =IF(AND(L11<=C11,M11<=C11,N11<=C11,O11<=C11,P11<=C11,Q11<=C11,R11<=C11,S11<=C11,T11<=C11,U11<=C11,V11<=C11,W11<=C11), "Đúng", "Sai") -> Đúng | AD11: =IF(C11=X11+Y11, "Đúng", "Sai") -> Đúng | AE11: =IF(Y11=Z11+AA11, "Đúng", "Sai") -> Đúng | AF11: =IF(AB11<=AA11,"Đúng","Sai") -> Đúng
B12: Các CQ tham mưu của cấp ủy cấp trên trực tiếp cơ sở và tương đương | C12: =SUM(D12:K12) -> 0 | AC12: =IF(AND(L12<=C12,M12<=C12,N12<=C12,O12<=C12,P12<=C12,Q12<=C12,R12<=C12,S12<=C12,T12<=C12,U12<=C12,V12<=C12,W12<=C12), "Đúng", "Sai") -> Đúng | AD12: =IF(C12=X12+Y12, "Đúng", "Sai") -> Đúng | AE12: =IF(Y12=Z12+AA12, "Đúng", "Sai") -> Đúng | AF12: =IF(AB12<=AA12,"Đúng","Sai") -> Đúng
B13: Đảng ủy cơ sở, BTV Đảng ủy cơ sở | C13: =SUM(D13:K13) -> 0 | L13: 0 | M13: 1 | AC13: =IF(AND(L13<=C13,M13<=C13,N13<=C13,O13<=C13,P13<=C13,Q13<=C13,R13<=C13,S13<=C13,T13<=C13,U13<=C13,V13<=C13,W13<=C13), "Đúng", "Sai") -> Sai | AD13: =IF(C13=X13+Y13, "Đúng", "Sai") -> Đúng | AE13: =IF(Y13=Z13+AA13, "Đúng", "Sai") -> Đúng | AF13: =IF(AB13<=AA13,"Đúng","Sai") -> Đúng
B14: Đảng ủy bộ phận | C14: =SUM(D14:K14) -> 0 | AC14: =IF(AND(L14<=C14,M14<=C14,N14<=C14,O14<=C14,P14<=C14,Q14<=C14,R14<=C14,S14<=C14,T14<=C14,U14<=C14,V14<=C14,W14<=C14), "Đúng", "Sai") -> Đúng | AD14: =IF(C14=X14+Y14, "Đúng", "Sai") -> Đúng | AE14: =IF(Y14=Z14+AA14, "Đúng", "Sai") -> Đúng | AF14: =IF(AB14<=AA14,"Đúng","Sai") -> Đúng
B15: Chi bộ, Chi ủy | C15: =SUM(D15:K15) -> 0 | AC15: =IF(AND(L15<=C15,M15<=C15,N15<=C15,O15<=C15,P15<=C15,Q15<=C15,R15<=C15,S15<=C15,T15<=C15,U15<=C15,V15<=C15,W15<=C15), "Đúng", "Sai") -> Đúng | AD15: =IF(C15=X15+Y15, "Đúng", "Sai") -> Đúng | AE15: =IF(Y15=Z15+AA15, "Đúng", "Sai") -> Đúng | AF15: =IF(AB15<=AA15,"Đúng","Sai") -> Đúng
B16: Khác (ban chỉ đạo, tiểu ban, hội đồng...) | C16: =SUM(D16:K16) -> 0 | AC16: =IF(AND(L16<=C16,M16<=C16,N16<=C16,O16<=C16,P16<=C16,Q16<=C16,R16<=C16,S16<=C16,T16<=C16,U16<=C16,V16<=C16,W16<=C16), "Đúng", "Sai") -> Đúng | AD16: =IF(C16=X16+Y16, "Đúng", "Sai") -> Đúng | AE16: =IF(Y16=Z16+AA16, "Đúng", "Sai") -> Đúng | AF16: =IF(AB16<=AA16,"Đúng","Sai") -> Đúng
A17: II | B17: Kết luận | C17: =C18+C19 -> 0 | D17: =D18+D19 -> 0 | E17: =E18+E19 -> 0 | F17: =F18+F19 -> 0 | G17: =G18+G19 -> 0 | H17: =H18+H19 -> 0 | I17: =I18+I19 -> 0 | J17: =J18+J19 -> 0 | ... W17: =W18+W19 -> 0
B18: Thực hiện tốt | C18: =SUM(D18:K18) -> 0 | L18: 0 | M18: 1
B19: Thực hiện chưa tốt | C19: =SUM(D19:K19) -> 0
B20: Có vi phạm, khuyết điểm chưa đến mức phải kỷ luật | C20: =SUM(D20:K20) -> 0
B21: Phải thi hành kỷ luật | C21: =SUM(D21:K21) -> 0
B22: Đã thi hành kỷ luật | C22: =SUM(D22:K22) -> 0
C24: =IF(C17=C7, "Đúng", "Sai") -> Đúng | D24: =IF(D17=D7, "Đúng", "Sai") -> Đúng | E24: =IF(E17=E7, "Đúng", "Sai") -> Đúng | F24: =IF(F17=F7, "Đúng", "Sai") -> Đúng | G24: =IF(G17=G7, "Đúng", "Sai") -> Đúng | H24: =IF(H17=H7, "Đúng", "Sai") -> Đúng | I24: =IF(I17=I7, "Đúng", "Sai") -> Đúng | J24: =IF(J17=J7, "Đúng", "Sai") -> Đúng | ... W24: =IF(W17=W7, "Đúng", "Sai") -> Đúng
C25: =IF(C19=C20+C21, "Đúng", "Sai") -> Đúng | D25: =IF(D19=D20+D21, "Đúng", "Sai") -> Đúng | E25: =IF(E19=E20+E21, "Đúng", "Sai") -> Đúng | F25: =IF(F19=F20+F21, "Đúng", "Sai") -> Đúng | G25: =IF(G19=G20+G21, "Đúng", "Sai") -> Đúng | H25: =IF(H19=H20+H21, "Đúng", "Sai") -> Đúng | I25: =IF(I19=I20+I21, "Đúng", "Sai") -> Đúng | J25: =IF(J19=J20+J21, "Đúng", "Sai") -> Đúng | ... W25: =IF(W19=W20+W21, "Đúng", "Sai") -> Đúng
C26: =IF(C22<=C21,"Đúng","Sai") -> Đúng | D26: =IF(D22<=D21,"Đúng","Sai") -> Đúng | E26: =IF(E22<=E21,"Đúng","Sai") -> Đúng | F26: =IF(F22<=F21,"Đúng","Sai") -> Đúng | G26: =IF(G22<=G21,"Đúng","Sai") -> Đúng | H26: =IF(H22<=H21,"Đúng","Sai") -> Đúng | I26: =IF(I22<=I21,"Đúng","Sai") -> Đúng | J26: =IF(J22<=J21,"Đúng","Sai") -> Đúng | ... W26: =IF(W22<=W21,"Đúng","Sai") -> Đúng
C27: =IF(C18=X7, "Đúng", "Sai") -> Đúng
C28: =IF(C19=Y7, "Đúng", "Sai") -> Đúng
C29: =IF(C20=Z7, "Đúng", "Sai") -> Đúng
C30: =IF(C21=AA7, "Đúng", "Sai") -> Đúng
C31: =IF(C22=AB7, "Đúng", "Sai") -> Đúng

Sheet B02
A1: KIỂM TRA ĐẢNG VIÊN THEO ĐIỀU 30 ĐIỀU LỆ ĐẢNG | Z1: Biểu 02
W2: (ĐVT: Đảng viên)
A3: TT | B3: Đảng viên được kiểm tra | C3: Tổng số đảng viên được kiểm tra | D3: Cấp kiểm tra | N3: Nội dung kiểm tra | W3: Kết luận
D4: BCHTW, BCT, Ban Bí thư | E4: Các CQ tham mưu của TW | F4: Tỉnh ủy, BTV tỉnh uỷ và tương đương | G4: Các CQ tham mưu của cấp ủy tỉnh và tương đương | H4: Đảng ủy, BTV ĐU cấp trên trực tiếp cơ sở và tương đương | I4: Các CQ tham mưu của cấp ủy cấp trên trực tiếp cơ sở và tương đương | J4: Đảng ủy cơ sở, BTV Đảng ủy cơ sở | K4: Đảng ủy bộ phận | L4: Chi bộ cơ sở | M4: Chi bộ trực thuộc | N4: Việc thực hiện những điều đảng viên không được làm | O4: Tiêu chuẩn đảng viên, tiêu chuẩn cấp ủy viên | P4: Việc thực hiện nhiệm vụ đảng viên, nhiệm vụ cấp ủy viên | Q4: Việc chấp hành nghị quyết, chỉ thị, quy định, kết luận của Đảng; chính sách, pháp luật của Nhà nước | R4: Việc chấp hành quy chế làm việc, nguyên tắc tập trung dân chủ, chế độ công tác | S4: Tư tưởng chính trị, đạo đức, lối sống, trách nhiệm nêu gương | T4: Việc thực hiện các thông báo kết luận kiểm tra, giám sát, thanh tra, kiểm toán | U4: Kê khai, công khai tài sản, thu nhập | V4: Khác | W4: Thực hiện tốt | X4: Thực hiện chưa tốt | Y4: Trong đó
Y5: Có vi phạm, khuyết điểm chưa đến mức phải kỷ luật | Z5: Phải thi hành kỷ luật | AA5: Đã thi hành kỷ luật
A6: 1 | B6: 2 | C6: 3 | D6: 4 | E6: 5 | F6: 6 | G6: 7 | H6: 8 | I6: 9 | J6: 10 | K6: 11 | L6: 12 | M6: 13 | N6: 14 | O6: 15 | P6: 16 | Q6: 17 | R6: 18 | S6: 19 | T6: 20 | U6: 21 | V6: 22 | W6: 23 | X6: 24 | Y6: 25 | Z6: 26 | AA6: 27
A7: I | B7: Cấp quản lý đảng viên | C7: =SUM(C8:C11) -> 25 | D7: =SUM(D8:D11) -> 0 | E7: =SUM(E8:E11) -> 0 | F7: =SUM(F8:F11) -> 0 | G7: =SUM(G8:G11) -> 0 | H7: =SUM(H8:H11) -> 0 | I7: =SUM(I8:I11) -> 0 | J7: =SUM(J8:J11) -> 0 | ... AA7: =SUM(AA8:AA11) -> 0 | AB7: =IF(AND(N7<=C7,O7<=C7,P7<=C7,Q7<=C7,R7<=C7,S7<=C7,U7<=C7,V7<=C7),"Đúng","Sai") -> Đúng | AC7: =IF(C7=W7+X7,"Đúng","Sai") -> Đúng | AD7: =IF(X7=Y7+Z7,"Đúng","Sai") -> Đúng | AE7: =IF(AA7<=Z7,"Đúng","Sai") -> Đúng
B8: Trung ương | C8: =SUM(D8:M8) -> 0 | AB8: =IF(AND(N8<=C8,O8<=C8,P8<=C8,Q8<=C8,R8<=C8,S8<=C8,U8<=C8,V8<=C8),"Đúng","Sai") -> Đúng | AC8: =IF(C8=W8+X8,"Đúng","Sai") -> Đúng | AD8: =IF(X8=Y8+Z8,"Đúng","Sai") -> Đúng | AE8: =IF(AA8<=Z8,"Đúng","Sai") -> Đúng
B9: Cấp tỉnh và tương đương | C9: =SUM(D9:M9) -> 0 | AB9: =IF(AND(N9<=C9,O9<=C9,P9<=C9,Q9<=C9,R9<=C9,S9<=C9,U9<=C9,V9<=C9),"Đúng","Sai") -> Đúng | AC9: =IF(C9=W9+X9,"Đúng","Sai") -> Đúng | AD9: =IF(X9=Y9+Z9,"Đúng","Sai") -> Đúng | AE9: =IF(AA9<=Z9,"Đúng","Sai") -> Đúng
B10: Cấp trên trực tiếp cơ sở và tương đương | C10: =SUM(D10:M10) -> 0 | AB10: =IF(AND(N10<=C10,O10<=C10,P10<=C10,Q10<=C10,R10<=C10,S10<=C10,U10<=C10,V10<=C10),"Đúng","Sai") -> Đúng | AC10: =IF(C10=W10+X10,"Đúng","Sai") -> Đúng | AD10: =IF(X10=Y10+Z10,"Đúng","Sai") -> Đúng | AE10: =IF(AA10<=Z10,"Đúng","Sai") -> Đúng
B11: Cấp cơ sở | C11: =SUM(N11:V11) -> 25 | M11: 25 | N11: 2 | O11: 1 | P11: 9 | Q11: 6 | R11: 1 | S11: 2 | V11: 4 | W11: 25 | AB11: =IF(AND(N11<=C11,O11<=C11,P11<=C11,Q11<=C11,R11<=C11,S11<=C11,U11<=C11,V11<=C11),"Đúng","Sai") -> Đúng | AC11: =IF(C11=W11+X11,"Đúng","Sai") -> Đúng | AD11: =IF(X11=Y11+Z11,"Đúng","Sai") -> Đúng | AE11: =IF(AA11<=Z11,"Đúng","Sai") -> Đúng
A12: II | B12: Là cấp uỷ viên các cấp | C12: =SUM(N12:V12) -> 6 | D12: =SUM(D13:D18) -> 0 | E12: =SUM(E13:E18) -> 0 | F12: =SUM(F13:F18) -> 0 | G12: =SUM(G13:G18) -> 0 | H12: =SUM(H13:H18) -> 0 | I12: =SUM(I13:I18) -> 0 | J12: =SUM(J13:J18) -> 0 | K12: =SUM(K13:K18) -> 0 | ... AA12: =SUM(AA13:AA18) -> 0 | AB12: =IF(AND(N12<=C12,O12<=C12,P12<=C12,Q12<=C12,R12<=C12,S12<=C12,U12<=C12,V12<=C12),"Đúng","Sai") -> Đúng | AC12: =IF(C12=W12+X12,"Đúng","Sai") -> Sai | AD12: =IF(X12=Y12+Z12,"Đúng","Sai") -> Đúng | AE12: =IF(AA12<=Z12,"Đúng","Sai") -> Đúng
B13: Uỷ viên Trung ương | C13: =SUM(N13:V13) -> 0 | AB13: =IF(AND(N13<=C13,O13<=C13,P13<=C13,Q13<=C13,R13<=C13,S13<=C13,U13<=C13,V13<=C13),"Đúng","Sai") -> Đúng | AC13: =IF(C13=W13+X13,"Đúng","Sai") -> Đúng | AD13: =IF(X13=Y13+Z13,"Đúng","Sai") -> Đúng | AE13: =IF(AA13<=Z13,"Đúng","Sai") -> Đúng
B14: Tỉnh ủy viên và tương đương | C14: =SUM(N14:V14) -> 0 | AB14: =IF(AND(N14<=C14,O14<=C14,P14<=C14,Q14<=C14,R14<=C14,S14<=C14,U14<=C14,V14<=C14),"Đúng","Sai") -> Đúng | AC14: =IF(C14=W14+X14,"Đúng","Sai") -> Đúng | AD14: =IF(X14=Y14+Z14,"Đúng","Sai") -> Đúng | AE14: =IF(AA14<=Z14,"Đúng","Sai") -> Đúng
B15: Đảng ủy viên ĐU cấp trên trực tiếp cơ sở và tương đương | C15: =SUM(N15:V15) -> 0 | AB15: =IF(AND(N15<=C15,O15<=C15,P15<=C15,Q15<=C15,R15<=C15,S15<=C15,U15<=C15,V15<=C15),"Đúng","Sai") -> Đúng | AC15: =IF(C15=W15+X15,"Đúng","Sai") -> Đúng | AD15: =IF(X15=Y15+Z15,"Đúng","Sai") -> Đúng | AE15: =IF(AA15<=Z15,"Đúng","Sai") -> Đúng
B16: Đảng ủy viên đảng ủy cơ sở | C16: =SUM(N16:V16) -> 0 | AB16: =IF(AND(N16<=C16,O16<=C16,P16<=C16,Q16<=C16,R16<=C16,S16<=C16,U16<=C16,V16<=C16),"Đúng","Sai") -> Đúng | AC16: =IF(C16=W16+X16,"Đúng","Sai") -> Đúng | AD16: =IF(X16=Y16+Z16,"Đúng","Sai") -> Đúng | AE16: =IF(AA16<=Z16,"Đúng","Sai") -> Đúng
B17: Đảng ủy viên đảng ủy bộ phận | C17: =SUM(N17:V17) -> 0 | AB17: =IF(AND(N17<=C17,O17<=C17,P17<=C17,Q17<=C17,R17<=C17,S17<=C17,U17<=C17,V17<=C17),"Đúng","Sai") -> Đúng | AC17: =IF(C17=W17+X17,"Đúng","Sai") -> Đúng | AD17: =IF(X17=Y17+Z17,"Đúng","Sai") -> Đúng | AE17: =IF(AA17<=Z17,"Đúng","Sai") -> Đúng
B18: Chi ủy viên | C18: =SUM(N18:V18) -> 6 | N18: 1 | P18: 2 | V18: 3 | AB18: =IF(AND(N18<=C18,O18<=C18,P18<=C18,Q18<=C18,R18<=C18,S18<=C18,U18<=C18,V18<=C18),"Đúng","Sai") -> Đúng | AC18: =IF(C18=W18+X18,"Đúng","Sai") -> Sai | AD18: =IF(X18=Y18+Z18,"Đúng","Sai") -> Đúng | AE18: =IF(AA18<=Z18,"Đúng","Sai") -> Đúng
A19: III | B19: Đảng viên ở các lĩnh vực | C19: =SUM(N19:V19) -> 25 | D19: =SUM(D20:D26) -> 0 | E19: =SUM(E20:E26) -> 0 | F19: =SUM(F20:F26) -> 0 | G19: =SUM(G20:G26) -> 0 | H19: =SUM(H20:H26) -> 0 | I19: =SUM(I20:I26) -> 0 | J19: =SUM(J20:J26) -> 0 | K19: =SUM(K20:K26) -> 0 | ... AA19: =SUM(AA20:AA26) -> 0 | AB19: =IF(AND(N19<=C19,O19<=C19,P19<=C19,Q19<=C19,R19<=C19,S19<=C19,U19<=C19,V19<=C19),"Đúng","Sai") -> Đúng | AC19: =IF(C19=W19+X19,"Đúng","Sai") -> Đúng | AD19: =IF(X19=Y19+Z19,"Đúng","Sai") -> Đúng | AE19: =IF(AA19<=Z19,"Đúng","Sai") -> Đúng
B20: Đảng | C20: =SUM(N20:V20) -> 0 | AB20: =IF(AND(N20<=C20,O20<=C20,P20<=C20,Q20<=C20,R20<=C20,S20<=C20,U20<=C20,V20<=C20),"Đúng","Sai") -> Đúng | AC20: =IF(C20=W20+X20,"Đúng","Sai") -> Đúng | AD20: =IF(X20=Y20+Z20,"Đúng","Sai") -> Đúng | AE20: =IF(AA20<=Z20,"Đúng","Sai") -> Đúng
B21: Hành chính, Nhà nước | C21: =SUM(N21:V21) -> 25 | M21: 25 | N21: 2 | O21: 1 | P21: 9 | Q21: 6 | R21: 1 | S21: 2 | V21: 4 | W21: 25 | AB21: =IF(AND(N21<=C21,O21<=C21,P21<=C21,Q21<=C21,R21<=C21,S21<=C21,U21<=C21,V21<=C21),"Đúng","Sai") -> Đúng | AC21: =IF(C21=W21+X21,"Đúng","Sai") -> Đúng | AD21: =IF(X21=Y21+Z21,"Đúng","Sai") -> Đúng | AE21: =IF(AA21<=Z21,"Đúng","Sai") -> Đúng
B22: Đoàn thể | C22: =SUM(N22:V22) -> 0 | AB22: =IF(AND(N22<=C22,O22<=C22,P22<=C22,Q22<=C22,R22<=C22,S22<=C22,U22<=C22,V22<=C22),"Đúng","Sai") -> Đúng | AC22: =IF(C22=W22+X22,"Đúng","Sai") -> Đúng | AD22: =IF(X22=Y22+Z22,"Đúng","Sai") -> Đúng | AE22: =IF(AA22<=Z22,"Đúng","Sai") -> Đúng
B23: Lực lượng vũ trang | C23: =SUM(N23:V23) -> 0 | AB23: =IF(AND(N23<=C23,O23<=C23,P23<=C23,Q23<=C23,R23<=C23,S23<=C23,U23<=C23,V23<=C23),"Đúng","Sai") -> Đúng | AC23: =IF(C23=W23+X23,"Đúng","Sai") -> Đúng | AD23: =IF(X23=Y23+Z23,"Đúng","Sai") -> Đúng | AE23: =IF(AA23<=Z23,"Đúng","Sai") -> Đúng
B24: Sự nghiệp công lập | C24: =SUM(N24:V24) -> 0 | AB24: =IF(AND(N24<=C24,O24<=C24,P24<=C24,Q24<=C24,R24<=C24,S24<=C24,U24<=C24,V24<=C24),"Đúng","Sai") -> Đúng | AC24: =IF(C24=W24+X24,"Đúng","Sai") -> Đúng | AD24: =IF(X24=Y24+Z24,"Đúng","Sai") -> Đúng | AE24: =IF(AA24<=Z24,"Đúng","Sai") -> Đúng
B25: Sản xuất kinh doanh, dịch vụ | C25: =SUM(N25:V25) -> 0 | AB25: =IF(AND(N25<=C25,O25<=C25,P25<=C25,Q25<=C25,R25<=C25,S25<=C25,U25<=C25,V25<=C25),"Đúng","Sai") -> Đúng | AC25: =IF(C25=W25+X25,"Đúng","Sai") -> Đúng | AD25: =IF(X25=Y25+Z25,"Đúng","Sai") -> Đúng | AE25: =IF(AA25<=Z25,"Đúng","Sai") -> Đúng
B26: Các lĩnh vực khác | C26: =SUM(N26:V26) -> 0 | AB26: =IF(AND(N26<=C26,O26<=C26,P26<=C26,Q26<=C26,R26<=C26,S26<=C26,U26<=C26,V26<=C26),"Đúng","Sai") -> Đúng | AC26: =IF(C26=W26+X26,"Đúng","Sai") -> Đúng | AD26: =IF(X26=Y26+Z26,"Đúng","Sai") -> Đúng | AE26: =IF(AA26<=Z26,"Đúng","Sai") -> Đúng
A27: IV | B27: Kết luận | C27: =SUM(N27:V27) -> 25 | D27: =D28+D29 -> 0 | E27: =E28+E29 -> 0 | F27: =F28+F29 -> 0 | G27: =G28+G29 -> 0 | H27: =H28+H29 -> 0 | I27: =I28+I29 -> 0 | J27: =J28+J29 -> 0 | K27: =K28+K29 -> 0 | ... V27: =V28+V29 -> 4 | W27: 20
B28: Thực hiện tốt | C28: =SUM(N28:V28) -> 25 | M28: 25 | N28: 2 | O28: 1 | P28: 9 | Q28: 6 | R28: 1 | S28: 2 | V28: 4 | W28: 25
B29: Thực hiện chưa tốt | C29: =SUM(N29:V29) -> 0
B30: Có vi phạm, khuyết điểm chưa đến mức phải kỷ luật | C30: =SUM(N30:V30) -> 0
B31: Phải thi hành kỷ luật | C31: =SUM(N31:V31) -> 0
B32: Đã thi hành kỷ luật | C32: =SUM(N32:V32) -> 0
C34: =IF(AND(C7=C19,C7=C27), "Đúng", "Sai") -> Đúng | D34: =IF(AND(D7=D19,D7=D27), "Đúng", "Sai") -> Đúng | E34: =IF(AND(E7=E19,E7=E27), "Đúng", "Sai") -> Đúng | F34: =IF(AND(F7=F19,F7=F27), "Đúng", "Sai") -> Đúng | G34: =IF(AND(G7=G19,G7=G27), "Đúng", "Sai") -> Đúng | H34: =IF(AND(H7=H19,H7=H27), "Đúng", "Sai") -> Đúng | I34: =IF(AND(I7=I19,I7=I27), "Đúng", "Sai") -> Đúng | J34: =IF(AND(J7=J19,J7=J27), "Đúng", "Sai") -> Đúng | ... V34: =IF(AND(V7=V19,V7=V27), "Đúng", "Sai") -> Đúng | W34: =IF(W7=W19, "Đúng", "Sai") -> Đúng | X34: =IF(X7=X19, "Đúng", "Sai") -> Đúng | Y34: =IF(Y7=Y19, "Đúng", "Sai") -> Đúng | Z34: =IF(Z7=Z19, "Đúng", "Sai") -> Đúng | AA34: =IF(AA7=AA19, "Đúng", "Sai") -> Đúng
C35: =IF(C29=C30+C31,"Đúng","Sai") -> Đúng | D35: =IF(D29=D30+D31,"Đúng","Sai") -> Đúng | E35: =IF(E29=E30+E31,"Đúng","Sai") -> Đúng | F35: =IF(F29=F30+F31,"Đúng","Sai") -> Đúng | G35: =IF(G29=G30+G31,"Đúng","Sai") -> Đúng | H35: =IF(H29=H30+H31,"Đúng","Sai") -> Đúng | I35: =IF(I29=I30+I31,"Đúng","Sai") -> Đúng | J35: =IF(J29=J30+J31,"Đúng","Sai") -> Đúng | ... V35: =IF(V29=V30+V31,"Đúng","Sai") -> Đúng
C36: =IF(C32<=C31,"Đúng","Sai") -> Đúng | D36: =IF(D32<=D31,"Đúng","Sai") -> Đúng | E36: =IF(E32<=E31,"Đúng","Sai") -> Đúng | F36: =IF(F32<=F31,"Đúng","Sai") -> Đúng | G36: =IF(G32<=G31,"Đúng","Sai") -> Đúng | H36: =IF(H32<=H31,"Đúng","Sai") -> Đúng | I36: =IF(I32<=I31,"Đúng","Sai") -> Đúng | J36: =IF(J32<=J31,"Đúng","Sai") -> Đúng | ... V36: =IF(V32<=V31,"Đúng","Sai") -> Đúng
C37: =IF(C28=W19, "Đúng", "Sai") -> Đúng
C38: =IF(C29=X19, "Đúng", "Sai") -> Đúng
C39: =IF(C30=Y19, "Đúng", "Sai") -> Đúng
C40: =IF(C31=Z19, "Đúng", "Sai") -> Đúng
C41: =IF(C32=AA19, "Đúng", "Sai") -> Đúng

Sheet B03
A1: KIỂM TRA TỔ CHỨC ĐẢNG KHI CÓ DẤU HIỆU VI PHẠM CỦA CẤP ỦY, BAN THƯỜNG VỤ CẤP ỦY | T1: Biểu 03
A3: TT | B3: Tổ chức đảng được kiểm tra | C3: Tổng số tổ chức đảng được kiểm tra | D3: Cấp kiểm tra | H3: Nội dung kiểm tra | R3: Kết luận
D4: BCHTW, Bộ Chính trị, Ban Bí thư | E4: Tỉnh ủy, BTV tỉnh ủy và tương đương | F4: Đảng ủy, BTV ĐU cấp trên trực tiếp cơ sở và tương đương | G4: Đảng ủy cơ sở, BTV đảng ủy cơ sở | H4: Việc chấp hành Cương lĩnh chính trị, Điều lệ Đảng, chủ trương, nghị quyết, chỉ thị, quy định, quyết định, quy chế, kết luận, hướng dẫn của Đảng | I4: Việc chấp hành chính sách, pháp luật của Nhà nước | J4: Việc chấp hành các nguyên tắc tổ chức và hoạt động của Đảng, giữ gìn đoàn kết nội bộ, quy chế làm việc, chế độ công tác, thực hiện dân chủ trong Đảng | K4: Việc lãnh đạo, chỉ đạo thực hành tiết kiệm; phòng, chống tham nhũng, lãng phí, tiêu cực | L4: Việc quản lý, rèn luyện phẩm chất, đạo đức, lối sống của đảng viên | M4: Việc lãnh đạo, chỉ đạo và tổ chức thực hiện cải cách hành chính, cải cách tư pháp | N4: Việc lãnh đạo, chỉ đạo các cơ quan bảo vệ pháp luật trong công tác điều tra, truy tố, xét xử, thi hành án | O4: Công tác cán bộ | P4: Giải quyết khiếu nại, tố cáo | Q4: Khác | R4: Số có vi phạm | S4: Trong đó
S5: Phải thi hành kỷ luật | T5: Đã thi hành kỷ luật | U5: Đề nghị cấp có thẩm quyền thi hành kỷ luật
A6: 1 | B6: 2 | C6: 3 | D6: 4 | E6: 5 | F6: 6 | G6: 7 | H6: 8 | I6: 9 | J6: 10 | K6: 11 | L6: 12 | M6: 13 | N6: 14 | O6: 15 | P6: 16 | Q6: 17 | R6: 18 | S6: 19 | T6: 20 | U6: 21
A7: I | B7: Tổ chức đảng được kiểm tra | C7: =SUM(C8:C16) -> 0 | D7: =SUM(D8:D16) -> 0 | E7: =SUM(E8:E16) -> 0 | F7: =SUM(F8:F16) -> 0 | G7: =SUM(G8:G16) -> 0 | H7: =SUM(H8:H16) -> 0 | I7: =SUM(I8:I16) -> 0 | J7: =SUM(J8:J16) -> 0 | ... U7: =SUM(U8:U16) -> 0 | V7: =IF(AND(H7<=C7,I7<=C7,J7<=C7,K7<=C7,L7<=C7,M7<=C7,N7<=C7,O7<=C7,P7<=C7,Q7<=C7,R7<=C7),"Đúng","Sai") -> Đúng | W7: =IF(AND(S7<=R7,T7<=S7,U7<=S7),"Đúng","Sai") -> Đúng
B8: Các CQ tham mưu của Trung ương | C8: =SUM(D8:G8) -> 0 | V8: =IF(AND(H8<=C8,I8<=C8,J8<=C8,K8<=C8,L8<=C8,M8<=C8,N8<=C8,O8<=C8,P8<=C8,Q8<=C8,R8<=C8),"Đúng","Sai") -> Đúng | W8: =IF(AND(S8<=R8,T8<=S8,U8<=S8),"Đúng","Sai") -> Đúng
B9: Tỉnh ủy, BTV, Thường trực tỉnh ủy và tương đương | C9: =SUM(D9:G9) -> 0 | V9: =IF(AND(H9<=C9,I9<=C9,J9<=C9,K9<=C9,L9<=C9,M9<=C9,N9<=C9,O9<=C9,P9<=C9,Q9<=C9,R9<=C9),"Đúng","Sai") -> Đúng | W9: =IF(AND(S9<=R9,T9<=S9,U9<=S9),"Đúng","Sai") -> Đúng
B10: Các CQ tham mưu của cấp ủy tỉnh và tương đương | C10: =SUM(D10:G10) -> 0 | V10: =IF(AND(H10<=C10,I10<=C10,J10<=C10,K10<=C10,L10<=C10,M10<=C10,N10<=C10,O10<=C10,P10<=C10,Q10<=C10,R10<=C10),"Đúng","Sai") -> Đúng | W10: =IF(AND(S10<=R10,T10<=S10,U10<=S10),"Đúng","Sai") -> Đúng
B11: Đảng ủy, BTV ĐU cấp trên trực tiếp cơ sở và tương đương | C11: =SUM(D11:G11) -> 0 | V11: =IF(AND(H11<=C11,I11<=C11,J11<=C11,K11<=C11,L11<=C11,M11<=C11,N11<=C11,O11<=C11,P11<=C11,Q11<=C11,R11<=C11),"Đúng","Sai") -> Đúng | W11: =IF(AND(S11<=R11,T11<=S11,U11<=S11),"Đúng","Sai") -> Đúng
B12: Các CQ tham mưu của cấp ủy cấp trên trực tiếp cơ sở và tương đương | C12: =SUM(D12:G12) -> 0 | V12: =IF(AND(H12<=C12,I12<=C12,J12<=C12,K12<=C12,L12<=C12,M12<=C12,N12<=C12,O12<=C12,P12<=C12,Q12<=C12,R12<=C12),"Đúng","Sai") -> Đúng | W12: =IF(AND(S12<=R12,T12<=S12,U12<=S12),"Đúng","Sai") -> Đúng
B13: Đảng ủy cơ sở, BTV đảng ủy cơ sở | C13: =SUM(D13:G13) -> 0 | V13: =IF(AND(H13<=C13,I13<=C13,J13<=C13,K13<=C13,L13<=C13,M13<=C13,N13<=C13,O13<=C13,P13<=C13,Q13<=C13,R13<=C13),"Đúng","Sai") -> Đúng | W13: =IF(AND(S13<=R13,T13<=S13,U13<=S13),"Đúng","Sai") -> Đúng
B14: Đảng ủy bộ phận | C14: =SUM(D14:G14) -> 0 | V14: =IF(AND(H14<=C14,I14<=C14,J14<=C14,K14<=C14,L14<=C14,M14<=C14,N14<=C14,O14<=C14,P14<=C14,Q14<=C14,R14<=C14),"Đúng","Sai") -> Đúng | W14: =IF(AND(S14<=R14,T14<=S14,U14<=S14),"Đúng","Sai") -> Đúng
B15: Chi bộ, Chi ủy | C15: =SUM(D15:G15) -> 0 | V15: =IF(AND(H15<=C15,I15<=C15,J15<=C15,K15<=C15,L15<=C15,M15<=C15,N15<=C15,O15<=C15,P15<=C15,Q15<=C15,R15<=C15),"Đúng","Sai") -> Đúng | W15: =IF(AND(S15<=R15,T15<=S15,U15<=S15),"Đúng","Sai") -> Đúng
B16: Khác (ban chỉ đạo, tiểu ban, hội đồng, tổ đảng,...) | C16: =SUM(D16:G16) -> 0 | V16: =IF(AND(H16<=C16,I16<=C16,J16<=C16,K16<=C16,L16<=C16,M16<=C16,N16<=C16,O16<=C16,P16<=C16,Q16<=C16,R16<=C16),"Đúng","Sai") -> Đúng | W16: =IF(AND(S16<=R16,T16<=S16,U16<=S16),"Đúng","Sai") -> Đúng
A17: II | B17: Kết luận
B18: Số có vi phạm | C18: =SUM(D18:G18) -> 0
B19: Phải thi hành kỷ luật | C19: =SUM(D19:G19) -> 0
B20: Đã thi hành kỷ luật | C20: =SUM(D20:G20) -> 0
B21: Đề nghị cấp có thẩm quyền thi hành kỷ luật | C21: =SUM(D21:G21) -> 0
C22: =IF(AND(C20<=C19,C19<=C18,C18<=C7),"Đúng","Sai") -> Đúng | D22: =IF(AND(D20<=D19,D19<=D18,D18<=D7),"Đúng","Sai") -> Đúng | E22: =IF(AND(E20<=E19,E19<=E18,E18<=E7),"Đúng","Sai") -> Đúng | F22: =IF(AND(F20<=F19,F19<=F18,F18<=F7),"Đúng","Sai") -> Đúng | G22: =IF(AND(G20<=G19,G19<=G18,G18<=G7),"Đúng","Sai") -> Đúng | H22: =IF(AND(H20<=H19,H19<=H18,H18<=H7),"Đúng","Sai") -> Đúng | I22: =IF(AND(I20<=I19,I19<=I18,I18<=I7),"Đúng","Sai") -> Đúng | J22: =IF(AND(J20<=J19,J19<=J18,J18<=J7),"Đúng","Sai") -> Đúng | ... Q22: =IF(AND(Q20<=Q19,Q19<=Q18,Q18<=Q7),"Đúng","Sai") -> Đúng
C23: =IF(R7=C18, "Đúng", "Sai") -> Đúng
C24: =IF(S7=C19, "Đúng", "Sai") -> Đúng
C25: =IF(T7=C20, "Đúng", "Sai") -> Đúng
C26: =IF(U7=C21, "Đúng", "Sai") -> Đúng

Sheet B04
A1: KIỂM TRA ĐẢNG VIÊN KHI CÓ DẤU HIỆU VI PHẠM CỦA CẤP ỦY, BAN THƯỜNG VỤ CẤP ỦY VÀ CHI BỘ | U1: Biểu 04
A3: TT | B3: Đảng viên được kiểm tra | C3: Tổng số đảng viên được kiểm tra | D3: Cấp kiểm tra | K3: Nội dung kiểm tra | T3: Kết luận
D4: BCHTW, Bộ Chính trị, Ban Bí thư | E4: Tỉnh ủy, BTV tỉnh ủy và tương đương | F4: Đảng ủy, BTV ĐU cấp trên trực tiếp cơ sở và tương đương | G4: Đảng ủy cơ sở, BTV đảng ủy cơ sở | H4: Đảng uy bộ phận | I4: Chi bộ cơ sở | J4: Chi bộ trực thuộc | K4: Việc thực hiện những điều đảng viên không được làm | L4: Tiêu chuẩn đảng viên, tiêu chuẩn cấp ủy viên | M4: Việc thực hiện nhiệm vụ đảng viên, cấp ủy viên | N4: Việc chấp hành nghị quyết, chỉ thị, quy định, kết luận của Đảng; chính sách, pháp luật của Nhà nước | O4: Việc chấp hành quy chế làm việc, nguyên tắc tập trung dân chủ, chế độ công tác | P4: Tư tưởng chính trị, đạo đức, lối sống, trách nhiệm nêu gương | Q4: Tham nhũng, tiêu cực, lãng phí | R4: Kê khai, công khai tài sản, thu nhập | S4: Khác | T4: Số có vi phạm | U4: Trong đó
O5: Việc chấp hành nghị quyết, chỉ thị, quy định của Đảng, pháp luật của Nhà nước | U5: Phải thi hành kỷ luật | V5: Đã thi hành kỷ luật | W5: Đề nghị cấp có thẩm quyền thi hành kỷ luật
A6: 1 | B6: 2 | C6: 3 | D6: 4 | E6: 5 | F6: 6 | G6: 7 | H6: 8 | I6: 9 | J6: 10 | K6: 11 | L6: 12 | M6: 13 | N6: 14 | O6: 15 | P6: 16 | Q6: 17 | R6: 18 | S6: 19 | T6: 20 | U6: 21 | V6: 22 | W6: 23
A7: I | B7: Cấp quản lý đảng viên | C7: =SUM(C8:C11) -> 0 | D7: =SUM(D8:D11) -> 0 | E7: =SUM(E8:E11) -> 0 | F7: =SUM(F8:F11) -> 0 | G7: =SUM(G8:G11) -> 0 | H7: =SUM(H8:H11) -> 0 | I7: =SUM(I8:I11) -> 0 | J7: =SUM(J8:J11) -> 0 | ... W7: =SUM(W8:W11) -> 0 | X7: =IF(AND(K7<=C7,L7<=C7,M7<=C7,N7<=C7,O7<=C7,P7<=C7,Q7<=C7,R7<=C7,S7<=C7,T7<=C7),"Đúng","Sai") -> Đúng | Y7: =IF(AND(U7<=T7,V7<=U7,W7<=U7),"Đúng","Sai") -> Đúng
B8: Trung ương | C8: =SUM(D8:J8) -> 0 | X8: =IF(AND(K8<=C8,L8<=C8,M8<=C8,N8<=C8,O8<=C8,P8<=C8,Q8<=C8,R8<=C8,S8<=C8,T8<=C8),"Đúng","Sai") -> Đúng | Y8: =IF(AND(U8<=T8,V8<=U8,W8<=U8),"Đúng","Sai") -> Đúng
B9: Cấp tỉnh và tương đương | C9: =SUM(D9:J9) -> 0 | X9: =IF(AND(K9<=C9,L9<=C9,M9<=C9,N9<=C9,O9<=C9,P9<=C9,Q9<=C9,R9<=C9,S9<=C9,T9<=C9),"Đúng","Sai") -> Đúng | Y9: =IF(AND(U9<=T9,V9<=U9,W9<=U9),"Đúng","Sai") -> Đúng
B10: Cấp trên trực tiếp cơ sở và tương đương | C10: =SUM(D10:J10) -> 0 | X10: =IF(AND(K10<=C10,L10<=C10,M10<=C10,N10<=C10,O10<=C10,P10<=C10,Q10<=C10,R10<=C10,S10<=C10,T10<=C10),"Đúng","Sai") -> Đúng | Y10: =IF(AND(U10<=T10,V10<=U10,W10<=U10),"Đúng","Sai") -> Đúng
B11: Cấp cơ sở | C11: =SUM(D11:J11) -> 0 | X11: =IF(AND(K11<=C11,L11<=C11,M11<=C11,N11<=C11,O11<=C11,P11<=C11,Q11<=C11,R11<=C11,S11<=C11,T11<=C11),"Đúng","Sai") -> Đúng | Y11: =IF(AND(U11<=T11,V11<=U11,W11<=U11),"Đúng","Sai") -> Đúng
A12: II | B12: Là cấp uỷ viên các cấp | C12: =SUM(C13:C18) -> 0 | D12: =SUM(D13:D18) -> 0 | E12: =SUM(E13:E18) -> 0 | F12: =SUM(F13:F18) -> 0 | G12: =SUM(G13:G18) -> 0 | H12: =SUM(H13:H18) -> 0 | I12: =SUM(I13:I18) -> 0 | J12: =SUM(J13:J18) -> 0 | ... W12: =SUM(W13:W18) -> 0 | X12: =IF(AND(K12<=C12,L12<=C12,M12<=C12,N12<=C12,O12<=C12,P12<=C12,Q12<=C12,R12<=C12,S12<=C12,T12<=C12),"Đúng","Sai") -> Đúng | Y12: =IF(AND(U12<=T12,V12<=U12,W12<=U12),"Đúng","Sai") -> Đúng
B13: Uỷ viên Trung ương | C13: =SUM(D13:J13) -> 0 | X13: =IF(AND(K13<=C13,L13<=C13,M13<=C13,N13<=C13,O13<=C13,P13<=C13,Q13<=C13,R13<=C13,S13<=C13,T13<=C13),"Đúng","Sai") -> Đúng | Y13: =IF(AND(U13<=T13,V13<=U13,W13<=U13),"Đúng","Sai") -> Đúng
B14: Tỉnh uỷ viên và tương đương | C14: =SUM(D14:J14) -> 0 | X14: =IF(AND(K14<=C14,L14<=C14,M14<=C14,N14<=C14,O14<=C14,P14<=C14,Q14<=C14,R14<=C14,S14<=C14,T14<=C14),"Đúng","Sai") -> Đúng | Y14: =IF(AND(U14<=T14,V14<=U14,W14<=U14),"Đúng","Sai") -> Đúng
B15: Đảng ủy viên ĐU cấp trên trực tiếp cơ sở và tương đương | C15: =SUM(D15:J15) -> 0 | X15: =IF(AND(K15<=C15,L15<=C15,M15<=C15,N15<=C15,O15<=C15,P15<=C15,Q15<=C15,R15<=C15,S15<=C15,T15<=C15),"Đúng","Sai") -> Đúng | Y15: =IF(AND(U15<=T15,V15<=U15,W15<=U15),"Đúng","Sai") -> Đúng
B16: Đảng uỷ viên đảng ủy cơ sở | C16: =SUM(D16:J16) -> 0 | X16: =IF(AND(K16<=C16,L16<=C16,M16<=C16,N16<=C16,O16<=C16,P16<=C16,Q16<=C16,R16<=C16,S16<=C16,T16<=C16),"Đúng","Sai") -> Đúng | Y16: =IF(AND(U16<=T16,V16<=U16,W16<=U16),"Đúng","Sai") -> Đúng
B17: Đảng ủy viên đảng ủy bộ phận | C17: =SUM(D17:J17) -> 0 | X17: =IF(AND(K17<=C17,L17<=C17,M17<=C17,N17<=C17,O17<=C17,P17<=C17,Q17<=C17,R17<=C17,S17<=C17,T17<=C17),"Đúng","Sai") -> Đúng | Y17: =IF(AND(U17<=T17,V17<=U17,W17<=U17),"Đúng","Sai") -> Đúng
B18: Chi uỷ viên | C18: =SUM(D18:J18) -> 0 | X18: =IF(AND(K18<=C18,L18<=C18,M18<=C18,N18<=C18,O18<=C18,P18<=C18,Q18<=C18,R18<=C18,S18<=C18,T18<=C18),"Đúng","Sai") -> Đúng | Y18: =IF(AND(U18<=T18,V18<=U18,W18<=U18),"Đúng","Sai") -> Đúng
A19: III | B19: Đảng viên ở các lĩnh vực | C19: =SUM(C20:C26) -> 0 | D19: =SUM(D20:D26) -> 0 | E19: =SUM(E20:E26) -> 0 | F19: =SUM(F20:F26) -> 0 | G19: =SUM(G20:G26) -> 0 | H19: =SUM(H20:H26) -> 0 | I19: =SUM(I20:I26) -> 0 | J19: =SUM(J20:J26) -> 0 | ... W19: =SUM(W20:W26) -> 0 | X19: =IF(AND(K19<=C19,L19<=C19,M19<=C19,N19<=C19,O19<=C19,P19<=C19,Q19<=C19,R19<=C19,S19<=C19,T19<=C19),"Đúng","Sai") -> Đúng | Y19: =IF(AND(U19<=T19,V19<=U19,W19<=U19),"Đúng","Sai") -> Đúng
B20: Đảng | C20: =SUM(D20:J20) -> 0 | X20: =IF(AND(K20<=C20,L20<=C20,M20<=C20,N20<=C20,O20<=C20,P20<=C20,Q20<=C20,R20<=C20,S20<=C20,T20<=C20),"Đúng","Sai") -> Đúng | Y20: =IF(AND(U20<=T20,V20<=U20,W20<=U20),"Đúng","Sai") -> Đúng
B21: Hành chính, Nhà nước | C21: =SUM(D21:J21) -> 0 | X21: =IF(AND(K21<=C21,L21<=C21,M21<=C21,N21<=C21,O21<=C21,P21<=C21,Q21<=C21,R21<=C21,S21<=C21,T21<=C21),"Đúng","Sai") -> Đúng | Y21: =IF(AND(U21<=T21,V21<=U21,W21<=U21),"Đúng","Sai") -> Đúng
B22: Đoàn thể | C22: =SUM(D22:J22) -> 0 | X22: =IF(AND(K22<=C22,L22<=C22,M22<=C22,N22<=C22,O22<=C22,P22<=C22,Q22<=C22,R22<=C22,S22<=C22,T22<=C22),"Đúng","Sai") -> Đúng | Y22: =IF(AND(U22<=T22,V22<=U22,W22<=U22),"Đúng","Sai") -> Đúng
B23: Lực lượng vũ trang | C23: =SUM(D23:J23) -> 0 | X23: =IF(AND(K23<=C23,L23<=C23,M23<=C23,N23<=C23,O23<=C23,P23<=C23,Q23<=C23,R23<=C23,S23<=C23,T23<=C23),"Đúng","Sai") -> Đúng | Y23: =IF(AND(U23<=T23,V23<=U23,W23<=U23),"Đúng","Sai") -> Đúng
B24: Sự nghiệp công lập | C24: =SUM(D24:J24) -> 0 | X24: =IF(AND(K24<=C24,L24<=C24,M24<=C24,N24<=C24,O24<=C24,P24<=C24,Q24<=C24,R24<=C24,S24<=C24,T24<=C24),"Đúng","Sai") -> Đúng | Y24: =IF(AND(U24<=T24,V24<=U24,W24<=U24),"Đúng","Sai") -> Đúng
B25: Sản xuất kinh doanh, dịch vụ | C25: =SUM(D25:J25) -> 0 | X25: =IF(AND(K25<=C25,L25<=C25,M25<=C25,N25<=C25,O25<=C25,P25<=C25,Q25<=C25,R25<=C25,S25<=C25,T25<=C25),"Đúng","Sai") -> Đúng | Y25: =IF(AND(U25<=T25,V25<=U25,W25<=U25),"Đúng","Sai") -> Đúng
B26: Lĩnh vực khác | C26: =SUM(D26:J26) -> 0 | X26: =IF(AND(K26<=C26,L26<=C26,M26<=C26,N26<=C26,O26<=C26,P26<=C26,Q26<=C26,R26<=C26,S26<=C26,T26<=C26),"Đúng","Sai") -> Đúng | Y26: =IF(AND(U26<=T26,V26<=U26,W26<=U26),"Đúng","Sai") -> Đúng
A27: IV | B27: Kết luận
B28: Số có vi phạm | C28: =SUM(D28:J28) -> 0
B29: Phải thi hành kỷ luật | C29: =SUM(D29:J29) -> 0
B30: Đã thi hành kỷ luật | C30: =SUM(D30:J30) -> 0
B31: Đề nghị cấp có thẩm quyền thi hành kỷ luật | C31: =SUM(D31:J31) -> 0
C32: =IF(C7=C19, "Đúng", "Sai") -> Đúng | D32: =IF(D7=D19, "Đúng", "Sai") -> Đúng | E32: =IF(E7=E19, "Đúng", "Sai") -> Đúng | F32: =IF(F7=F19, "Đúng", "Sai") -> Đúng | G32: =IF(G7=G19, "Đúng", "Sai") -> Đúng | H32: =IF(H7=H19, "Đúng", "Sai") -> Đúng | I32: =IF(I7=I19, "Đúng", "Sai") -> Đúng | J32: =IF(J7=J19, "Đúng", "Sai") -> Đúng | ... W32: =IF(W7=W19, "Đúng", "Sai") -> Đúng
C33: =IF(AND(C30<=C29,C29<=C28,C28<=C7),"Đúng","Sai") -> Đúng | D33: =IF(AND(D30<=D29,D29<=D28,D28<=D7),"Đúng","Sai") -> Đúng | E33: =IF(AND(E30<=E29,E29<=E28,E28<=E7),"Đúng","Sai") -> Đúng | F33: =IF(AND(F30<=F29,F29<=F28,F28<=F7),"Đúng","Sai") -> Đúng | G33: =IF(AND(G30<=G29,G29<=G28,G28<=G7),"Đúng","Sai") -> Đúng | H33: =IF(AND(H30<=H29,H29<=H28,H28<=H7),"Đúng","Sai") -> Đúng | I33: =IF(AND(I30<=I29,I29<=I28,I28<=I7),"Đúng","Sai") -> Đúng | J33: =IF(AND(J30<=J29,J29<=J28,J28<=J7),"Đúng","Sai") -> Đúng | ... S33: =IF(AND(S30<=S29,S29<=S28,S28<=S7),"Đúng","Sai") -> Đúng
C34: =IF(T7=C28, "Đúng", "Sai") -> Đúng
C35: =IF(U7=C29, "Đúng", "Sai") -> Đúng
C36: =IF(V7=C30, "Đúng", "Sai") -> Đúng
C37: =IF(W7=C31, "Đúng", "Sai") -> Đúng

Sheet B05
A1: GIÁM SÁT TỔ CHỨC ĐẢNG THEO ĐIỀU 30 ĐIỀU LỆ ĐẢNG | Z1: Biểu 05
A2: (Giám sát theo chuyên đề) | W2: (ĐVT: Tổ chức đảng)
A3: TT | B3: Tổ chức đảng được giám sát | C3: Tổng số tổ chức đảng được giám sát | D3: Cấp giám sát | L3: Nội dung | Y3: Kết quả
D4: BCH Trung ương, Bộ Chính trị, BBT | E4: Các CQ tham mưu của Trung ương | F4: Tỉnh uỷ, BTV tỉnh uỷ và tương đương | G4: Các CQ tham mưu của cấp ủy tỉnh và tương đương | H4: Đảng ủy, BTV ĐU cấp trên trực tiếp cơ sở và tương đương | I4: Các CQ tham mưu của cấp ủy cấp trên trực tiếp cơ sở và tương đương | J4: Đảng ủy cơ sở, BTV Đảng ủy cơ sở | K4: Đảng ủy bộ phận | L4: Việc chấp hành Cương lĩnh chính trị, Điều lệ Đảng, chủ trương, nghị quyết, chỉ thị, quy định, quyết định, quy chế, kết luận, hướng dẫn của Đảng | M4: Việc chấp hành chính sách, pháp luật của Nhà nước | N4: Việc chấp hành các nguyên tắc tổ chức và hoạt động của Đảng, giữ gìn đoàn kết nội bộ, quy chế làm việc, chế độ công tác, thực hiện dân chủ trong Đảng | O4: Việc lãnh đạo, chỉ đạo thực hành tiết kiệm; phòng, chống tham nhũng, lãng phí, tiêu cực | P4: Việc quản lý, rèn luyện phẩm chất, đạo đức, lối sống của đảng viên | Q4: Việc lãnh đạo, chỉ đạo và tổ chức thực hiện cải cách hành chính, cải cách tư pháp | R4: Việc lãnh đạo, chỉ đạo các cơ quan bảo vệ pháp luật trong công tác điều tra, truy tố, xét xử, thi hành án | S4: Việc thực hiện chức năng, nhiệm vụ, quyền hạn thuộc lĩnh vực phụ trách và những nội dung do cấp ủy giao | T4: Việc thực hiện các thông báo kết luận kiểm tra, giám sát, thanh tra, kiểm toán | U4: Việc lãnh đạo, chỉ đạo và tổ chức thực hiện kê khai, công khai tài sản, thu nhập | V4: Công tác cán bộ | W4: Giải quyết khiếu nại, tố cáo | X4: Khác | Y4: Số tổ chức đảng thực hiện tốt | Z4: Số tổ chức đảng có hạn chế, khuyết điểm | AA4: Số tổ chức đảng chuyển kiểm tra khi có dấu hiệu vi phạm
A5: 1 | B5: 2 | C5: 3 | D5: 4 | E5: 5 | F5: 6 | G5: 7 | H5: 8 | I5: 9 | J5: 10 | K5: 11 | L5: 12 | M5: 13 | N5: 14 | O5: 15 | P5: 16 | Q5: 17 | R5: 18 | S5: 19 | T5: 20 | U5: 21 | V5: 22 | W5: 23 | X5: 24 | Y5: 25 | Z5: 26 | AA5: 27
A6: I | B6: Cộng | C6: =SUM(C7:C15) -> 2 | D6: =SUM(D7:D15) -> 0 | E6: =SUM(E7:E15) -> 0 | F6: =SUM(F7:F15) -> 0 | G6: =SUM(G7:G15) -> 0 | H6: =SUM(H7:H15) -> 0 | I6: =SUM(I7:I15) -> 0 | J6: =SUM(J7:J15) -> 2 | ... AA6: =SUM(AA7:AA15) -> 0 | AB6: =IF(AND(L6<=C6,M6<=C6,N6<=C6,O6<=C6,P6<=C6,Q6<=C6,R6<=C6,S6<=C6,V6<=C6,W6<=C6,X6<=C6),"Đúng","Sai") -> Đúng | AC6: =IF(C6=Y6+Z6,"Đúng","Sai") -> Sai | AD6: =IF(AA6<=Z6,"Đúng","Sai") -> Đúng
B7: Các CQ tham mưu của Trung ương | C7: =SUM(D7:K7) -> 0 | AB7: =IF(AND(L7<=C7,M7<=C7,N7<=C7,O7<=C7,P7<=C7,Q7<=C7,R7<=C7,S7<=C7,V7<=C7,W7<=C7,X7<=C7),"Đúng","Sai") -> Đúng | AC7: =IF(C7=Y7+Z7,"Đúng","Sai") -> Đúng | AD7: =IF(AA7<=Z7,"Đúng","Sai") -> Đúng
B8: Tỉnh ủy, BTV tỉnh ủy và tương đương | C8: =SUM(D8:K8) -> 0 | AB8: =IF(AND(L8<=C8,M8<=C8,N8<=C8,O8<=C8,P8<=C8,Q8<=C8,R8<=C8,S8<=C8,V8<=C8,W8<=C8,X8<=C8),"Đúng","Sai") -> Đúng | AC8: =IF(C8=Y8+Z8,"Đúng","Sai") -> Đúng | AD8: =IF(AA8<=Z8,"Đúng","Sai") -> Đúng
B9: Các CQ tham mưu của cấp ủy tỉnh và tương đương | C9: =SUM(D9:K9) -> 0 | AB9: =IF(AND(L9<=C9,M9<=C9,N9<=C9,O9<=C9,P9<=C9,Q9<=C9,R9<=C9,S9<=C9,V9<=C9,W9<=C9,X9<=C9),"Đúng","Sai") -> Đúng | AC9: =IF(C9=Y9+Z9,"Đúng","Sai") -> Đúng | AD9: =IF(AA9<=Z9,"Đúng","Sai") -> Đúng
B10: Đảng ủy, BTV ĐU cấp trên trực tiếp cơ sở và tương đương | C10: =SUM(D10:K10) -> 0 | AB10: =IF(AND(L10<=C10,M10<=C10,N10<=C10,O10<=C10,P10<=C10,Q10<=C10,R10<=C10,S10<=C10,V10<=C10,W10<=C10,X10<=C10),"Đúng","Sai") -> Đúng | AC10: =IF(C10=Y10+Z10,"Đúng","Sai") -> Đúng | AD10: =IF(AA10<=Z10,"Đúng","Sai") -> Đúng
B11: Các CQ tham mưu của cấp ủy cấp trên trực tiếp cơ sở và tương đương | C11: =SUM(D11:K11) -> 0 | AB11: =IF(AND(L11<=C11,M11<=C11,N11<=C11,O11<=C11,P11<=C11,Q11<=C11,R11<=C11,S11<=C11,V11<=C11,W11<=C11,X11<=C11),"Đúng","Sai") -> Đúng | AC11: =IF(C11=Y11+Z11,"Đúng","Sai") -> Đúng | AD11: =IF(AA11<=Z11,"Đúng","Sai") -> Đúng
B12: Đảng ủy cơ sở, BTV Đảng ủy cơ sở | C12: =SUM(D12:K12) -> 0 | AB12: =IF(AND(L12<=C12,M12<=C12,N12<=C12,O12<=C12,P12<=C12,Q12<=C12,R12<=C12,S12<=C12,V12<=C12,W12<=C12,X12<=C12),"Đúng","Sai") -> Đúng | AC12: =IF(C12=Y12+Z12,"Đúng","Sai") -> Đúng | AD12: =IF(AA12<=Z12,"Đúng","Sai") -> Đúng
B13: Đảng ủy bộ phận | C13: =SUM(D13:K13) -> 0 | AB13: =IF(AND(L13<=C13,M13<=C13,N13<=C13,O13<=C13,P13<=C13,Q13<=C13,R13<=C13,S13<=C13,V13<=C13,W13<=C13,X13<=C13),"Đúng","Sai") -> Đúng | AC13: =IF(C13=Y13+Z13,"Đúng","Sai") -> Đúng | AD13: =IF(AA13<=Z13,"Đúng","Sai") -> Đúng
B14: Chi bộ, Chi ủy | C14: 2 | J14: 2 | L14: 1 | N14: 1 | AB14: =IF(AND(L14<=C14,M14<=C14,N14<=C14,O14<=C14,P14<=C14,Q14<=C14,R14<=C14,S14<=C14,V14<=C14,W14<=C14,X14<=C14),"Đúng","Sai") -> Đúng | AC14: =IF(C14=Y14+Z14,"Đúng","Sai") -> Sai | AD14: =IF(AA14<=Z14,"Đúng","Sai") -> Đúng
B15: Khác (Ban Chỉ đạo, tiểu ban, hội đồng, tổ đảng...) | C15: =SUM(D15:K15) -> 0 | AB15: =IF(AND(L15<=C15,M15<=C15,N15<=C15,O15<=C15,P15<=C15,Q15<=C15,R15<=C15,S15<=C15,V15<=C15,W15<=C15,X15<=C15),"Đúng","Sai") -> Đúng | AC15: =IF(C15=Y15+Z15,"Đúng","Sai") -> Đúng | AD15: =IF(AA15<=Z15,"Đúng","Sai") -> Đúng
A16: II | B16: Kết quả | C16: =SUM(C17:C18) -> 2 | D16: =SUM(D17:D18) -> 0 | E16: =SUM(E17:E18) -> 0 | F16: =SUM(F17:F18) -> 0 | G16: =SUM(G17:G18) -> 0 | H16: =SUM(H17:H18) -> 0 | I16: =SUM(I17:I18) -> 0 | J16: =SUM(J17:J18) -> 2 | ... AA16: =SUM(AA17:AA18) -> 0
B17: Số tổ chức đảng thực hiện tốt | C17: =SUM(D17:K17) -> 2 | J17: 2 | L17: 1 | N17: 1
B18: Số tổ chức đảng có hạn chế, khuyết điểm | C18: =SUM(D18:K18) -> 0
B19: Số tổ chức đảng chuyển kiểm tra khi có DHVP | C19: =SUM(D19:K19) -> 0

Sheet B06
A1: GIÁM SÁT ĐẢNG VIÊN THEO ĐIỀU 30 ĐIỀU LỆ ĐẢNG | X1: Biểu 06
A2: (Giám sát theo chuyên đề) | X2: (ĐVT: đảng viên)
A3: TT | B3: Đảng viên được giám sát | C3: Tổng số đảng viên được giám sát | D3: Cấp giám sát | N3: Nội dung | W3: Kết quả
D4: BCH TW, Bộ Chính trị, Ban Bí thư | E4: Các CQ tham mưu của Trung ương | F4: Tỉnh ủy, BTV tỉnh uỷ và tương đương | G4: Các CQ tham mưu của cấp ủy tỉnh và tương đương | H4: Đảng ủy, BTV ĐU cấp trên trực tiếp cơ sở và tương đương | I4: Các CQ tham mưu của cấp ủy cấp trên trực tiếp cơ sở và tương đương | J4: Đảng ủy cơ sở, BTV đảng ủy cơ sở | K4: Đảng ủy bộ phận | L4: Chi bộ cơ sở | M4: Chi bộ trực thuộc | N4: Việc thực hiện những điều đảng viên không được làm | O4: Tiêu chuẩn đảng viên, tiêu chuẩn cấp ủy viên | P4: Việc thực hiện nhiệm vụ đảng viên, nhiệm vụ cấp ủy viên | Q4: Việc chấp hành nghị quyết, chỉ thị, quy định, kết luận của Đảng; chính sách, pháp luật của Nhà nước | R4: Việc chấp hành quy chế làm việc, nguyên tắc tập trung dân chủ, chế độ công tác | S4: Tư tưởng chính trị, giữ gìn đạo đức, lối sống, trách nhiệm nêu gương | T4: Việc thực hiện các thông báo kết luận kiểm tra, giám sát, thanh tra, kiểm toán | U4: Kê khai tài sản, thu nhập | V4: Khác | W4: Số đảng viên thực hiện tốt | X4: Số đảng viên có hạn chế, khuyết điểm | Y4: Số đảng viên chuyển kiểm tra khi có dấu hiệu vi phạm
A5: 1 | B5: 2 | C5: 3 | D5: 4 | E5: 5 | F5: 6 | G5: 7 | H5: 8 | I5: 9 | J5: 10 | K5: 11 | L5: 12 | M5: 13 | N5: 14 | O5: 15 | P5: 16 | Q5: 17 | R5: 18 | S5: 19 | T5: 20 | U5: 21 | V5: 22 | W5: 23 | X5: 24 | Y5: 25
A6: I | B6: Cấp quản lý đảng viên | C6: =SUM(C7:C10) -> 26 | D6: =SUM(D7:D10) -> 0 | E6: =SUM(E7:E10) -> 0 | F6: =SUM(F7:F10) -> 0 | G6: =SUM(G7:G10) -> 0 | H6: =SUM(H7:H10) -> 0 | I6: =SUM(I7:I10) -> 0 | J6: =SUM(J7:J10) -> 1 | ... Y6: =SUM(Y7:Y10) -> 0 | Z6: =IF(AND(N6<=C6,O6<=C6,P6<=C6,Q6<=C6,R6<=C6,S6<=C6,U6<=C6,V6<=C6),"Đúng","Sai") -> Đúng | AA6: =IF(C6=W6+X6,"Đúng","Sai") -> Đúng | AB6: =IF(Y6<=X6,"Đúng","Sai") -> Đúng
B7: Trung ương | C7: =SUM(D7:M7) -> 0 | Z7: =IF(AND(N7<=C7,O7<=C7,P7<=C7,Q7<=C7,R7<=C7,S7<=C7,U7<=C7,V7<=C7),"Đúng","Sai") -> Đúng | AA7: =IF(C7=W7+X7,"Đúng","Sai") -> Đúng | AB7: =IF(Y7<=X7,"Đúng","Sai") -> Đúng
B8: Cấp tỉnh và tương đương | C8: =SUM(D8:M8) -> 0 | Z8: =IF(AND(N8<=C8,O8<=C8,P8<=C8,Q8<=C8,R8<=C8,S8<=C8,U8<=C8,V8<=C8),"Đúng","Sai") -> Đúng | AA8: =IF(C8=W8+X8,"Đúng","Sai") -> Đúng | AB8: =IF(Y8<=X8,"Đúng","Sai") -> Đúng
B9: Cấp trên trực tiếp cơ sở và tương đương | C9: =SUM(D9:M9) -> 0 | Z9: =IF(AND(N9<=C9,O9<=C9,P9<=C9,Q9<=C9,R9<=C9,S9<=C9,U9<=C9,V9<=C9),"Đúng","Sai") -> Đúng | AA9: =IF(C9=W9+X9,"Đúng","Sai") -> Đúng | AB9: =IF(Y9<=X9,"Đúng","Sai") -> Đúng
B10: Cấp cơ sở | C10: =SUM(N10:V10) -> 26 | J10: 1 | L10: 0 | M10: 25 | N10: 6 | P10: 2 | Q10: 7 | R10: 3 | S10: 5 | V10: 3 | W10: 26 | Z10: =IF(AND(N10<=C10,O10<=C10,P10<=C10,Q10<=C10,R10<=C10,S10<=C10,U10<=C10,V10<=C10),"Đúng","Sai") -> Đúng | AA10: =IF(C10=W10+X10,"Đúng","Sai") -> Đúng | AB10: =IF(Y10<=X10,"Đúng","Sai") -> Đúng
A11: II | B11: Cấp ủy viên các cấp | C11: =SUM(N11:V11) -> 3 | D11: =D12+D13+D16+D19+D20+D21 -> 0 | E11: =E12+E13+E16+E19+E20+E21 -> 0 | F11: =F12+F13+F16+F19+F20+F21 -> 0 | G11: =G12+G13+G16+G19+G20+G21 -> 0 | H11: =H12+H13+H16+H19+H20+H21 -> 0 | I11: =I12+I13+I16+I19+I20+I21 -> 0 | J11: =J12+J13+J16+J19+J20+J21 -> 1 | K11: =K12+K13+K16+K19+K20+K21 -> 0 | ... Y11: =Y12+Y13+Y16+Y19+Y20+Y21 -> 0 | Z11: =IF(AND(N11<=C11,O11<=C11,P11<=C11,Q11<=C11,R11<=C11,S11<=C11,U11<=C11,V11<=C11),"Đúng","Sai") -> Đúng | AA11: =IF(C11=W11+X11,"Đúng","Sai") -> Sai | AB11: =IF(Y11<=X11,"Đúng","Sai") -> Đúng
B12: Uỷ viên Trung ương | C12: =SUM(N12:V12) -> 0 | Z12: =IF(AND(N12<=C12,O12<=C12,P12<=C12,Q12<=C12,R12<=C12,S12<=C12,U12<=C12,V12<=C12),"Đúng","Sai") -> Đúng | AA12: =IF(C12=W12+X12,"Đúng","Sai") -> Đúng | AB12: =IF(Y12<=X12,"Đúng","Sai") -> Đúng
B13: Tỉnh ủy viên và tương đương | C13: =SUM(N13:V13) -> 0 | Z13: =IF(AND(N13<=C13,O13<=C13,P13<=C13,Q13<=C13,R13<=C13,S13<=C13,U13<=C13,V13<=C13),"Đúng","Sai") -> Đúng | AA13: =IF(C13=W13+X13,"Đúng","Sai") -> Đúng | AB13: =IF(Y13<=X13,"Đúng","Sai") -> Đúng
B14: Trong đó: Bí thư | C14: =SUM(N14:V14) -> 0 | Z14: =IF(AND(N14<=C14,O14<=C14,P14<=C14,Q14<=C14,R14<=C14,S14<=C14,U14<=C14,V14<=C14),"Đúng","Sai") -> Đúng | AA14: =IF(C14=W14+X14,"Đúng","Sai") -> Đúng | AB14: =IF(Y14<=X14,"Đúng","Sai") -> Đúng
B15: Phó Bí thư | C15: =SUM(N15:V15) -> 0 | Z15: =IF(AND(N15<=C15,O15<=C15,P15<=C15,Q15<=C15,R15<=C15,S15<=C15,U15<=C15,V15<=C15),"Đúng","Sai") -> Đúng | AA15: =IF(C15=W15+X15,"Đúng","Sai") -> Đúng | AB15: =IF(Y15<=X15,"Đúng","Sai") -> Đúng
B16: Đảng ủy viên ĐU cấp trên trực tiếp cơ sở và tương đương | C16: =SUM(N16:V16) -> 0 | Z16: =IF(AND(N16<=C16,O16<=C16,P16<=C16,Q16<=C16,R16<=C16,S16<=C16,U16<=C16,V16<=C16),"Đúng","Sai") -> Đúng | AA16: =IF(C16=W16+X16,"Đúng","Sai") -> Đúng | AB16: =IF(Y16<=X16,"Đúng","Sai") -> Đúng
B17: Trong đó: Bí thư | C17: =SUM(N17:V17) -> 0 | Z17: =IF(AND(N17<=C17,O17<=C17,P17<=C17,Q17<=C17,R17<=C17,S17<=C17,U17<=C17,V17<=C17),"Đúng","Sai") -> Đúng | AA17: =IF(C17=W17+X17,"Đúng","Sai") -> Đúng | AB17: =IF(Y17<=X17,"Đúng","Sai") -> Đúng
B18: Phó Bí thư | C18: =SUM(N18:V18) -> 0 | Z18: =IF(AND(N18<=C18,O18<=C18,P18<=C18,Q18<=C18,R18<=C18,S18<=C18,U18<=C18,V18<=C18),"Đúng","Sai") -> Đúng | AA18: =IF(C18=W18+X18,"Đúng","Sai") -> Đúng | AB18: =IF(Y18<=X18,"Đúng","Sai") -> Đúng
B19: Đảng uỷ viên đảng ủy cơ sở | C19: =SUM(N19:V19) -> 1 | J19: 1 | R19: 1 | Z19: =IF(AND(N19<=C19,O19<=C19,P19<=C19,Q19<=C19,R19<=C19,S19<=C19,U19<=C19,V19<=C19),"Đúng","Sai") -> Đúng | AA19: =IF(C19=W19+X19,"Đúng","Sai") -> Sai | AB19: =IF(Y19<=X19,"Đúng","Sai") -> Đúng
B20: Đảng ủy viên đảng ủy bộ phận | C20: =SUM(N20:V20) -> 0 | Z20: =IF(AND(N20<=C20,O20<=C20,P20<=C20,Q20<=C20,R20<=C20,S20<=C20,U20<=C20,V20<=C20),"Đúng","Sai") -> Đúng | AA20: =IF(C20=W20+X20,"Đúng","Sai") -> Đúng | AB20: =IF(Y20<=X20,"Đúng","Sai") -> Đúng
B21: Chi uỷ viên | C21: =SUM(N21:V21) -> 2 | M21: 2 | N21: 1 | S21: 1 | Z21: =IF(AND(N21<=C21,O21<=C21,P21<=C21,Q21<=C21,R21<=C21,S21<=C21,U21<=C21,V21<=C21),"Đúng","Sai") -> Đúng | AA21: =IF(C21=W21+X21,"Đúng","Sai") -> Sai | AB21: =IF(Y21<=X21,"Đúng","Sai") -> Đúng
A22: III | B22: Đảng viên ở các lĩnh vực | C22: =SUM(N22:V22) -> 26 | D22: =SUM(D23:D29) -> 0 | E22: =SUM(E23:E29) -> 0 | F22: =SUM(F23:F29) -> 0 | G22: =SUM(G23:G29) -> 0 | H22: =SUM(H23:H29) -> 0 | I22: =SUM(I23:I29) -> 0 | J22: =SUM(J23:J29) -> 1 | K22: =SUM(K23:K29) -> 0 | ... Y22: =SUM(Y23:Y29) -> 0 | Z22: =IF(AND(N22<=C22,O22<=C22,P22<=C22,Q22<=C22,R22<=C22,S22<=C22,U22<=C22,V22<=C22),"Đúng","Sai") -> Đúng | AA22: =IF(C22=W22+X22,"Đúng","Sai") -> Đúng | AB22: =IF(Y22<=X22,"Đúng","Sai") -> Đúng
B23: Đảng | C23: =SUM(N23:V23) -> 0 | Z23: =IF(AND(N23<=C23,O23<=C23,P23<=C23,Q23<=C23,R23<=C23,S23<=C23,U23<=C23,V23<=C23),"Đúng","Sai") -> Đúng | AA23: =IF(C23=W23+X23,"Đúng","Sai") -> Đúng | AB23: =IF(Y23<=X23,"Đúng","Sai") -> Đúng
B24: Hành chính, Nhà nước | C24: =SUM(N24:V24) -> 26 | J24: 1 | L24: 0 | M24: 25 | N24: 6 | P24: 2 | Q24: 7 | R24: 3 | S24: 5 | V24: 3 | W24: 26 | Z24: =IF(AND(N24<=C24,O24<=C24,P24<=C24,Q24<=C24,R24<=C24,S24<=C24,U24<=C24,V24<=C24),"Đúng","Sai") -> Đúng | AA24: =IF(C24=W24+X24,"Đúng","Sai") -> Đúng | AB24: =IF(Y24<=X24,"Đúng","Sai") -> Đúng
B25: Đoàn thể | C25: =SUM(N25:V25) -> 0 | Z25: =IF(AND(N25<=C25,O25<=C25,P25<=C25,Q25<=C25,R25<=C25,S25<=C25,U25<=C25,V25<=C25),"Đúng","Sai") -> Đúng | AA25: =IF(C25=W25+X25,"Đúng","Sai") -> Đúng | AB25: =IF(Y25<=X25,"Đúng","Sai") -> Đúng
B26: Lực lượng vũ trang | C26: =SUM(N26:V26) -> 0 | Z26: =IF(AND(N26<=C26,O26<=C26,P26<=C26,Q26<=C26,R26<=C26,S26<=C26,U26<=C26,V26<=C26),"Đúng","Sai") -> Đúng | AA26: =IF(C26=W26+X26,"Đúng","Sai") -> Đúng | AB26: =IF(Y26<=X26,"Đúng","Sai") -> Đúng
B27: Sự nghiệp công lập | C27: =SUM(N27:V27) -> 0 | Z27: =IF(AND(N27<=C27,O27<=C27,P27<=C27,Q27<=C27,R27<=C27,S27<=C27,U27<=C27,V27<=C27),"Đúng","Sai") -> Đúng | AA27: =IF(C27=W27+X27,"Đúng","Sai") -> Đúng | AB27: =IF(Y27<=X27,"Đúng","Sai") -> Đúng
B28: Sản xuất kinh doanh, dịch vụ | C28: =SUM(N28:V28) -> 0 | Z28: =IF(AND(N28<=C28,O28<=C28,P28<=C28,Q28<=C28,R28<=C28,S28<=C28,U28<=C28,V28<=C28),"Đúng","Sai") -> Đúng | AA28: =IF(C28=W28+X28,"Đúng","Sai") -> Đúng | AB28: =IF(Y28<=X28,"Đúng","Sai") -> Đúng
B29: Các lĩnh vực khác | C29: =SUM(N29:V29) -> 0 | Z29: =IF(AND(N29<=C29,O29<=C29,P29<=C29,Q29<=C29,R29<=C29,S29<=C29,U29<=C29,V29<=C29),"Đúng","Sai") -> Đúng | AA29: =IF(C29=W29+X29,"Đúng","Sai") -> Đúng | AB29: =IF(Y29<=X29,"Đúng","Sai") -> Đúng
A30: IV | B30: Kết quả | C30: =SUM(N30:V30) -> 0 | D30: =SUM(D31:D32) -> 0 | E30: =SUM(E31:E32) -> 0 | F30: =SUM(F31:F32) -> 0 | G30: =SUM(G31:G32) -> 0 | H30: =SUM(H31:H32) -> 0 | I30: =SUM(I31:I32) -> 0 | J30: =SUM(J31:J32) -> 1 | K30: =SUM(K31:K32) -> 0 | ... M30: =SUM(M31:M32) -> 26
B31: Số đảng viên thực hiện tốt | C31: =SUM(N31:V31) -> 26 | J31: 1 | M31: 26 | N31: 6 | P31: 2 | Q31: 7 | R31: 3 | S31: 5 | V31: 3 | W31: 26
B32: Số đảng viên có hạn chế, khuyết điểm | C32: =SUM(N32:V32) -> 0
B33: Số đảng viên chuyển kiểm tra DHVP | C33: =SUM(N33:V33) -> 0
C35: =IF(AND(C6=C22,C22=C30), "Đúng", "Sai") -> Sai | D35: =IF(AND(D6=D22,D22=D30), "Đúng", "Sai") -> Đúng | E35: =IF(AND(E6=E22,E22=E30), "Đúng", "Sai") -> Đúng | F35: =IF(AND(F6=F22,F22=F30), "Đúng", "Sai") -> Đúng | G35: =IF(AND(G6=G22,G22=G30), "Đúng", "Sai") -> Đúng | H35: =IF(AND(H6=H22,H22=H30), "Đúng", "Sai") -> Đúng | I35: =IF(AND(I6=I22,I22=I30), "Đúng", "Sai") -> Đúng | J35: =IF(AND(J6=J22,J22=J30), "Đúng", "Sai") -> Đúng | ... M35: =IF(AND(M6=M22,M22=M30), "Đúng", "Sai") -> Sai | N35: =IF(N6=N22, "Đúng", "Sai") -> Đúng | O35: =IF(O6=O22, "Đúng", "Sai") -> Đúng | P35: =IF(P6=P22, "Đúng", "Sai") -> Đúng | Q35: =IF(Q6=Q22, "Đúng", "Sai") -> Đúng | R35: =IF(R6=R22, "Đúng", "Sai") -> Đúng | S35: =IF(S6=S22, "Đúng", "Sai") -> Đúng | T35: =IF(T6=T22, "Đúng", "Sai") -> Đúng | U35: =IF(U6=U22, "Đúng", "Sai") -> Đúng | ... Y35: =IF(Y6=Y22, "Đúng", "Sai") -> Đúng

Sheet B07
A1: THI HÀNH KỶ LUẬT TỔ CHỨC ĐẢNG CỦA CẤP ỦY CÁC CẤP | R1: Biểu 07
Q2: (ĐVT: Tổ chức đảng)
A3: TT | B3: Tổ chức đảng bị thi hành kỷ luật | C3: Tổng số tổ chức đảng bị thi hành kỷ luật | D3: Hình thức kỷ luật | G3: Cấp thi hành kỷ luật | K3: Nội dung vi phạm
D4: Khiển trách | E4: Cảnh cáo | F4: Giải tán | G4: BCHTW, Bộ Chính trị, Ban Bí thư | H4: Tỉnh uỷ, BTV tỉnh uỷ và tương đương | I4: Đảng ủy, BTV ĐU cấp trên trực tiếp cơ sở và tương đương | J4: Đảng uỷ cơ sở, BTV Đảng uỷ cơ sở | K4: Việc chấp hành Cương lĩnh chính trị, Điều lệ Đảng, chủ trương, nghị quyết, chỉ thị, quy định, quyết định, quy chế, kết luận, hướng dẫn của Đảng | L4: Việc chấp hành chính sách, pháp luật của Nhà nước | M4: Việc chấp hành các nguyên tắc tổ chức và hoạt động của Đảng, giữ gìn đoàn kết nội bộ, quy chế làm việc, chế độ công tác, thực hiện dân chủ trong Đảng | N4: Việc lãnh đạo, chỉ đạo thực hành tiết kiệm; phòng, chống tham nhũng, lãng phí; quản lý, tèn luyện phẩm chất, đạo đức, lối sống của đảng viên | O4: Việc lãnh đạo, chỉ đạo và tổ chức thực hiện cải cách hành chính, cải cách tư pháp | P4: Việc lãnh đạo, chỉ đạo các cơ quan bảo vệ pháp luật trong công tác điều tra, truy tố, xét xử, thi hành án | Q4: Công tác cán bộ | R4: Giải quyết khiếu nại, tố cáo | S4: Khác
A5: 1 | B5: 2 | C5: 3 | D5: 4 | E5: 5 | F5: 6 | G5: 7 | H5: 8 | I5: 9 | J5: 10 | K5: 11 | L5: 12 | M5: 13 | N5: 14 | O5: 15 | P5: 16 | Q5: 17 | R5: 18 | S5: 19
A6: I | B6: Tổ chức đảng bị THKL | C6: =SUM(C7:C15) -> 0 | D6: =SUM(D7:D15) -> 0 | E6: =SUM(E7:E15) -> 0 | F6: =SUM(F7:F15) -> 0 | G6: =SUM(G7:G15) -> 0 | H6: =SUM(H7:H15) -> 0 | I6: =SUM(I7:I15) -> 0 | J6: =SUM(J7:J15) -> 0 | ... S6: =SUM(S7:S15) -> 0 | T6: =IF((C6=SUM(G6:J6)),"Đúng","Sai") -> Đúng | U6: =IF(AND(K6<=C6,L6<=C6,M6<=C6,N6<=C6,O6<=C6,P6<=C6,Q6<=C6,R6<=C6,S6<=C6),"Đúng","Sai") -> Đúng
B7: Các CQ tham mưu của Trung ương | C7: =SUM(D7:F7) -> 0 | T7: =IF((C7=SUM(G7:J7)),"Đúng","Sai") -> Đúng | U7: =IF(AND(K7<=C7,L7<=C7,M7<=C7,N7<=C7,O7<=C7,P7<=C7,Q7<=C7,R7<=C7,S7<=C7),"Đúng","Sai") -> Đúng
B8: Tỉnh uỷ, BTV tỉnh uỷ và tương đương | C8: =SUM(D8:F8) -> 0 | T8: =IF((C8=SUM(G8:J8)),"Đúng","Sai") -> Đúng | U8: =IF(AND(K8<=C8,L8<=C8,M8<=C8,N8<=C8,O8<=C8,P8<=C8,Q8<=C8,R8<=C8,S8<=C8),"Đúng","Sai") -> Đúng
B9: Các CQ tham mưu của cấp ủy tỉnh và tương đương | C9: =SUM(D9:F9) -> 0 | T9: =IF((C9=SUM(G9:J9)),"Đúng","Sai") -> Đúng | U9: =IF(AND(K9<=C9,L9<=C9,M9<=C9,N9<=C9,O9<=C9,P9<=C9,Q9<=C9,R9<=C9,S9<=C9),"Đúng","Sai") -> Đúng
B10: Đảng ủy, BTV ĐU cấp trên trực tiếp cơ sở và tương đương | C10: =SUM(D10:F10) -> 0 | T10: =IF((C10=SUM(G10:J10)),"Đúng","Sai") -> Đúng | U10: =IF(AND(K10<=C10,L10<=C10,M10<=C10,N10<=C10,O10<=C10,P10<=C10,Q10<=C10,R10<=C10,S10<=C10),"Đúng","Sai") -> Đúng
B11: Các CQ tham mưu của cấp ủy cấp trên trực tiếp cơ sở và tương đương | C11: =SUM(D11:F11) -> 0 | T11: =IF((C11=SUM(G11:J11)),"Đúng","Sai") -> Đúng | U11: =IF(AND(K11<=C11,L11<=C11,M11<=C11,N11<=C11,O11<=C11,P11<=C11,Q11<=C11,R11<=C11,S11<=C11),"Đúng","Sai") -> Đúng
B12: Đảng uỷ cơ sở, BTV đảng ủy cơ sở | C12: =SUM(D12:F12) -> 0 | T12: =IF((C12=SUM(G12:J12)),"Đúng","Sai") -> Đúng | U12: =IF(AND(K12<=C12,L12<=C12,M12<=C12,N12<=C12,O12<=C12,P12<=C12,Q12<=C12,R12<=C12,S12<=C12),"Đúng","Sai") -> Đúng
B13: Đảng uỷ bộ phận | C13: =SUM(D13:F13) -> 0 | T13: =IF((C13=SUM(G13:J13)),"Đúng","Sai") -> Đúng | U13: =IF(AND(K13<=C13,L13<=C13,M13<=C13,N13<=C13,O13<=C13,P13<=C13,Q13<=C13,R13<=C13,S13<=C13),"Đúng","Sai") -> Đúng
B14: Chi bộ, Chi ủy | C14: =SUM(D14:F14) -> 0 | T14: =IF((C14=SUM(G14:J14)),"Đúng","Sai") -> Đúng | U14: =IF(AND(K14<=C14,L14<=C14,M14<=C14,N14<=C14,O14<=C14,P14<=C14,Q14<=C14,R14<=C14,S14<=C14),"Đúng","Sai") -> Đúng
B15: Khác (ban chỉ đạo, tiểu ban, hội đồng,..) | C15: =SUM(D15:F15) -> 0 | T15: =IF((C15=SUM(G15:J15)),"Đúng","Sai") -> Đúng | U15: =IF(AND(K15<=C15,L15<=C15,M15<=C15,N15<=C15,O15<=C15,P15<=C15,Q15<=C15,R15<=C15,S15<=C15),"Đúng","Sai") -> Đúng
A16: II | B16: Bị THKT từ nhiệm vụ | C16: =SUM(C17:C20) -> 0 | D16: =SUM(D17:D20) -> 0 | E16: =SUM(E17:E20) -> 0 | F16: =SUM(F17:F20) -> 0 | G16: =SUM(G17:G20) -> 0 | H16: =SUM(H17:H20) -> 0 | I16: =SUM(I17:I20) -> 0 | J16: =SUM(J17:J20) -> 0 | ... S16: =SUM(S17:S20) -> 0 | T16: =IF((C16=SUM(G16:J16)),"Đúng","Sai") -> Đúng | U16: =IF(AND(K16<=C16,L16<=C16,M16<=C16,N16<=C16,O16<=C16,P16<=C16,Q16<=C16,R16<=C16,S16<=C16),"Đúng","Sai") -> Đúng
B17: Kiểm tra theo Điều 30 của ĐLĐ | C17: =SUM(D17:F17) -> 0 | T17: =IF((C17=SUM(G17:J17)),"Đúng","Sai") -> Đúng | U17: =IF(AND(K17<=C17,L17<=C17,M17<=C17,N17<=C17,O17<=C17,P17<=C17,Q17<=C17,R17<=C17,S17<=C17),"Đúng","Sai") -> Đúng
B18: Kiểm tra khi có DHVP của BTV cấp ủy và chi bộ | C18: =SUM(D18:F18) -> 0 | T18: =IF((C18=SUM(G18:J18)),"Đúng","Sai") -> Đúng | U18: =IF(AND(K18<=C18,L18<=C18,M18<=C18,N18<=C18,O18<=C18,P18<=C18,Q18<=C18,R18<=C18,S18<=C18),"Đúng","Sai") -> Đúng
B19: Giải quyết tố cáo của cấp ủy các cấp | C19: =SUM(D19:F19) -> 0 | T19: =IF((C19=SUM(G19:J19)),"Đúng","Sai") -> Đúng | U19: =IF(AND(K19<=C19,L19<=C19,M19<=C19,N19<=C19,O19<=C19,P19<=C19,Q19<=C19,R19<=C19,S19<=C19),"Đúng","Sai") -> Đúng
B20: Khác (từ đề nghị của TCĐ, UBKT cấp dưới, từ chỉ đạo của cấp trên giao...) | C20: =SUM(D20:F20) -> 0 | T20: =IF((C20=SUM(G20:J20)),"Đúng","Sai") -> Đúng | U20: =IF(AND(K20<=C20,L20<=C20,M20<=C20,N20<=C20,O20<=C20,P20<=C20,Q20<=C20,R20<=C20,S20<=C20),"Đúng","Sai") -> Đúng
A21: III | B21: Cấp thi hành kỷ luật | C21: =SUM(C22:C25) -> 0 | D21: =SUM(D22:D25) -> 0 | E21: =SUM(E22:E25) -> 0 | F21: =SUM(F22:F25) -> 0
B22: BCHTW, Bộ Chính trị, Ban Bí thư | C22: =SUM(D22:F22) -> 0
B23: Tỉnh uỷ, BTV tỉnh uỷ và tương đương | C23: =SUM(D23:F23) -> 0
B24: Đảng ủy, BTV ĐU cấp trên trực tiếp cơ sở và tương đương | C24: =SUM(D24:F24) -> 0
B25: Đảng uỷ cơ sở, BTV Đảng uỷ cơ sở | C25: =SUM(D25:F25) -> 0
C26: =IF(C6=C16,"Đúng","Sai") -> Đúng | D26: =IF(D6=D16,"Đúng","Sai") -> Đúng | E26: =IF(E6=E16,"Đúng","Sai") -> Đúng | F26: =IF(F6=F16,"Đúng","Sai") -> Đúng | G26: =IF(G6=G16,"Đúng","Sai") -> Đúng | H26: =IF(H6=H16,"Đúng","Sai") -> Đúng | I26: =IF(I6=I16,"Đúng","Sai") -> Đúng | J26: =IF(J6=J16,"Đúng","Sai") -> Đúng | ... S26: =IF(S6=S16,"Đúng","Sai") -> Đúng

Sheet B08
A1: THI HÀNH KỶ LUẬT ĐẢNG VIÊN CỦA CẤP ỦY CÁC CẤP VÀ CHI BỘ | AB1: Biểu 08
Z2: (ĐVT: lượt đảng viên)
A3: TT | B3: Đảng viên bị thi hành kỷ luật | C3: Tổng số đảng viên bị THKL | D3: Hình thức kỷ luật | H3: Đình chỉ sinh hoạt đảng | I3: Đình chỉ sinh hoạt cấp ủy viên | J3: Xóa tên, cho rút | K3: Cấp thi hành kỷ luật | Q3: Nội dung vi phạm | Z3: Xử lý pháp luật | AC3: Xử lý hành chính | AD3: Xử lý đoàn thể
D4: Khiển trách | E4: Cảnh cáo | F4: Cách chức | G4: Khai trừ | K4: BCHTW, Bộ Chính trị, Ban Bí thư | L4: Tỉnh uỷ, BTV tỉnh uỷ và tương đương | M4: Đảng ủy, BTV ĐU cấp trên trực tiếp cơ sở và tương đương | N4: Đảng uỷ cơ sở , BTV đảng ủy cơ sở | O4: Chi bộ cơ sở | P4: Chi bộ trực thuộc | Q4: Những điều đảng viên không được làm | R4: Tiêu chuẩn đảng viên, tiêu chuẩn cấp ủy viên | S4: Việc thực hiện nhiệm vụ đảng viên, cấp ủy viên | T4: Việc chấp hành nghị quyết, chỉ thị, quy định, kết luận của Đảng; chính sách, pháp luật của Nhà nước | U4: Việc chấp hành quy chế làm việc, nguyên tắc tập trung dân chủ, chế độ công tác | V4: Tư tưởng chính trị, đạo đức, lối sống, trách nhiệm nêu gương | W4: Tham nhũng, tiêu cực, lãng phí | X4: Kê khai tài sản, thu nhập | Y4: Khác | Z4: Số lượng | AA4: Trong đó
AA5: Bị phạt tù (kể cả án treo) | AB5: Hình thức khác
A6: 1 | B6: 2 | C6: 3 | D6: 4 | E6: 5 | F6: 6 | G6: 7 | H6: 8 | I6: 9 | J6: 10 | K6: 11 | L6: 12 | M6: 13 | N6: 14 | O6: 15 | P6: 16 | Q6: 17 | R6: 18 | S6: 19 | T6: 20 | U6: 21 | V6: 22 | W6: 23 | X6: 24 | Y6: 25 | Z6: 26 | AA6: 27 | AB6: 28 | AC6: 29 | AD6: 30
A7: I | B7: Cấp quản lý đảng viên | C7: =SUM(C8:C11) -> 0 | D7: =SUM(D8:D11) -> 0 | E7: =SUM(E8:E11) -> 0 | F7: =SUM(F8:F11) -> 0 | G7: =SUM(G8:G11) -> 0 | H7: =SUM(H8:H11) -> 0 | I7: =SUM(I8:I11) -> 0 | J7: =SUM(J8:J11) -> 0 | ... AD7: =SUM(AD8:AD11) -> 0 | AE7: =IF(C7=(SUM(K7:P7)),"Đúng","Sai") -> Đúng | AF7: =IF(AND(Q7<=C7,R7<=C7,S7<=C7,T7<=C7,U7<=C7,V7<=C7,W7<=C7,Y7<=C7,X7<=C7),"Đúng","Sai") -> Đúng | AG7: =IF(Z7=AA7+AB7,"Đúng","Sai") -> Đúng
B8: Trung ương | C8: =SUM(D8:G8) -> 0 | AE8: =IF(C8=(SUM(K8:P8)),"Đúng","Sai") -> Đúng | AF8: =IF(AND(Q8<=C8,R8<=C8,S8<=C8,T8<=C8,U8<=C8,V8<=C8,W8<=C8,Y8<=C8,X8<=C8),"Đúng","Sai") -> Đúng | AG8: =IF(Z8=AA8+AB8,"Đúng","Sai") -> Đúng
B9: Cấp tỉnh và tương đương | C9: =SUM(D9:G9) -> 0 | AE9: =IF(C9=(SUM(K9:P9)),"Đúng","Sai") -> Đúng | AF9: =IF(AND(Q9<=C9,R9<=C9,S9<=C9,T9<=C9,U9<=C9,V9<=C9,W9<=C9,Y9<=C9,X9<=C9),"Đúng","Sai") -> Đúng | AG9: =IF(Z9=AA9+AB9,"Đúng","Sai") -> Đúng
B10: Cấp trên trực tiếp cơ sở và tương đương | C10: =SUM(D10:G10) -> 0 | AE10: =IF(C10=(SUM(K10:P10)),"Đúng","Sai") -> Đúng | AF10: =IF(AND(Q10<=C10,R10<=C10,S10<=C10,T10<=C10,U10<=C10,V10<=C10,W10<=C10,Y10<=C10,X10<=C10),"Đúng","Sai") -> Đúng | AG10: =IF(Z10=AA10+AB10,"Đúng","Sai") -> Đúng
B11: Cấp cơ sở | C11: =SUM(D11:G11) -> 0 | AE11: =IF(C11=(SUM(K11:P11)),"Đúng","Sai") -> Đúng | AF11: =IF(AND(Q11<=C11,R11<=C11,S11<=C11,T11<=C11,U11<=C11,V11<=C11,W11<=C11,Y11<=C11,X11<=C11),"Đúng","Sai") -> Đúng | AG11: =IF(Z11=AA11+AB11,"Đúng","Sai") -> Đúng
A12: II | B12: Là cấp uỷ viên các cấp | C12: =SUM(C13:C18) -> 0 | D12: =SUM(D13:D18) -> 0 | E12: =SUM(E13:E18) -> 0 | F12: =SUM(F13:F18) -> 0 | G12: =SUM(G13:G18) -> 0 | H12: =SUM(H13:H18) -> 0 | I12: =SUM(I13:I18) -> 0 | J12: =SUM(J13:J18) -> 0 | ... AD12: =SUM(AD13:AD18) -> 0 | AE12: =IF(C12=(SUM(K12:P12)),"Đúng","Sai") -> Đúng | AF12: =IF(AND(Q12<=C12,R12<=C12,S12<=C12,T12<=C12,U12<=C12,V12<=C12,W12<=C12,Y12<=C12,X12<=C12),"Đúng","Sai") -> Đúng | AG12: =IF(Z12=AA12+AB12,"Đúng","Sai") -> Đúng
B13: Uỷ viên Trung ương | C13: =SUM(D13:G13) -> 0 | AE13: =IF(C13=(SUM(K13:P13)),"Đúng","Sai") -> Đúng | AF13: =IF(AND(Q13<=C13,R13<=C13,S13<=C13,T13<=C13,U13<=C13,V13<=C13,W13<=C13,Y13<=C13,X13<=C13),"Đúng","Sai") -> Đúng | AG13: =IF(Z13=AA13+AB13,"Đúng","Sai") -> Đúng
B14: Tỉnh ủy viên và tương đương | C14: =SUM(D14:G14) -> 0 | AE14: =IF(C14=(SUM(K14:P14)),"Đúng","Sai") -> Đúng | AF14: =IF(AND(Q14<=C14,R14<=C14,S14<=C14,T14<=C14,U14<=C14,V14<=C14,W14<=C14,Y14<=C14,X14<=C14),"Đúng","Sai") -> Đúng | AG14: =IF(Z14=AA14+AB14,"Đúng","Sai") -> Đúng
B15: Đảng ủy viên ĐU cấp trên trực tiếp cơ sở và tương đương | C15: =SUM(D15:G15) -> 0 | AE15: =IF(C15=(SUM(K15:P15)),"Đúng","Sai") -> Đúng | AF15: =IF(AND(Q15<=C15,R15<=C15,S15<=C15,T15<=C15,U15<=C15,V15<=C15,W15<=C15,Y15<=C15,X15<=C15),"Đúng","Sai") -> Đúng | AG15: =IF(Z15=AA15+AB15,"Đúng","Sai") -> Đúng
B16: Đảng ủy viên đảng ủy cơ sở | C16: =SUM(D16:G16) -> 0 | AE16: =IF(C16=(SUM(K16:P16)),"Đúng","Sai") -> Đúng | AF16: =IF(AND(Q16<=C16,R16<=C16,S16<=C16,T16<=C16,U16<=C16,V16<=C16,W16<=C16,Y16<=C16,X16<=C16),"Đúng","Sai") -> Đúng | AG16: =IF(Z16=AA16+AB16,"Đúng","Sai") -> Đúng
B17: Đảng ủy viên đảng ủy bộ phận | C17: =SUM(D17:G17) -> 0 | AE17: =IF(C17=(SUM(K17:P17)),"Đúng","Sai") -> Đúng | AF17: =IF(AND(Q17<=C17,R17<=C17,S17<=C17,T17<=C17,U17<=C17,V17<=C17,W17<=C17,Y17<=C17,X17<=C17),"Đúng","Sai") -> Đúng | AG17: =IF(Z17=AA17+AB17,"Đúng","Sai") -> Đúng
B18: Chi ủy viên | C18: =SUM(D18:G18) -> 0 | AE18: =IF(C18=(SUM(K18:P18)),"Đúng","Sai") -> Đúng | AF18: =IF(AND(Q18<=C18,R18<=C18,S18<=C18,T18<=C18,U18<=C18,V18<=C18,W18<=C18,Y18<=C18,X18<=C18),"Đúng","Sai") -> Đúng | AG18: =IF(Z18=AA18+AB18,"Đúng","Sai") -> Đúng
A19: III | B19: Đảng viên ở các lĩnh vực | C19: =SUM(C20:C26) -> 0 | D19: =SUM(D20:D26) -> 0 | E19: =SUM(E20:E26) -> 0 | F19: =SUM(F20:F26) -> 0 | G19: =SUM(G20:G26) -> 0 | H19: =SUM(H20:H26) -> 0 | I19: =SUM(I20:I26) -> 0 | J19: =SUM(J20:J26) -> 0 | ... AD19: =SUM(AD20:AD26) -> 0 | AE19: =IF(C19=(SUM(K19:P19)),"Đúng","Sai") -> Đúng | AF19: =IF(AND(Q19<=C19,R19<=C19,S19<=C19,T19<=C19,U19<=C19,V19<=C19,W19<=C19,Y19<=C19,X19<=C19),"Đúng","Sai") -> Đúng | AG19: =IF(Z19=AA19+AB19,"Đúng","Sai") -> Đúng
B20: Đảng | C20: =SUM(D20:G20) -> 0 | AE20: =IF(C20=(SUM(K20:P20)),"Đúng","Sai") -> Đúng | AF20: =IF(AND(Q20<=C20,R20<=C20,S20<=C20,T20<=C20,U20<=C20,V20<=C20,W20<=C20,Y20<=C20,X20<=C20),"Đúng","Sai") -> Đúng | AG20: =IF(Z20=AA20+AB20,"Đúng","Sai") -> Đúng
B21: Hành chính, Nhà nước | C21: =SUM(D21:G21) -> 0 | AE21: =IF(C21=(SUM(K21:P21)),"Đúng","Sai") -> Đúng | AF21: =IF(AND(Q21<=C21,R21<=C21,S21<=C21,T21<=C21,U21<=C21,V21<=C21,W21<=C21,Y21<=C21,X21<=C21),"Đúng","Sai") -> Đúng | AG21: =IF(Z21=AA21+AB21,"Đúng","Sai") -> Đúng
B22: Đoàn thể | C22: =SUM(D22:G22) -> 0 | AE22: =IF(C22=(SUM(K22:P22)),"Đúng","Sai") -> Đúng | AF22: =IF(AND(Q22<=C22,R22<=C22,S22<=C22,T22<=C22,U22<=C22,V22<=C22,W22<=C22,Y22<=C22,X22<=C22),"Đúng","Sai") -> Đúng | AG22: =IF(Z22=AA22+AB22,"Đúng","Sai") -> Đúng
B23: Lực lượng vũ trang | C23: =SUM(D23:G23) -> 0 | AE23: =IF(C23=(SUM(K23:P23)),"Đúng","Sai") -> Đúng | AF23: =IF(AND(Q23<=C23,R23<=C23,S23<=C23,T23<=C23,U23<=C23,V23<=C23,W23<=C23,Y23<=C23,X23<=C23),"Đúng","Sai") -> Đúng | AG23: =IF(Z23=AA23+AB23,"Đúng","Sai") -> Đúng
B24: Sự nghiệp công lập | C24: =SUM(D24:G24) -> 0 | AE24: =IF(C24=(SUM(K24:P24)),"Đúng","Sai") -> Đúng | AF24: =IF(AND(Q24<=C24,R24<=C24,S24<=C24,T24<=C24,U24<=C24,V24<=C24,W24<=C24,Y24<=C24,X24<=C24),"Đúng","Sai") -> Đúng | AG24: =IF(Z24=AA24+AB24,"Đúng","Sai") -> Đúng
B25: SXKD, dịch vụ | C25: =SUM(D25:G25) -> 0 | AE25: =IF(C25=(SUM(K25:P25)),"Đúng","Sai") -> Đúng | AF25: =IF(AND(Q25<=C25,R25<=C25,S25<=C25,T25<=C25,U25<=C25,V25<=C25,W25<=C25,Y25<=C25,X25<=C25),"Đúng","Sai") -> Đúng | AG25: =IF(Z25=AA25+AB25,"Đúng","Sai") -> Đúng
B26: Lĩnh vực khác | C26: =SUM(D26:G26) -> 0 | AE26: =IF(C26=(SUM(K26:P26)),"Đúng","Sai") -> Đúng | AF26: =IF(AND(Q26<=C26,R26<=C26,S26<=C26,T26<=C26,U26<=C26,V26<=C26,W26<=C26,Y26<=C26,X26<=C26),"Đúng","Sai") -> Đúng | AG26: =IF(Z26=AA26+AB26,"Đúng","Sai") -> Đúng
A27: IV | B27: Đảng viên bị THKT từ nhiệm vụ | C27: =SUM(C28:C31) -> 0 | D27: =SUM(D28:D31) -> 0 | E27: =SUM(E28:E31) -> 0 | F27: =SUM(F28:F31) -> 0 | G27: =SUM(G28:G31) -> 0 | H27: =SUM(H28:H31) -> 0 | I27: =SUM(I28:I31) -> 0 | J27: =SUM(J28:J31) -> 0 | ... AD27: =SUM(AD28:AD31) -> 0 | AE27: =IF(C27=(SUM(K27:P27)),"Đúng","Sai") -> Đúng | AF27: =IF(AND(Q27<=C27,R27<=C27,S27<=C27,T27<=C27,U27<=C27,V27<=C27,W27<=C27,Y27<=C27,X27<=C27),"Đúng","Sai") -> Đúng | AG27: =IF(Z27=AA27+AB27,"Đúng","Sai") -> Đúng
B28: Kiểm tra theo Điều 30 của ĐLĐ | C28: =SUM(D28:G28) -> 0 | AE28: =IF(C28=(SUM(K28:P28)),"Đúng","Sai") -> Đúng | AF28: =IF(AND(Q28<=C28,R28<=C28,S28<=C28,T28<=C28,U28<=C28,V28<=C28,W28<=C28,Y28<=C28,X28<=C28),"Đúng","Sai") -> Đúng | AG28: =IF(Z28=AA28+AB28,"Đúng","Sai") -> Đúng
B29: Kiểm tra khi có DHVP của BTV cấp ủy và chi bộ | C29: =SUM(D29:G29) -> 0 | AE29: =IF(C29=(SUM(K29:P29)),"Đúng","Sai") -> Đúng | AF29: =IF(AND(Q29<=C29,R29<=C29,S29<=C29,T29<=C29,U29<=C29,V29<=C29,W29<=C29,Y29<=C29,X29<=C29),"Đúng","Sai") -> Đúng | AG29: =IF(Z29=AA29+AB29,"Đúng","Sai") -> Đúng
B30: Giải quyết tố cáo của cấp ủy các cấp | C30: =SUM(D30:G30) -> 0 | AE30: =IF(C30=(SUM(K30:P30)),"Đúng","Sai") -> Đúng | AF30: =IF(AND(Q30<=C30,R30<=C30,S30<=C30,T30<=C30,U30<=C30,V30<=C30,W30<=C30,Y30<=C30,X30<=C30),"Đúng","Sai") -> Đúng | AG30: =IF(Z30=AA30+AB30,"Đúng","Sai") -> Đúng
B31: Khác (từ đề nghị của TCĐ, UBKT cấp dưới, từ chỉ đạo của cấp trên giao...) | C31: =SUM(D31:G31) -> 0 | AE31: =IF(C31=(SUM(K31:P31)),"Đúng","Sai") -> Đúng | AF31: =IF(AND(Q31<=C31,R31<=C31,S31<=C31,T31<=C31,U31<=C31,V31<=C31,W31<=C31,Y31<=C31,X31<=C31),"Đúng","Sai") -> Đúng | AG31: =IF(Z31=AA31+AB31,"Đúng","Sai") -> Đúng
A32: V | B32: Cấp thi hành kỷ luật | C32: =SUM(C33:C38) -> 0 | D32: =SUM(D33:D38) -> 0 | E32: =SUM(E33:E38) -> 0 | F32: =SUM(F33:F38) -> 0 | G32: =SUM(G33:G38) -> 0 | H32: =SUM(H33:H38) -> 0 | I32: =SUM(I33:I38) -> 0 | J32: =SUM(J33:J38) -> 0
B33: BCHTW, Bộ Chính trị, Ban Bí thư | C33: =SUM(D33:G33) -> 0
B34: Tỉnh uỷ, BTV tỉnh uỷ và tương đương | C34: =SUM(D34:G34) -> 0
B35: Đảng ủy, BTV ĐU cấp trên trực tiếp cơ sở và tương đương | C35: =SUM(D35:G35) -> 0
B36: Đảng uỷ cơ sở , BTV đảng ủy cơ sở | C36: =SUM(D36:G36) -> 0
B37: Chi bộ cơ sở | C37: =SUM(D37:G37) -> 0
B38: Chi bộ trực thuộc | C38: =SUM(D38:G38) -> 0
A39: VI | B39: Số liệu lấy thêm: | C39: 1 - Tổng số đảng viên của đảng bộ | P39: 2 - Số đảng viên là người dân tộc thiểu số bị thi hành kỷ luật
C41: =IF(AND(C7=C27,C7=C19), "Đúng","Sai") -> Đúng | D41: =IF(AND(D7=D27,D7=D19), "Đúng","Sai") -> Đúng | E41: =IF(AND(E7=E27,E7=E19), "Đúng","Sai") -> Đúng | F41: =IF(AND(F7=F27,F7=F19), "Đúng","Sai") -> Đúng | G41: =IF(AND(G7=G27,G7=G19), "Đúng","Sai") -> Đúng | H41: =IF(AND(H7=H27,H7=H19), "Đúng","Sai") -> Đúng | I41: =IF(AND(I7=I27,I7=I19), "Đúng","Sai") -> Đúng | J41: =IF(AND(J7=J27,J7=J19), "Đúng","Sai") -> Đúng | ... AD41: =IF(AND(AD7=AD27,AD7=AD19), "Đúng","Sai") -> Đúng

Sheet B09
A1: GIẢI QUYẾT TỐ CÁO TỔ CHỨC ĐẢNG CỦA CẤP ỦY CÁC CẤP | S1: Biểu 09
O2: (ĐVT: Lượt giải quyết tố cáo Tổ chức đảng)
A3: TT | B3: Tổ chức đảng bị tố cáo | C3: Tổng số tổ chức đảng bị tố cáo đã giải quyết xong | D3: Cấp giải quyết | H3: Nội dung tố cáo | O3: Kết luận
D4: BCHTW, Bộ Chính trị, Ban Bí thư | E4: Tỉnh ủy, BTV tỉnh ủy và tương đương | F4: Đảng ủy, BTV ĐU cấp trên trực tiếp cơ sở và tương đương | G4: Đảng ủy cơ sở, BTV đảng ủy cơ sở | H4: Việc chấp hành Cương lĩnh chính trị, Điều lệ Đảng, chủ trương, nghị quyết, chỉ thị, quy định, quy chế, kết luận của Đảng | I4: Việc chấp hành chính sách, pháp luật của Nhà nước | J4: Các nguyên tắc tổ chức và hoạt động của Đảng | K4: Đoàn kết nội bộ | L4: Việc thực hành tiết kiệm, phòng, chống tham nhũng, lãng phí, tiêu cực | M4: Công tác cán bộ | N4: Khác | O4: Cho rút đơn, không xem xét giải quyết | P4: Chưa có cơ sở kết luận | Q4: Tố sai | R4: Tố đúng và đúng một phần | S4: Trong đó
S5: Tố đúng, có vi phạm chưa đến mức phải kỷ luật | T5: Phải thi hành kỷ luật | U5: Đã thi hành kỷ luật
A6: 1 | B6: 2 | C6: 3 | D6: 4 | E6: 5 | F6: 6 | G6: 7 | H6: 8 | I6: 9 | J6: 10 | K6: 11 | L6: 12 | M6: 13 | N6: 14 | O6: 15 | P6: 16 | Q6: 17 | R6: 18 | S6: 19 | T6: 20 | U6: 21
A7: I | B7: Tổ chức đảng bị tố cáo | C7: =SUM(C9:C17) -> 0 | D7: =SUM(D9:D17) -> 0 | E7: =SUM(E9:E17) -> 0 | F7: =SUM(F9:F17) -> 0 | G7: =SUM(G9:G17) -> 0 | H7: =SUM(H9:H17) -> 0 | I7: =SUM(I9:I17) -> 0 | J7: =SUM(J9:J17) -> 0 | ... U7: =SUM(U9:U17) -> 0 | V7: =IF(AND(H7<=C7,I7<=C7,J7<=C7,K7<=C7,L7<=C7,M7<=C7,N7<=C7),"Đúng","Sai") -> Đúng | W7: =IF(C7=O7+P7+Q7+R7,"Đúng","Sai") -> Đúng | X7: =IF(R7=S7+T7,"Đúng","Sai") -> Đúng | Y7: =IF(AND(U7<=T7),"Đúng","Sai") -> Đúng
B8: UBKT Trung ương | C8: =SUM(D8:G8) -> 0 | V8: =IF(AND(H8<=C8,I8<=C8,J8<=C8,K8<=C8,L8<=C8,M8<=C8,N8<=C8),"Đúng","Sai") -> Đúng | W8: =IF(C8=O8+P8+Q8+R8,"Đúng","Sai") -> Đúng | X8: =IF(R8=S8+T8,"Đúng","Sai") -> Đúng | Y8: =IF(AND(U8<=T8),"Đúng","Sai") -> Đúng
B9: Tỉnh ủy, BTV tỉnh ủy và tương đương | C9: =SUM(D9:G9) -> 0 | V9: =IF(AND(H9<=C9,I9<=C9,J9<=C9,K9<=C9,L9<=C9,M9<=C9,N9<=C9),"Đúng","Sai") -> Đúng | W9: =IF(C9=O9+P9+Q9+R9,"Đúng","Sai") -> Đúng | X9: =IF(R9=S9+T9,"Đúng","Sai") -> Đúng | Y9: =IF(AND(U9<=T9),"Đúng","Sai") -> Đúng
B10: UBKT tỉnh ủy và tương đương | C10: =SUM(D10:G10) -> 0 | V10: =IF(AND(H10<=C10,I10<=C10,J10<=C10,K10<=C10,L10<=C10,M10<=C10,N10<=C10),"Đúng","Sai") -> Đúng | W10: =IF(C10=O10+P10+Q10+R10,"Đúng","Sai") -> Đúng | X10: =IF(R10=S10+T10,"Đúng","Sai") -> Đúng | Y10: =IF(AND(U10<=T10),"Đúng","Sai") -> Đúng
B11: Đảng ủy, BTV ĐU cấp trên trực tiếp cơ sở và tương đương | C11: =SUM(D11:G11) -> 0 | V11: =IF(AND(H11<=C11,I11<=C11,J11<=C11,K11<=C11,L11<=C11,M11<=C11,N11<=C11),"Đúng","Sai") -> Đúng | W11: =IF(C11=O11+P11+Q11+R11,"Đúng","Sai") -> Đúng | X11: =IF(R11=S11+T11,"Đúng","Sai") -> Đúng | Y11: =IF(AND(U11<=T11),"Đúng","Sai") -> Đúng
B12: UBKT cấp trên trực tiếp cơ sở và tương đương | C12: =SUM(D12:G12) -> 0 | V12: =IF(AND(H12<=C12,I12<=C12,J12<=C12,K12<=C12,L12<=C12,M12<=C12,N12<=C12),"Đúng","Sai") -> Đúng | W12: =IF(C12=O12+P12+Q12+R12,"Đúng","Sai") -> Đúng | X12: =IF(R12=S12+T12,"Đúng","Sai") -> Đúng | Y12: =IF(AND(U12<=T12),"Đúng","Sai") -> Đúng
B13: Đảng ủy, BTV đảng ủy cơ sở | C13: =SUM(D13:G13) -> 0 | V13: =IF(AND(H13<=C13,I13<=C13,J13<=C13,K13<=C13,L13<=C13,M13<=C13,N13<=C13),"Đúng","Sai") -> Đúng | W13: =IF(C13=O13+P13+Q13+R13,"Đúng","Sai") -> Đúng | X13: =IF(R13=S13+T13,"Đúng","Sai") -> Đúng | Y13: =IF(AND(U13<=T13),"Đúng","Sai") -> Đúng
B14: UBKT đảng ủy cơ sở | C14: =SUM(D14:G14) -> 0 | V14: =IF(AND(H14<=C14,I14<=C14,J14<=C14,K14<=C14,L14<=C14,M14<=C14,N14<=C14),"Đúng","Sai") -> Đúng | W14: =IF(C14=O14+P14+Q14+R14,"Đúng","Sai") -> Đúng | X14: =IF(R14=S14+T14,"Đúng","Sai") -> Đúng | Y14: =IF(AND(U14<=T14),"Đúng","Sai") -> Đúng
B15: Đảng ủy bộ phận | C15: =SUM(D15:G15) -> 0 | V15: =IF(AND(H15<=C15,I15<=C15,J15<=C15,K15<=C15,L15<=C15,M15<=C15,N15<=C15),"Đúng","Sai") -> Đúng | W15: =IF(C15=O15+P15+Q15+R15,"Đúng","Sai") -> Đúng | X15: =IF(R15=S15+T15,"Đúng","Sai") -> Đúng | Y15: =IF(AND(U15<=T15),"Đúng","Sai") -> Đúng
B16: Chi bộ, Chi ủy | C16: =SUM(D16:G16) -> 0 | V16: =IF(AND(H16<=C16,I16<=C16,J16<=C16,K16<=C16,L16<=C16,M16<=C16,N16<=C16),"Đúng","Sai") -> Đúng | W16: =IF(C16=O16+P16+Q16+R16,"Đúng","Sai") -> Đúng | X16: =IF(R16=S16+T16,"Đúng","Sai") -> Đúng | Y16: =IF(AND(U16<=T16),"Đúng","Sai") -> Đúng
B17: Khác (tiểu ban, hội đồng, tổ đảng...) | C17: =SUM(D17:G17) -> 0 | V17: =IF(AND(H17<=C17,I17<=C17,J17<=C17,K17<=C17,L17<=C17,M17<=C17,N17<=C17),"Đúng","Sai") -> Đúng | W17: =IF(C17=O17+P17+Q17+R17,"Đúng","Sai") -> Đúng | X17: =IF(R17=S17+T17,"Đúng","Sai") -> Đúng | Y17: =IF(AND(U17<=T17),"Đúng","Sai") -> Đúng
A18: II | B18: Kết luận giải quyết tố cáo | C18: =SUM(D18:G18) -> 0 | D18: =SUM(D19:D22) -> 0 | E18: =SUM(E19:E22) -> 0 | F18: =SUM(F19:F22) -> 0 | G18: =SUM(G19:G22) -> 0 | H18: =SUM(H19:H22) -> 0 | I18: =SUM(I19:I22) -> 0 | J18: =SUM(J19:J22) -> 0 | K18: =SUM(K19:K22) -> 0 | ... N18: =SUM(N19:N22) -> 0
B19: Cho rút đơn, không xem xét giải quyết | C19: =SUM(D19:G19) -> 0 | V19: =IF(AND(H19<=C19,I19<=C19,J19<=C19,K19<=C19,L19<=C19,M19<=C19,N19<=C19),"Đúng","Sai") -> Đúng
B20: Chưa có cơ sở kết luận | C20: =SUM(D20:G20) -> 0 | V20: =IF(AND(H20<=C20,I20<=C20,J20<=C20,K20<=C20,L20<=C20,M20<=C20,N20<=C20),"Đúng","Sai") -> Đúng
B21: Tố sai | C21: =SUM(D21:G21) -> 0 | V21: =IF(AND(H21<=C21,I21<=C21,J21<=C21,K21<=C21,L21<=C21,M21<=C21,N21<=C21),"Đúng","Sai") -> Đúng
B22: Tố đúng và đúng một phần | C22: =SUM(D22:G22) -> 0 | V22: =IF(AND(H22<=C22,I22<=C22,J22<=C22,K22<=C22,L22<=C22,M22<=C22,N22<=C22),"Đúng","Sai") -> Đúng
B23: Đúng có vi phạm chưa đến mức phải kỷ luật | C23: =SUM(D23:G23) -> 0 | V23: =IF(AND(H23<=C23,I23<=C23,J23<=C23,K23<=C23,L23<=C23,M23<=C23,N23<=C23),"Đúng","Sai") -> Đúng
B24: Phải thi hành kỷ luật | C24: =SUM(D24:G24) -> 0 | V24: =IF(AND(H24<=C24,I24<=C24,J24<=C24,K24<=C24,L24<=C24,M24<=C24,N24<=C24),"Đúng","Sai") -> Đúng
B25: Đã thi hành kỷ luật | C25: =SUM(D25:G25) -> 0 | V25: =IF(AND(H25<=C25,I25<=C25,J25<=C25,K25<=C25,L25<=C25,M25<=C25,N25<=C25),"Đúng","Sai") -> Đúng
B26: Giải quyết đúng thời gian quy định | C26: =SUM(D26:G26) -> 0 | V26: =IF(AND(H26<=C26,I26<=C26,J26<=C26,K26<=C26,L26<=C26,M26<=C26,N26<=C26),"Đúng","Sai") -> Đúng
C28: =IF(C7=C18,"Đúng","Sai") -> Đúng | D28: =IF(D7=D18,"Đúng","Sai") -> Đúng | E28: =IF(E7=E18,"Đúng","Sai") -> Đúng | F28: =IF(F7=F18,"Đúng","Sai") -> Đúng | G28: =IF(G7=G18,"Đúng","Sai") -> Đúng | H28: =IF(H7=H18,"Đúng","Sai") -> Đúng | I28: =IF(I7=I18,"Đúng","Sai") -> Đúng | J28: =IF(J7=J18,"Đúng","Sai") -> Đúng | ... N28: =IF(N7=N18,"Đúng","Sai") -> Đúng
C29: =IF(C22=C23+C24,"Đúng","Sai") -> Đúng | D29: =IF(D22=D23+D24,"Đúng","Sai") -> Đúng | E29: =IF(E22=E23+E24,"Đúng","Sai") -> Đúng | F29: =IF(F22=F23+F24,"Đúng","Sai") -> Đúng | G29: =IF(G22=G23+G24,"Đúng","Sai") -> Đúng | H29: =IF(H22=H23+H24,"Đúng","Sai") -> Đúng | I29: =IF(I22=I23+I24,"Đúng","Sai") -> Đúng | J29: =IF(J22=J23+J24,"Đúng","Sai") -> Đúng | ... N29: =IF(N22=N23+N24,"Đúng","Sai") -> Đúng
C30: =IF(C25<=C24,"Đúng","Sai") -> Đúng | D30: =IF(D25<=D24,"Đúng","Sai") -> Đúng | E30: =IF(E25<=E24,"Đúng","Sai") -> Đúng | F30: =IF(F25<=F24,"Đúng","Sai") -> Đúng | G30: =IF(G25<=G24,"Đúng","Sai") -> Đúng | H30: =IF(H25<=H24,"Đúng","Sai") -> Đúng | I30: =IF(I25<=I24,"Đúng","Sai") -> Đúng | J30: =IF(J25<=J24,"Đúng","Sai") -> Đúng | ... N30: =IF(N25<=N24,"Đúng","Sai") -> Đúng
C31: =IF(C26<=C7,"Đúng","Sai") -> Đúng | D31: =IF(D26<=D7,"Đúng","Sai") -> Đúng | E31: =IF(E26<=E7,"Đúng","Sai") -> Đúng | F31: =IF(F26<=F7,"Đúng","Sai") -> Đúng | G31: =IF(G26<=G7,"Đúng","Sai") -> Đúng | H31: =IF(H26<=H7,"Đúng","Sai") -> Đúng | I31: =IF(I26<=I7,"Đúng","Sai") -> Đúng | J31: =IF(J26<=J7,"Đúng","Sai") -> Đúng | ... N31: =IF(N26<=N7,"Đúng","Sai") -> Đúng
C32: =IF(O7=C19,"Đúng","Sai") -> Đúng
C33: =IF(P7=C20,"Đúng","Sai") -> Đúng
C34: =IF(Q7=C21,"Đúng","Sai") -> Đúng
C35: =IF(R7=C22,"Đúng","Sai") -> Đúng
C36: =IF(S7=C23,"Đúng","Sai") -> Đúng
C37: =IF(T7=C24,"Đúng","Sai") -> Đúng
C38: =IF(U7=C25,"Đúng","Sai") -> Đúng

Sheet B10
A1: GIẢI QUYẾT TỐ CÁO ĐẢNG VIÊN CỦA CẤP ỦY CÁC CẤP VÀ CHI BỘ | X1: Biểu 10
T2: (ĐVT: lượt giải quyết tố cáo đảng viên)
A3: TT | B3: Đảng viên bị tố cáo | C3: Đã giải quyết xong | D3: Cấp giải quyết | J3: Nội dung tố cáo | T3: Kết luận
D4: BCHTW, Bộ Chính trị, Ban Bí thư | E4: Tỉnh ủy, BTV tỉnh ủy và tương đương | F4: Đảng ủy, BTV ĐU cấp trên trực tiếp cơ sở và tương đương | G4: Đảng ủy cơ sở, BTV đảng ủy cơ sở | H4: Chi bộ cơ sở | I4: Chi bộ trực thuộc | J4: Tiêu chuẩn đảng viên, tiêu chuẩn cấp ủy viên | K4: Việc chấp hành Cương lĩnh chính trị, Điều lệ Đảng, chủ trương, nghị quyết, chỉ thị, quy định, quy chế, kết luận của Đảng | L4: Về nguyên tắc tổ chức và sinh hoạt đảng | M4: Về thực hiện chức trách, nhiệm vụ được giao | N4: Về phẩm chất đạo đức, lối sống và trách nhiệm nêu gương | O4: Tham nhũng, cố ý làm trái | P4: Đất đai, tài nguyên, khoáng sản, nhà ở, môi trường | Q4: Tài chính, ngân hàng, đầu tư,xây dựng, y tế, khoa học công nghệ | R4: Kê khai tài sản, thu nhập cá nhân | S4: Khác | T4: Cho rút đơn, không xem xét giải quyết | U4: Chưa có cơ sở kết luận | V4: Tố sai | W4: Tố đúng và đúng một phần | X4: Trong đó
X5: Tố đúng, có vi phạm nhưng chưa đến mức phải kỷ luật | Y5: Phải thi hành kỷ luật | Z5: Đã thi hành kỷ luật
A6: 1 | B6: 2 | C6: 3 | D6: 4 | E6: 5 | F6: 6 | G6: 7 | H6: 8 | I6: 9 | J6: 10 | K6: 11 | L6: 12 | M6: 13 | N6: 14 | O6: 15 | P6: 16 | Q6: 17 | R6: 18 | S6: 19 | T6: 20 | U6: 21 | V6: 22 | W6: 23 | X6: 24 | Y6: 25 | Z6: 26
A7: I | B7: Cấp quản lý đảng viên | C7: =SUM(C8:C11) -> 0 | D7: =SUM(D8:D11) -> 0 | E7: =SUM(E8:E11) -> 0 | F7: =SUM(F8:F11) -> 0 | G7: =SUM(G8:G11) -> 0 | H7: =SUM(H8:H11) -> 0 | I7: =SUM(I8:I11) -> 0 | J7: =SUM(J8:J11) -> 0 | ... Z7: =SUM(Z8:Z11) -> 0 | AA7: =IF(AND(J7<=C7,K7<=C7,L7<=C7,M7<=C7,N7<=C7,O7<=C7,P7<=C7,Q7<=C7,R7<=C7,S7<=C7),"Đúng","Sai") -> Đúng | AB7: =IF(C7=T7+U7+V7+W7,"Đúng","Sai") -> Đúng | AC7: =IF(W7=X7+Y7,"Đúng","Sai") -> Đúng | AD7: =IF(Z7<=Y7,"Đúng","Sai") -> Đúng
B8: Trung ương | C8: =SUM(D8:I8) -> 0 | AA8: =IF(AND(J8<=C8,K8<=C8,L8<=C8,M8<=C8,N8<=C8,O8<=C8,P8<=C8,Q8<=C8,R8<=C8,S8<=C8),"Đúng","Sai") -> Đúng | AB8: =IF(C8=T8+U8+V8+W8,"Đúng","Sai") -> Đúng | AC8: =IF(W8=X8+Y8,"Đúng","Sai") -> Đúng | AD8: =IF(Z8<=Y8,"Đúng","Sai") -> Đúng
B9: Cấp tỉnh và tương đương | C9: =SUM(D9:I9) -> 0 | AA9: =IF(AND(J9<=C9,K9<=C9,L9<=C9,M9<=C9,N9<=C9,O9<=C9,P9<=C9,Q9<=C9,R9<=C9,S9<=C9),"Đúng","Sai") -> Đúng | AB9: =IF(C9=T9+U9+V9+W9,"Đúng","Sai") -> Đúng | AC9: =IF(W9=X9+Y9,"Đúng","Sai") -> Đúng | AD9: =IF(Z9<=Y9,"Đúng","Sai") -> Đúng
B10: Cấp trên trực tiếp cơ sở và tương đương | C10: =SUM(D10:I10) -> 0 | AA10: =IF(AND(J10<=C10,K10<=C10,L10<=C10,M10<=C10,N10<=C10,O10<=C10,P10<=C10,Q10<=C10,R10<=C10,S10<=C10),"Đúng","Sai") -> Đúng | AB10: =IF(C10=T10+U10+V10+W10,"Đúng","Sai") -> Đúng | AC10: =IF(W10=X10+Y10,"Đúng","Sai") -> Đúng | AD10: =IF(Z10<=Y10,"Đúng","Sai") -> Đúng
B11: Cấp cơ sở | C11: =SUM(D11:I11) -> 0 | AA11: =IF(AND(J11<=C11,K11<=C11,L11<=C11,M11<=C11,N11<=C11,O11<=C11,P11<=C11,Q11<=C11,R11<=C11,S11<=C11),"Đúng","Sai") -> Đúng | AB11: =IF(C11=T11+U11+V11+W11,"Đúng","Sai") -> Đúng | AC11: =IF(W11=X11+Y11,"Đúng","Sai") -> Đúng | AD11: =IF(Z11<=Y11,"Đúng","Sai") -> Đúng
A12: II | B12: Là cấp uỷ viên các cấp | C12: =SUM(C13:C18) -> 0 | D12: =SUM(D13:D18) -> 0 | E12: =SUM(E13:E18) -> 0 | F12: =SUM(F13:F18) -> 0 | G12: =SUM(G13:G18) -> 0 | H12: =SUM(H13:H18) -> 0 | I12: =SUM(I13:I18) -> 0 | J12: =SUM(J13:J18) -> 0 | ... Z12: =SUM(Z13:Z18) -> 0 | AA12: =IF(AND(J12<=C12,K12<=C12,L12<=C12,M12<=C12,N12<=C12,O12<=C12,P12<=C12,Q12<=C12,R12<=C12,S12<=C12),"Đúng","Sai") -> Đúng | AB12: =IF(C12=T12+U12+V12+W12,"Đúng","Sai") -> Đúng | AC12: =IF(W12=X12+Y12,"Đúng","Sai") -> Đúng | AD12: =IF(Z12<=Y12,"Đúng","Sai") -> Đúng
B13: Uỷ viên Trung ương | C13: =SUM(D13:I13) -> 0 | AA13: =IF(AND(J13<=C13,K13<=C13,L13<=C13,M13<=C13,N13<=C13,O13<=C13,P13<=C13,Q13<=C13,R13<=C13,S13<=C13),"Đúng","Sai") -> Đúng | AB13: =IF(C13=T13+U13+V13+W13,"Đúng","Sai") -> Đúng | AC13: =IF(W13=X13+Y13,"Đúng","Sai") -> Đúng | AD13: =IF(Z13<=Y13,"Đúng","Sai") -> Đúng
B14: Tỉnh uỷ viên và tương đương | C14: =SUM(D14:I14) -> 0 | AA14: =IF(AND(J14<=C14,K14<=C14,L14<=C14,M14<=C14,N14<=C14,O14<=C14,P14<=C14,Q14<=C14,R14<=C14,S14<=C14),"Đúng","Sai") -> Đúng | AB14: =IF(C14=T14+U14+V14+W14,"Đúng","Sai") -> Đúng | AC14: =IF(W14=X14+Y14,"Đúng","Sai") -> Đúng | AD14: =IF(Z14<=Y14,"Đúng","Sai") -> Đúng
B15: Đảng ủy viên ĐU cấp trên trực tiếp cơ sở và tương đương | C15: =SUM(D15:I15) -> 0 | AA15: =IF(AND(J15<=C15,K15<=C15,L15<=C15,M15<=C15,N15<=C15,O15<=C15,P15<=C15,Q15<=C15,R15<=C15,S15<=C15),"Đúng","Sai") -> Đúng | AB15: =IF(C15=T15+U15+V15+W15,"Đúng","Sai") -> Đúng | AC15: =IF(W15=X15+Y15,"Đúng","Sai") -> Đúng | AD15: =IF(Z15<=Y15,"Đúng","Sai") -> Đúng
B16: Đảng uỷ viên đảng ủy cơ sở | C16: =SUM(D16:I16) -> 0 | AA16: =IF(AND(J16<=C16,K16<=C16,L16<=C16,M16<=C16,N16<=C16,O16<=C16,P16<=C16,Q16<=C16,R16<=C16,S16<=C16),"Đúng","Sai") -> Đúng | AB16: =IF(C16=T16+U16+V16+W16,"Đúng","Sai") -> Đúng | AC16: =IF(W16=X16+Y16,"Đúng","Sai") -> Đúng | AD16: =IF(Z16<=Y16,"Đúng","Sai") -> Đúng
B17: Đảng ủy viên đảng ủy bộ phận | C17: =SUM(D17:I17) -> 0 | AA17: =IF(AND(J17<=C17,K17<=C17,L17<=C17,M17<=C17,N17<=C17,O17<=C17,P17<=C17,Q17<=C17,R17<=C17,S17<=C17),"Đúng","Sai") -> Đúng | AB17: =IF(C17=T17+U17+V17+W17,"Đúng","Sai") -> Đúng | AC17: =IF(W17=X17+Y17,"Đúng","Sai") -> Đúng | AD17: =IF(Z17<=Y17,"Đúng","Sai") -> Đúng
B18: Chi uỷ viên | C18: =SUM(D18:I18) -> 0 | AA18: =IF(AND(J18<=C18,K18<=C18,L18<=C18,M18<=C18,N18<=C18,O18<=C18,P18<=C18,Q18<=C18,R18<=C18,S18<=C18),"Đúng","Sai") -> Đúng | AB18: =IF(C18=T18+U18+V18+W18,"Đúng","Sai") -> Đúng | AC18: =IF(W18=X18+Y18,"Đúng","Sai") -> Đúng | AD18: =IF(Z18<=Y18,"Đúng","Sai") -> Đúng
A19: III | B19: Đảng viên ở các lĩnh vực | C19: =SUM(C20:C26) -> 0 | D19: =SUM(D20:D26) -> 0 | E19: =SUM(E20:E26) -> 0 | F19: =SUM(F20:F26) -> 0 | G19: =SUM(G20:G26) -> 0 | H19: =SUM(H20:H26) -> 0 | I19: =SUM(I20:I26) -> 0 | J19: =SUM(J20:J26) -> 0 | ... Z19: =SUM(Z20:Z26) -> 0 | AA19: =IF(AND(J19<=C19,K19<=C19,L19<=C19,M19<=C19,N19<=C19,O19<=C19,P19<=C19,Q19<=C19,R19<=C19,S19<=C19),"Đúng","Sai") -> Đúng | AB19: =IF(C19=T19+U19+V19+W19,"Đúng","Sai") -> Đúng | AC19: =IF(W19=X19+Y19,"Đúng","Sai") -> Đúng | AD19: =IF(Z19<=Y19,"Đúng","Sai") -> Đúng
B20: Đảng | C20: =SUM(D20:I20) -> 0 | AA20: =IF(AND(J20<=C20,K20<=C20,L20<=C20,M20<=C20,N20<=C20,O20<=C20,P20<=C20,Q20<=C20,R20<=C20,S20<=C20),"Đúng","Sai") -> Đúng | AB20: =IF(C20=T20+U20+V20+W20,"Đúng","Sai") -> Đúng | AC20: =IF(W20=X20+Y20,"Đúng","Sai") -> Đúng | AD20: =IF(Z20<=Y20,"Đúng","Sai") -> Đúng
B21: Hành chính, Nhà nước | C21: =SUM(D21:I21) -> 0 | AA21: =IF(AND(J21<=C21,K21<=C21,L21<=C21,M21<=C21,N21<=C21,O21<=C21,P21<=C21,Q21<=C21,R21<=C21,S21<=C21),"Đúng","Sai") -> Đúng | AB21: =IF(C21=T21+U21+V21+W21,"Đúng","Sai") -> Đúng | AC21: =IF(W21=X21+Y21,"Đúng","Sai") -> Đúng | AD21: =IF(Z21<=Y21,"Đúng","Sai") -> Đúng
B22: Đoàn thể | C22: =SUM(D22:I22) -> 0 | AA22: =IF(AND(J22<=C22,K22<=C22,L22<=C22,M22<=C22,N22<=C22,O22<=C22,P22<=C22,Q22<=C22,R22<=C22,S22<=C22),"Đúng","Sai") -> Đúng | AB22: =IF(C22=T22+U22+V22+W22,"Đúng","Sai") -> Đúng | AC22: =IF(W22=X22+Y22,"Đúng","Sai") -> Đúng | AD22: =IF(Z22<=Y22,"Đúng","Sai") -> Đúng
B23: Lực lượng vũ trang | C23: =SUM(D23:I23) -> 0 | AA23: =IF(AND(J23<=C23,K23<=C23,L23<=C23,M23<=C23,N23<=C23,O23<=C23,P23<=C23,Q23<=C23,R23<=C23,S23<=C23),"Đúng","Sai") -> Đúng | AB23: =IF(C23=T23+U23+V23+W23,"Đúng","Sai") -> Đúng | AC23: =IF(W23=X23+Y23,"Đúng","Sai") -> Đúng | AD23: =IF(Z23<=Y23,"Đúng","Sai") -> Đúng
B24: Sự nghiệp công lập | C24: =SUM(D24:I24) -> 0 | AA24: =IF(AND(J24<=C24,K24<=C24,L24<=C24,M24<=C24,N24<=C24,O24<=C24,P24<=C24,Q24<=C24,R24<=C24,S24<=C24),"Đúng","Sai") -> Đúng | AB24: =IF(C24=T24+U24+V24+W24,"Đúng","Sai") -> Đúng | AC24: =IF(W24=X24+Y24,"Đúng","Sai") -> Đúng | AD24: =IF(Z24<=Y24,"Đúng","Sai") -> Đúng
B25: Sản xuất kinh doanh, dịch vụ | C25: =SUM(D25:I25) -> 0 | AA25: =IF(AND(J25<=C25,K25<=C25,L25<=C25,M25<=C25,N25<=C25,O25<=C25,P25<=C25,Q25<=C25,R25<=C25,S25<=C25),"Đúng","Sai") -> Đúng | AB25: =IF(C25=T25+U25+V25+W25,"Đúng","Sai") -> Đúng | AC25: =IF(W25=X25+Y25,"Đúng","Sai") -> Đúng | AD25: =IF(Z25<=Y25,"Đúng","Sai") -> Đúng
B26: Các lĩnh vực khác | C26: =SUM(D26:I26) -> 0 | AA26: =IF(AND(J26<=C26,K26<=C26,L26<=C26,M26<=C26,N26<=C26,O26<=C26,P26<=C26,Q26<=C26,R26<=C26,S26<=C26),"Đúng","Sai") -> Đúng | AB26: =IF(C26=T26+U26+V26+W26,"Đúng","Sai") -> Đúng | AC26: =IF(W26=X26+Y26,"Đúng","Sai") -> Đúng | AD26: =IF(Z26<=Y26,"Đúng","Sai") -> Đúng
A27: IV | B27: Kết luận | C27: =SUM(C28:C31) -> 0 | D27: =SUM(D28:D31) -> 0 | E27: =SUM(E28:E31) -> 0 | F27: =SUM(F28:F31) -> 0 | G27: =SUM(G28:G31) -> 0 | H27: =SUM(H28:H31) -> 0 | I27: =SUM(I28:I31) -> 0 | J27: =SUM(J28:J31) -> 0 | ... S27: =SUM(S28:S31) -> 0
B28: Cho rút đơn, không xem xét giải quyết | C28: =SUM(D28:I28) -> 0
B29: Chưa có cơ sở kết luận | C29: =SUM(D29:I29) -> 0
B30: Tố sai | C30: =SUM(D30:I30) -> 0
B31: Tố đúng và đúng một phần | C31: =SUM(D31:I31) -> 0
B32: Đúng có vi phạm nhưng chưa đến mức phải kỷ luật | C32: =SUM(D32:I32) -> 0
B33: Phải thi hành kỷ luật | C33: =SUM(D33:I33) -> 0
B34: Đã thi hành kỷ luật | C34: =SUM(D34:I34) -> 0
B35: GQ đúng thời gian quy định | C35: =SUM(D35:I35) -> 0
C37: =IF(AND(C7=C27,C19=C27), "Đúng","Sai") -> Đúng | D37: =IF(D7=D27, "Đúng","Sai") -> Đúng | E37: =IF(E7=E27, "Đúng","Sai") -> Đúng | F37: =IF(F7=F27, "Đúng","Sai") -> Đúng | G37: =IF(G7=G27, "Đúng","Sai") -> Đúng | H37: =IF(H7=H27, "Đúng","Sai") -> Đúng | I37: =IF(I7=I27, "Đúng","Sai") -> Đúng | J37: =IF(J7=J27, "Đúng","Sai") -> Đúng | K37: =IF(K7=K27, "Đúng","Sai") -> Đúng | ... S37: =IF(S7=S27, "Đúng","Sai") -> Đúng | T37: =IF(T7=T19, "Đúng","Sai") -> Đúng | U37: =IF(U7=U19, "Đúng","Sai") -> Đúng | V37: =IF(V7=V19, "Đúng","Sai") -> Đúng | W37: =IF(W7=W19, "Đúng","Sai") -> Đúng | X37: =IF(X7=X19, "Đúng","Sai") -> Đúng | Y37: =IF(Y7=Y19, "Đúng","Sai") -> Đúng | Z37: =IF(Z7=Z19, "Đúng","Sai") -> Đúng
C38: =IF(C31=C32+C33,"Đúng","Sai") -> Đúng | D38: =IF(D31=D32+D33,"Đúng","Sai") -> Đúng | E38: =IF(E31=E32+E33,"Đúng","Sai") -> Đúng | F38: =IF(F31=F32+F33,"Đúng","Sai") -> Đúng | G38: =IF(G31=G32+G33,"Đúng","Sai") -> Đúng | H38: =IF(H31=H32+H33,"Đúng","Sai") -> Đúng | I38: =IF(I31=I32+I33,"Đúng","Sai") -> Đúng | J38: =IF(J31=J32+J33,"Đúng","Sai") -> Đúng | ... S38: =IF(S31=S32+S33,"Đúng","Sai") -> Đúng
C39: =IF(C34<=C33,"Đúng","Sai") -> Đúng | D39: =IF(D34<=D33,"Đúng","Sai") -> Đúng | E39: =IF(E34<=E33,"Đúng","Sai") -> Đúng | F39: =IF(F34<=F33,"Đúng","Sai") -> Đúng | G39: =IF(G34<=G33,"Đúng","Sai") -> Đúng | H39: =IF(H34<=H33,"Đúng","Sai") -> Đúng | I39: =IF(I34<=I33,"Đúng","Sai") -> Đúng | J39: =IF(J34<=J33,"Đúng","Sai") -> Đúng | ... S39: =IF(S34<=S33,"Đúng","Sai") -> Đúng
C40: =IF(C35<=C7,"Đúng","Sai") -> Đúng | D40: =IF(D35<=D7,"Đúng","Sai") -> Đúng | E40: =IF(E35<=E7,"Đúng","Sai") -> Đúng | F40: =IF(F35<=F7,"Đúng","Sai") -> Đúng | G40: =IF(G35<=G7,"Đúng","Sai") -> Đúng | H40: =IF(H35<=H7,"Đúng","Sai") -> Đúng | I40: =IF(I35<=I7,"Đúng","Sai") -> Đúng | J40: =IF(J35<=J7,"Đúng","Sai") -> Đúng | ... S40: =IF(S35<=S7,"Đúng","Sai") -> Đúng
C41: =IF(T19=C28, "Đúng","Sai") -> Đúng
C42: =IF(U19=C29, "Đúng","Sai") -> Đúng
C43: =IF(V19=C30, "Đúng","Sai") -> Đúng
C44: =IF(W19=C31, "Đúng","Sai") -> Đúng
C45: =IF(X19=C32, "Đúng","Sai") -> Đúng
C46: =IF(Y19=C33, "Đúng","Sai") -> Đúng
C47: =IF(Z19=C34, "Đúng","Sai") -> Đúng

Sheet B11
A1: GIẢI QUYẾT KHIẾU NẠI KỶ LUẬT ĐẢNG VIÊN CỦA CẤP ỦY CÁC CẤP | T1: Biểu 11
T2: (ĐVT: Đảng viên)
A3: TT | B3: Đảng viên khiếu nại kỷ luật đảng | C3: Đã giải quyết xong | D3: Cấp giải quyết khiếu nại | K3: Nội dung khiếu nại | N3: Kết luận
D4: BCHTW, Bộ Chính trị, Ban Bí thư | E4: Tỉnh ủy và tương đương | F4: BTV tỉnh uỷ và tương đương | G4: Đảng ủy cấp trên trực tiếp cơ sở và tương đương | H4: BTV đảng ủy cấp trên trực tiếp cơ sở và tương đương | I4: Đảng uỷ cơ sở | J4: BTV đảng uỷ cơ sở | K4: Nội dung vi phạm | L4: Hình thức kỷ luật | M4: Nguyên tắc, thủ tục, quy trình, thẩm quyền | N4: Cho rút đơn, không xem xét giải quyết | O4: Giữ nguyên hình thức kỷ luật | P4: Thay đổi hình thức kỷ luật | Q4: Trong đó | T4: Nguyên nhân thay đổi hình thức kỷ luật
Q5: Tăng hình thức kỷ luật | R5: Giảm hình thức kỷ luật | S5: Xoá kỷ luật | T5: Vận dụng phương hướng, phương châm THKL | U5: Thẩm tra, xác minh | V5: Khác
A6: 1 | B6: 2 | C6: 3 | D6: 4 | E6: 5 | F6: 6 | G6: 7 | H6: 8 | I6: 9 | J6: 10 | K6: 11 | L6: 12 | M6: 13 | N6: 14 | O6: 15 | P6: 16 | Q6: 17 | R6: 18 | S6: 19 | T6: 20 | U6: 21 | V6: 22
A7: I | B7: Cấp quản lý đảng viên | C7: =SUM(C8:C11) -> 0 | D7: =SUM(D8:D11) -> 0 | E7: =SUM(E8:E11) -> 0 | F7: =SUM(F8:F11) -> 0 | G7: =SUM(G8:G11) -> 0 | H7: =SUM(H8:H11) -> 0 | I7: =SUM(I8:I11) -> 0 | J7: =SUM(J8:J11) -> 0 | ... V7: =SUM(V8:V11) -> 0 | W7: =IF(AND(K7<=C7,L7<=C7,M7<=C7),"Đúng","Sai") -> Đúng | X7: =IF(C7=N7+O7+P7,"Đúng","Sai") -> Đúng | Y7: =IF(P7=Q7+R7+S7,"Đúng","Sai") -> Đúng
B8: Trung ương | C8: =SUM(D8:J8) -> 0 | W8: =IF(AND(K8<=C8,L8<=C8,M8<=C8),"Đúng","Sai") -> Đúng | X8: =IF(C8=N8+O8+P8,"Đúng","Sai") -> Đúng | Y8: =IF(P8=Q8+R8+S8,"Đúng","Sai") -> Đúng
B9: Cấp tỉnh và tương đương | C9: =SUM(D9:J9) -> 0 | W9: =IF(AND(K9<=C9,L9<=C9,M9<=C9),"Đúng","Sai") -> Đúng | X9: =IF(C9=N9+O9+P9,"Đúng","Sai") -> Đúng | Y9: =IF(P9=Q9+R9+S9,"Đúng","Sai") -> Đúng
B10: Cấp trên trực tiếp cơ sở và tương đương | C10: =SUM(D10:J10) -> 0 | W10: =IF(AND(K10<=C10,L10<=C10,M10<=C10),"Đúng","Sai") -> Đúng | X10: =IF(C10=N10+O10+P10,"Đúng","Sai") -> Đúng | Y10: =IF(P10=Q10+R10+S10,"Đúng","Sai") -> Đúng
B11: Cấp cơ sở | C11: =SUM(D11:J11) -> 0 | W11: =IF(AND(K11<=C11,L11<=C11,M11<=C11),"Đúng","Sai") -> Đúng | X11: =IF(C11=N11+O11+P11,"Đúng","Sai") -> Đúng | Y11: =IF(P11=Q11+R11+S11,"Đúng","Sai") -> Đúng
A12: II | B12: Cấp quyết định kỷ luật | C12: =SUM(C13:C31) -> 0 | D12: =SUM(D13:D31) -> 0 | E12: =SUM(E13:E31) -> 0 | F12: =SUM(F13:F31) -> 0 | G12: =SUM(G13:G31) -> 0 | H12: =SUM(H13:H31) -> 0 | I12: =SUM(I13:I31) -> 0 | J12: =SUM(J13:J31) -> 0 | ... V12: =SUM(V13:V31) -> 0 | W12: =IF(AND(K12<=C12,L12<=C12,M12<=C12),"Đúng","Sai") -> Đúng | X12: =IF(C12=N12+O12+P12,"Đúng","Sai") -> Đúng | Y12: =IF(P12=Q12+R12+S12,"Đúng","Sai") -> Đúng
B13: BCHTW, Bộ Chính trị, BBT | C13: =SUM(D13:J13) -> 0 | W13: =IF(AND(K13<=C13,L13<=C13,M13<=C13),"Đúng","Sai") -> Đúng | X13: =IF(C13=N13+O13+P13,"Đúng","Sai") -> Đúng | Y13: =IF(P13=Q13+R13+S13,"Đúng","Sai") -> Đúng
B14: UBKT Trung ương | C14: =SUM(D14:J14) -> 0 | W14: =IF(AND(K14<=C14,L14<=C14,M14<=C14),"Đúng","Sai") -> Đúng | X14: =IF(C14=N14+O14+P14,"Đúng","Sai") -> Đúng | Y14: =IF(P14=Q14+R14+S14,"Đúng","Sai") -> Đúng
B15: Tỉnh ủy và tương đương | C15: =SUM(D15:J15) -> 0 | W15: =IF(AND(K15<=C15,L15<=C15,M15<=C15),"Đúng","Sai") -> Đúng | X15: =IF(C15=N15+O15+P15,"Đúng","Sai") -> Đúng | Y15: =IF(P15=Q15+R15+S15,"Đúng","Sai") -> Đúng
B16: BTV tỉnh ủy và tương đương | C16: =SUM(D16:J16) -> 0 | W16: =IF(AND(K16<=C16,L16<=C16,M16<=C16),"Đúng","Sai") -> Đúng | X16: =IF(C16=N16+O16+P16,"Đúng","Sai") -> Đúng | Y16: =IF(P16=Q16+R16+S16,"Đúng","Sai") -> Đúng
B17: UBKT tỉnh uỷ và tương đương | C17: =SUM(D17:J17) -> 0 | W17: =IF(AND(K17<=C17,L17<=C17,M17<=C17),"Đúng","Sai") -> Đúng | X17: =IF(C17=N17+O17+P17,"Đúng","Sai") -> Đúng | Y17: =IF(P17=Q17+R17+S17,"Đúng","Sai") -> Đúng
B18: Đảng ủy cấp trên trực tiếp cơ sở và tương đương | C18: =SUM(D18:J18) -> 0 | W18: =IF(AND(K18<=C18,L18<=C18,M18<=C18),"Đúng","Sai") -> Đúng | X18: =IF(C18=N18+O18+P18,"Đúng","Sai") -> Đúng | Y18: =IF(P18=Q18+R18+S18,"Đúng","Sai") -> Đúng
B19: BTV đảng ủy cấp trên trực tiếp cơ sở và tương đương | C19: =SUM(D19:J19) -> 0 | W19: =IF(AND(K19<=C19,L19<=C19,M19<=C19),"Đúng","Sai") -> Đúng | X19: =IF(C19=N19+O19+P19,"Đúng","Sai") -> Đúng | Y19: =IF(P19=Q19+R19+S19,"Đúng","Sai") -> Đúng
B20: UBKT đảng ủy cấp trên trực tiếp cơ sở và tương đương | C20: =SUM(D20:J20) -> 0 | W20: =IF(AND(K20<=C20,L20<=C20,M20<=C20),"Đúng","Sai") -> Đúng | X20: =IF(C20=N20+O20+P20,"Đúng","Sai") -> Đúng | Y20: =IF(P20=Q20+R20+S20,"Đúng","Sai") -> Đúng
B21: Đảng ủy cơ sở | C21: =SUM(D21:J21) -> 0 | W21: =IF(AND(K21<=C21,L21<=C21,M21<=C21),"Đúng","Sai") -> Đúng | X21: =IF(C21=N21+O21+P21,"Đúng","Sai") -> Đúng | Y21: =IF(P21=Q21+R21+S21,"Đúng","Sai") -> Đúng
B22: BTV đảng ủy cơ sở | C22: =SUM(D22:J22) -> 0 | W22: =IF(AND(K22<=C22,L22<=C22,M22<=C22),"Đúng","Sai") -> Đúng | X22: =IF(C22=N22+O22+P22,"Đúng","Sai") -> Đúng | Y22: =IF(P22=Q22+R22+S22,"Đúng","Sai") -> Đúng
B23: UBKT đảng ủy cơ sở | C23: =SUM(D23:J23) -> 0 | W23: =IF(AND(K23<=C23,L23<=C23,M23<=C23),"Đúng","Sai") -> Đúng | X23: =IF(C23=N23+O23+P23,"Đúng","Sai") -> Đúng | Y23: =IF(P23=Q23+R23+S23,"Đúng","Sai") -> Đúng
B24: Chi bộ | C24: =SUM(D24:J24) -> 0 | W24: =IF(AND(K24<=C24,L24<=C24,M24<=C24),"Đúng","Sai") -> Đúng | X24: =IF(C24=N24+O24+P24,"Đúng","Sai") -> Đúng | Y24: =IF(P24=Q24+R24+S24,"Đúng","Sai") -> Đúng
A25: III | B25: Kết luận | C25: =SUM(C26:C28) -> 0 | D25: =SUM(D26:D28) -> 0 | E25: =SUM(E26:E28) -> 0 | F25: =SUM(F26:F28) -> 0 | G25: =SUM(G26:G28) -> 0 | H25: =SUM(H26:H28) -> 0 | I25: =SUM(I26:I28) -> 0 | J25: =SUM(J26:J28) -> 0
B26: Cho rút đơn, không xem xét giải quyết | C26: =SUM(D26:J26) -> 0
B27: Giữ nguyên hình thức kỷ luật | C27: =SUM(D27:J27) -> 0
B28: Thay đổi hình thức kỷ luật | C28: =SUM(D28:J28) -> 0
B29: Tăng hình thức kỷ luật | C29: =SUM(D29:J29) -> 0
B30: Giảm hình thức kỷ luật | C30: =SUM(D30:J30) -> 0
B31: Xoá kỷ luật | C31: =SUM(D31:J31) -> 0
B32: GQ đúng thời gian quy định | C32: =SUM(D32:J32) -> 0
C35: =IF(C7=C12, "Đúng","Sai") -> Đúng | D35: =IF(D7=D12, "Đúng","Sai") -> Đúng | E35: =IF(E7=E12, "Đúng","Sai") -> Đúng | F35: =IF(F7=F12, "Đúng","Sai") -> Đúng | G35: =IF(G7=G12, "Đúng","Sai") -> Đúng | H35: =IF(H7=H12, "Đúng","Sai") -> Đúng | I35: =IF(I7=I12, "Đúng","Sai") -> Đúng | J35: =IF(J7=J12, "Đúng","Sai") -> Đúng | ... V35: =IF(V7=V12, "Đúng","Sai") -> Đúng
C36: =IF(C32<=C7, "Đúng","Sai") -> Đúng | D36: =IF(D32<=D7, "Đúng","Sai") -> Đúng | E36: =IF(E32<=E7, "Đúng","Sai") -> Đúng | F36: =IF(F32<=F7, "Đúng","Sai") -> Đúng | G36: =IF(G32<=G7, "Đúng","Sai") -> Đúng | H36: =IF(H32<=H7, "Đúng","Sai") -> Đúng | I36: =IF(I32<=I7, "Đúng","Sai") -> Đúng | J36: =IF(J32<=J7, "Đúng","Sai") -> Đúng

Sheet B12
A1: KIỂM TRA TỔ CHỨC ĐẢNG KHI CÓ DẤU HIỆU VI PHẠM CỦA ỦY BAN KIỂM TRA CÁC CẤP | P1: Biểu 12
O2: (ĐVT: Tổ chức đảng)
A3: TT | B3: Tổ chức đảng được kiểm tra | C3: Tổng số tổ chức đảng được kiểm tra | D3: Cấp kiểm tra | H3: Nội dung kiểm tra | O3: Kết luận
D4: UBKT Trung ương | E4: UBKT tỉnh uỷ và tương đương | F4: UBKT đảng ủy cấp trên trực tiếp cơ sở và tương đương | G4: UBKT đảng uỷ cơ sở | H4: Việc chấp hành Cương lĩnh chính trị, Điều lệ Đảng, chủ trương, nghị quyết, chỉ thị, quy định, quyết định, quy chế, kết luận của Đảng | I4: Việc chấp hành chính sách, pháp luật của Nhà nước | J4: Việc chấp hành các nguyên tắc, tổ chức và hoạt động của Đảng, giữ gìn đoàn kết nội bộ, quy chế làm việc, chế độ công tác, thực hiện dân chủ trong Đảng | K4: Việc thực hành tiết kiệm, phòng, chống tham nhũng, lãng phí, tiêu cực | L4: Quản lý, rèn luyện phẩm chất, đạo đức, lối sống của cán bộ, đảng viên | M4: Công tác cán bộ | N4: Khác | O4: Tổ chức đảng có vi phạm | P4: Trong đó
P5: Phải thi hành kỷ luật | Q5: Đã thi hành kỷ luật | R5: Đề nghị cấp có thẩm quyền thi hành kỷ luật
A6: 1 | B6: 2 | C6: 3 | D6: 4 | E6: 5 | F6: 6 | G6: 7 | H6: 8 | I6: 9 | J6: 10 | K6: 11 | L6: 12 | M6: 13 | N6: 14 | O6: 15 | P6: 16 | Q6: 17 | R6: 18
A7: I | B7: Tổ chức đảng được kiểm tra | C7: =SUM(C8:C16) -> 0 | D7: =SUM(D8:D16) -> 0 | E7: =SUM(E8:E16) -> 0 | F7: =SUM(F8:F16) -> 0 | G7: =SUM(G8:G16) -> 0 | H7: =SUM(H8:H16) -> 0 | I7: =SUM(I8:I16) -> 0 | J7: =SUM(J8:J16) -> 0 | ... R7: =SUM(R8:R16) -> 0 | S7: =IF(AND(H7<=C7,I7<=C7,J7<=C7,K7<=C7,L7<=C7,M7<=C7,N7<=C7),"Đúng","Sai") -> Đúng | T7: =IF(AND(R7<=P7,Q7<=P7,P7<=O7,O7<=C7),"Đúng","Sai") -> Đúng
B8: Các CQ tham mưu của Trung ương | C8: =SUM(D8:G8) -> 0 | S8: =IF(AND(H8<=C8,I8<=C8,J8<=C8,K8<=C8,L8<=C8,M8<=C8,N8<=C8),"Đúng","Sai") -> Đúng | T8: =IF(AND(R8<=P8,Q8<=P8,P8<=O8,O8<=C8),"Đúng","Sai") -> Đúng
B9: Tỉnh ủy, BTV tỉnh ủy và tương đương | C9: =SUM(D9:G9) -> 0 | S9: =IF(AND(H9<=C9,I9<=C9,J9<=C9,K9<=C9,L9<=C9,M9<=C9,N9<=C9),"Đúng","Sai") -> Đúng | T9: =IF(AND(R9<=P9,Q9<=P9,P9<=O9,O9<=C9),"Đúng","Sai") -> Đúng
B10: Các CQ tham mưu của cấp ủy tỉnh và tương đương | C10: =SUM(D10:G10) -> 0 | S10: =IF(AND(H10<=C10,I10<=C10,J10<=C10,K10<=C10,L10<=C10,M10<=C10,N10<=C10),"Đúng","Sai") -> Đúng | T10: =IF(AND(R10<=P10,Q10<=P10,P10<=O10,O10<=C10),"Đúng","Sai") -> Đúng
B11: Đảng ủy, BTV ĐU cấp trên trực tiếp cơ sở và tương đương | C11: =SUM(D11:G11) -> 0 | S11: =IF(AND(H11<=C11,I11<=C11,J11<=C11,K11<=C11,L11<=C11,M11<=C11,N11<=C11),"Đúng","Sai") -> Đúng | T11: =IF(AND(R11<=P11,Q11<=P11,P11<=O11,O11<=C11),"Đúng","Sai") -> Đúng
B12: Các CQ tham mưu của cấp ủy cấp trên trực tiếp cơ sở và tương đương | C12: =SUM(D12:G12) -> 0 | S12: =IF(AND(H12<=C12,I12<=C12,J12<=C12,K12<=C12,L12<=C12,M12<=C12,N12<=C12),"Đúng","Sai") -> Đúng | T12: =IF(AND(R12<=P12,Q12<=P12,P12<=O12,O12<=C12),"Đúng","Sai") -> Đúng
B13: Đảng ủy cơ sở, BTV đảng ủy cơ sở | C13: =SUM(D13:G13) -> 0 | S13: =IF(AND(H13<=C13,I13<=C13,J13<=C13,K13<=C13,L13<=C13,M13<=C13,N13<=C13),"Đúng","Sai") -> Đúng | T13: =IF(AND(R13<=P13,Q13<=P13,P13<=O13,O13<=C13),"Đúng","Sai") -> Đúng
B14: Đảng ủy bộ phận | C14: =SUM(D14:G14) -> 0 | S14: =IF(AND(H14<=C14,I14<=C14,J14<=C14,K14<=C14,L14<=C14,M14<=C14,N14<=C14),"Đúng","Sai") -> Đúng | T14: =IF(AND(R14<=P14,Q14<=P14,P14<=O14,O14<=C14),"Đúng","Sai") -> Đúng
B15: Chi bộ, Chi ủy | C15: =SUM(D15:G15) -> 0 | S15: =IF(AND(H15<=C15,I15<=C15,J15<=C15,K15<=C15,L15<=C15,M15<=C15,N15<=C15),"Đúng","Sai") -> Đúng | T15: =IF(AND(R15<=P15,Q15<=P15,P15<=O15,O15<=C15),"Đúng","Sai") -> Đúng
B16: Khác (ban chỉ đạo, tiểu ban, hội đồng, tổ đảng,...) | C16: =SUM(D16:G16) -> 0 | S16: =IF(AND(H16<=C16,I16<=C16,J16<=C16,K16<=C16,L16<=C16,M16<=C16,N16<=C16),"Đúng","Sai") -> Đúng | T16: =IF(AND(R16<=P16,Q16<=P16,P16<=O16,O16<=C16),"Đúng","Sai") -> Đúng
A17: II | B17: Kết luận
B18: Tổ chức đảng có vi phạm | C18: =SUM(D18:G18) -> 0 | S18: =IF(AND(H18<=C18,I18<=C18,J18<=C18,K18<=C18,L18<=C18,M18<=C18,N18<=C18),"Đúng","Sai") -> Đúng
B19: Phải thi hành kỷ luật | C19: =SUM(D19:G19) -> 0 | S19: =IF(AND(H19<=C19,I19<=C19,J19<=C19,K19<=C19,L19<=C19,M19<=C19,N19<=C19),"Đúng","Sai") -> Đúng
B20: Đã thi hành kỷ luật | C20: =SUM(D20:G20) -> 0 | S20: =IF(AND(H20<=C20,I20<=C20,J20<=C20,K20<=C20,L20<=C20,M20<=C20,N20<=C20),"Đúng","Sai") -> Đúng
B21: Đề nghị cấp có thẩm quyền thi hành kỷ luật | C21: =SUM(D21:G21) -> 0 | S21: =IF(AND(H21<=C21,I21<=C21,J21<=C21,K21<=C21,L21<=C21,M21<=C21,N21<=C21),"Đúng","Sai") -> Đúng
C22: =IF(AND(C20<=C19,C19<=C18,C18<=C7),"Đúng","Sai") -> Đúng | D22: =IF(AND(D20<=D19,D19<=D18,D18<=D7),"Đúng","Sai") -> Đúng | E22: =IF(AND(E20<=E19,E19<=E18,E18<=E7),"Đúng","Sai") -> Đúng | F22: =IF(AND(F20<=F19,F19<=F18,F18<=F7),"Đúng","Sai") -> Đúng | G22: =IF(AND(G20<=G19,G19<=G18,G18<=G7),"Đúng","Sai") -> Đúng | H22: =IF(AND(H20<=H19,H19<=H18,H18<=H7),"Đúng","Sai") -> Đúng | I22: =IF(AND(I20<=I19,I19<=I18,I18<=I7),"Đúng","Sai") -> Đúng | J22: =IF(AND(J20<=J19,J19<=J18,J18<=J7),"Đúng","Sai") -> Đúng | ... N22: =IF(AND(N20<=N19,N19<=N18,N18<=N7),"Đúng","Sai") -> Đúng
C23: =IF(C18=O7,"Đúng","Sai") -> Đúng
C24: =IF(C19=P7,"Đúng","Sai") -> Đúng
C25: =IF(C20=Q7,"Đúng","Sai") -> Đúng
C26: =IF(C21=R7,"Đúng","Sai") -> Đúng

Sheet B13
A1: KIỂM TRA ĐẢNG VIÊN KHI CÓ DẤU HIỆU VI PHẠM CỦA ỦY BAN KIỂM TRA CÁC CẤP | R1: Biểu 13
Q2: (ĐVT: Đảng viên)
A3: TT | B3: Đảng viên được kiểm tra | C3: Tổng số đảng viên được kiểm tra | D3: Cấp kiểm tra | H3: Nội dung kiểm tra | Q3: Kết luận
D4: UBKT Trung ương | E4: UBKT tỉnh uỷ và tương đương | F4: UBKT đảng ủy cấp trên trực tiếp cơ sở và tương đương | G4: UBKT đảng uỷ cơ sở | H4: Những điều đảng viên không được làm | I4: Tiêu chuẩn đảng viên, tiêu chuẩn cấp ủy viên | J4: Việc thực hiện nhiệm vụ đảng viên, cấp ủy viên | K4: Việc chấp hành nghị quyết, chỉ thị, quy định, kết luận của Đảng; chính sách, pháp luật của Nhà nước | L4: Việc chấp hành quy chế làm việc, nguyên tắc tập trung dân chủ, chế độ công tác | M4: Tư tưởng chính trị, đạo đức, lối sống, trách nhiệm nêu gương | N4: Tham nhũng, cố ý làm trái | O4: Kê khai tài sản, thu nhập | P4: Khác | Q4: Có vi phạm | R4: Trong đó
R5: Phải thi hành kỷ luật | S5: Đã thi hành kỷ luật | T5: Đề nghị cấp có thẩm quyền thi hành kỷ luật
A6: 1 | B6: 2 | C6: 3 | D6: 4 | E6: 5 | F6: 6 | G6: 7 | H6: 8 | I6: 9 | J6: 10 | K6: 11 | L6: 12 | M6: 13 | N6: 14 | O6: 15 | P6: 16 | Q6: 17 | R6: 18 | S6: 19 | T6: 20
A7: I | B7: Cấp quản lý đảng viên | C7: =SUM(C8:C11) -> 0 | D7: =SUM(D8:D11) -> 0 | E7: =SUM(E8:E11) -> 0 | F7: =SUM(F8:F11) -> 0 | G7: =SUM(G8:G11) -> 0 | H7: =SUM(H8:H11) -> 0 | I7: =SUM(I8:I11) -> 0 | J7: =SUM(J8:J11) -> 0 | ... T7: =SUM(T8:T11) -> 0 | U7: =IF(AND(H7<=C7,I7<=C7,J7<=C7,K7<=C7,L7<=C7,M7<=C7,N7<=C7,O7<=C7,P7<=C7),"Đúng","Sai") -> Đúng | V7: =IF(AND(T7<=R7,S7<=R7,R7<=Q7,Q7<=C7),"Đúng","Sai") -> Đúng
B8: Trung ương | C8: =SUM(D8:G8) -> 0 | U8: =IF(AND(H8<=C8,I8<=C8,J8<=C8,K8<=C8,L8<=C8,M8<=C8,N8<=C8,O8<=C8,P8<=C8),"Đúng","Sai") -> Đúng | V8: =IF(AND(T8<=R8,S8<=R8,R8<=Q8,Q8<=C8),"Đúng","Sai") -> Đúng
B9: Cấp tỉnh và tương đương | C9: =SUM(D9:G9) -> 0 | U9: =IF(AND(H9<=C9,I9<=C9,J9<=C9,K9<=C9,L9<=C9,M9<=C9,N9<=C9,O9<=C9,P9<=C9),"Đúng","Sai") -> Đúng | V9: =IF(AND(T9<=R9,S9<=R9,R9<=Q9,Q9<=C9),"Đúng","Sai") -> Đúng
B10: Cấp trên trực tiếp cơ sở và tương đương | C10: =SUM(D10:G10) -> 0 | U10: =IF(AND(H10<=C10,I10<=C10,J10<=C10,K10<=C10,L10<=C10,M10<=C10,N10<=C10,O10<=C10,P10<=C10),"Đúng","Sai") -> Đúng | V10: =IF(AND(T10<=R10,S10<=R10,R10<=Q10,Q10<=C10),"Đúng","Sai") -> Đúng
B11: Cấp cơ sở | C11: =SUM(D11:G11) -> 0 | U11: =IF(AND(H11<=C11,I11<=C11,J11<=C11,K11<=C11,L11<=C11,M11<=C11,N11<=C11,O11<=C11,P11<=C11),"Đúng","Sai") -> Đúng | V11: =IF(AND(T11<=R11,S11<=R11,R11<=Q11,Q11<=C11),"Đúng","Sai") -> Đúng
A12: II | B12: Là cấp uỷ viên các cấp | C12: =SUM(C13:C18) -> 0 | D12: =SUM(D13:D18) -> 0 | E12: =SUM(E13:E18) -> 0 | F12: =SUM(F13:F18) -> 0 | G12: =SUM(G13:G18) -> 0 | H12: =SUM(H13:H18) -> 0 | I12: =SUM(I13:I18) -> 0 | J12: =SUM(J13:J18) -> 0 | ... T12: =SUM(T13:T18) -> 0 | U12: =IF(AND(H12<=C12,I12<=C12,J12<=C12,K12<=C12,L12<=C12,M12<=C12,N12<=C12,O12<=C12,P12<=C12),"Đúng","Sai") -> Đúng | V12: =IF(AND(T12<=R12,S12<=R12,R12<=Q12,Q12<=C12),"Đúng","Sai") -> Đúng
B13: Uỷ viên Trung ương | C13: =SUM(D13:G13) -> 0 | U13: =IF(AND(H13<=C13,I13<=C13,J13<=C13,K13<=C13,L13<=C13,M13<=C13,N13<=C13,O13<=C13,P13<=C13),"Đúng","Sai") -> Đúng | V13: =IF(AND(T13<=R13,S13<=R13,R13<=Q13,Q13<=C13),"Đúng","Sai") -> Đúng
B14: Tỉnh uỷ viên và tương đương | C14: =SUM(D14:G14) -> 0 | U14: =IF(AND(H14<=C14,I14<=C14,J14<=C14,K14<=C14,L14<=C14,M14<=C14,N14<=C14,O14<=C14,P14<=C14),"Đúng","Sai") -> Đúng | V14: =IF(AND(T14<=R14,S14<=R14,R14<=Q14,Q14<=C14),"Đúng","Sai") -> Đúng
B15: Đảng ủy viên ĐU cấp trên trực tiếp cơ sở và tương đương | C15: =SUM(D15:G15) -> 0 | U15: =IF(AND(H15<=C15,I15<=C15,J15<=C15,K15<=C15,L15<=C15,M15<=C15,N15<=C15,O15<=C15,P15<=C15),"Đúng","Sai") -> Đúng | V15: =IF(AND(T15<=R15,S15<=R15,R15<=Q15,Q15<=C15),"Đúng","Sai") -> Đúng
B16: Đảng uỷ viên đảng ủy cơ sở | C16: =SUM(D16:G16) -> 0 | U16: =IF(AND(H16<=C16,I16<=C16,J16<=C16,K16<=C16,L16<=C16,M16<=C16,N16<=C16,O16<=C16,P16<=C16),"Đúng","Sai") -> Đúng | V16: =IF(AND(T16<=R16,S16<=R16,R16<=Q16,Q16<=C16),"Đúng","Sai") -> Đúng
B17: Đảng ủy viên đảng ủy bộ phận | C17: =SUM(D17:G17) -> 0 | U17: =IF(AND(H17<=C17,I17<=C17,J17<=C17,K17<=C17,L17<=C17,M17<=C17,N17<=C17,O17<=C17,P17<=C17),"Đúng","Sai") -> Đúng | V17: =IF(AND(T17<=R17,S17<=R17,R17<=Q17,Q17<=C17),"Đúng","Sai") -> Đúng
B18: Chi uỷ viên | C18: =SUM(D18:G18) -> 0 | U18: =IF(AND(H18<=C18,I18<=C18,J18<=C18,K18<=C18,L18<=C18,M18<=C18,N18<=C18,O18<=C18,P18<=C18),"Đúng","Sai") -> Đúng | V18: =IF(AND(T18<=R18,S18<=R18,R18<=Q18,Q18<=C18),"Đúng","Sai") -> Đúng
A19: III | B19: Đảng viên ở các lĩnh vực | C19: =SUM(C20:C26) -> 0 | D19: =SUM(D20:D26) -> 0 | E19: =SUM(E20:E26) -> 0 | F19: =SUM(F20:F26) -> 0 | G19: =SUM(G20:G26) -> 0 | H19: =SUM(H20:H26) -> 0 | I19: =SUM(I20:I26) -> 0 | J19: =SUM(J20:J26) -> 0 | ... T19: =SUM(T20:T26) -> 0 | U19: =IF(AND(H19<=C19,I19<=C19,J19<=C19,K19<=C19,L19<=C19,M19<=C19,N19<=C19,O19<=C19,P19<=C19),"Đúng","Sai") -> Đúng | V19: =IF(AND(T19<=R19,S19<=R19,R19<=Q19,Q19<=C19),"Đúng","Sai") -> Đúng
B20: Đảng | C20: =SUM(D20:G20) -> 0 | U20: =IF(AND(H20<=C20,I20<=C20,J20<=C20,K20<=C20,L20<=C20,M20<=C20,N20<=C20,O20<=C20,P20<=C20),"Đúng","Sai") -> Đúng | V20: =IF(AND(T20<=R20,S20<=R20,R20<=Q20,Q20<=C20),"Đúng","Sai") -> Đúng
B21: Hành chính, Nhà nước | C21: =SUM(D21:G21) -> 0 | U21: =IF(AND(H21<=C21,I21<=C21,J21<=C21,K21<=C21,L21<=C21,M21<=C21,N21<=C21,O21<=C21,P21<=C21),"Đúng","Sai") -> Đúng | V21: =IF(AND(T21<=R21,S21<=R21,R21<=Q21,Q21<=C21),"Đúng","Sai") -> Đúng
B22: Đoàn thể | C22: =SUM(D22:G22) -> 0 | U22: =IF(AND(H22<=C22,I22<=C22,J22<=C22,K22<=C22,L22<=C22,M22<=C22,N22<=C22,O22<=C22,P22<=C22),"Đúng","Sai") -> Đúng | V22: =IF(AND(T22<=R22,S22<=R22,R22<=Q22,Q22<=C22),"Đúng","Sai") -> Đúng
B23: Lực lượng vũ trang | C23: =SUM(D23:G23) -> 0 | U23: =IF(AND(H23<=C23,I23<=C23,J23<=C23,K23<=C23,L23<=C23,M23<=C23,N23<=C23,O23<=C23,P23<=C23),"Đúng","Sai") -> Đúng | V23: =IF(AND(T23<=R23,S23<=R23,R23<=Q23,Q23<=C23),"Đúng","Sai") -> Đúng
B24: Sự nghiệp công lập | C24: =SUM(D24:G24) -> 0 | U24: =IF(AND(H24<=C24,I24<=C24,J24<=C24,K24<=C24,L24<=C24,M24<=C24,N24<=C24,O24<=C24,P24<=C24),"Đúng","Sai") -> Đúng | V24: =IF(AND(T24<=R24,S24<=R24,R24<=Q24,Q24<=C24),"Đúng","Sai") -> Đúng
B25: Sản xuất kinh doanh, dịch vụ | C25: =SUM(D25:G25) -> 0 | U25: =IF(AND(H25<=C25,I25<=C25,J25<=C25,K25<=C25,L25<=C25,M25<=C25,N25<=C25,O25<=C25,P25<=C25),"Đúng","Sai") -> Đúng | V25: =IF(AND(T25<=R25,S25<=R25,R25<=Q25,Q25<=C25),"Đúng","Sai") -> Đúng
B26: Lĩnh vực khác | C26: =SUM(D26:G26) -> 0 | U26: =IF(AND(H26<=C26,I26<=C26,J26<=C26,K26<=C26,L26<=C26,M26<=C26,N26<=C26,O26<=C26,P26<=C26),"Đúng","Sai") -> Đúng | V26: =IF(AND(T26<=R26,S26<=R26,R26<=Q26,Q26<=C26),"Đúng","Sai") -> Đúng
A27: IV | B27: Kết luận
B28: Có vi phạm | C28: =SUM(D28:G28) -> 0 | U28: =IF(AND(H28<=C28,I28<=C28,J28<=C28,K28<=C28,L28<=C28,M28<=C28,N28<=C28,O28<=C28,P28<=C28),"Đúng","Sai") -> Đúng
B29: Phải thi hành kỷ luật | C29: =SUM(D29:G29) -> 0 | U29: =IF(AND(H29<=C29,I29<=C29,J29<=C29,K29<=C29,L29<=C29,M29<=C29,N29<=C29,O29<=C29,P29<=C29),"Đúng","Sai") -> Đúng
B30: Đã thi hành kỷ luật | C30: =SUM(D30:G30) -> 0 | U30: =IF(AND(H30<=C30,I30<=C30,J30<=C30,K30<=C30,L30<=C30,M30<=C30,N30<=C30,O30<=C30,P30<=C30),"Đúng","Sai") -> Đúng
B31: Đề nghị cấp có thẩm quyền thi hành kỷ luật | C31: =SUM(D31:G31) -> 0 | U31: =IF(AND(H31<=C31,I31<=C31,J31<=C31,K31<=C31,L31<=C31,M31<=C31,N31<=C31,O31<=C31,P31<=C31),"Đúng","Sai") -> Đúng
C32: =IF(C7=C19, "Đúng","Sai") -> Đúng | D32: =IF(D7=D19, "Đúng","Sai") -> Đúng | E32: =IF(E7=E19, "Đúng","Sai") -> Đúng | F32: =IF(F7=F19, "Đúng","Sai") -> Đúng | G32: =IF(G7=G19, "Đúng","Sai") -> Đúng | H32: =IF(H7=H19, "Đúng","Sai") -> Đúng | I32: =IF(I7=I19, "Đúng","Sai") -> Đúng | J32: =IF(J7=J19, "Đúng","Sai") -> Đúng | ... T32: =IF(T7=T19, "Đúng","Sai") -> Đúng
C33: =IF(AND(C30<=C29,C29<=C28,C28<=C7),"Đúng","Sai") -> Đúng | D33: =IF(AND(D30<=D29,D29<=D28,D28<=D7),"Đúng","Sai") -> Đúng | E33: =IF(AND(E30<=E29,E29<=E28,E28<=E7),"Đúng","Sai") -> Đúng | F33: =IF(AND(F30<=F29,F29<=F28,F28<=F7),"Đúng","Sai") -> Đúng | G33: =IF(AND(G30<=G29,G29<=G28,G28<=G7),"Đúng","Sai") -> Đúng | H33: =IF(AND(H30<=H29,H29<=H28,H28<=H7),"Đúng","Sai") -> Đúng | I33: =IF(AND(I30<=I29,I29<=I28,I28<=I7),"Đúng","Sai") -> Đúng | J33: =IF(AND(J30<=J29,J29<=J28,J28<=J7),"Đúng","Sai") -> Đúng | ... P33: =IF(AND(P30<=P29,P29<=P28,P28<=P7),"Đúng","Sai") -> Đúng
C34: =IF(C28=Q19,"Đúng","Sai") -> Đúng
C35: =IF(C29=R19,"Đúng","Sai") -> Đúng
C36: =IF(C30=S19,"Đúng","Sai") -> Đúng
C37: =IF(C31=T19,"Đúng","Sai") -> Đúng

Sheet B14
A1: ỦY BAN KIỂM TRA CÁC CẤP KIỂM TRA TỔ CHỨC ĐẢNG, ỦY BAN KIỂM TRA CẤP DƯỚI THỰC HIỆN NHIỆM VỤ KIỂM TRA, GIÁM SÁT | Q1: Biểu 14
L3: (ĐVT: Tổ chức đảng)
A4: TT | B4: Nội dung | C4: Tổng số tổ chức đảng được kiểm tra | D4: Cấp kiểm tra | H4: Kết luận
D5: UBKT Trung ương | E5: UBKT tỉnh uỷ và tương đương | F5: UBKT đảng ủy cấp trên trực tiếp cơ sở và tương đương | G5: UBKT đảng uỷ cơ sở | H5: Số tổ chức đảng thực hiện tốt nhiệm vụ kiểm tra, giám sát | I5: Số tổ chức đảng thực hiện chưa tốt nhiệm vụ kiểm tra, giám sát | J5: Trong đó
J6: Số không có chương trình, kế hoạch kiểm tra, giám sát | K6: Số chưa làm tốt công tác lãnh đạo, chỉ đạo thực hiện nhiệm vụ kiểm tra, giám sát | L6: Số chưa thực hiện tốt nhiệm vụ kiểm tra, giám sát | M6: Số chưa làm tốt việc lãnh đạo, chỉ đạo, tổ chức hoạt động của UBKT | N6: Số chưa làm tốt việc lãnh đạo, chỉ đạo, xây dựng tổ chức bộ máy, đội ngũ cán bộ của cơ quan UBKT cấp dưới | O6: Số vụ việc bị cấp kiểm tra rút hồ sơ để kiểm tra trực tiếp | P6: Số số vụ việc bị cấp kiểm tra yêu cầu: kiểm điểm; kiểm tra; giám sát | Q6: Số vụ việc bị cấp kiểm tra yêu cầu xem xét thi hành kỷ luật | R6: Số vụ việc bị cấp kiểm tra yêu cầu hoàn thành kiểm tra, giám sát
A7: 1 | B7: 2 | C7: 3 | D7: 4 | E7: 5 | F7: 6 | G7: 7 | H7: 8 | I7: 9 | J7: 10 | K7: 11 | L7: 12 | M7: 13 | N7: 14 | O7: 15 | P7: 16 | Q7: 17 | R7: 18
A8: I | B8: Tổ chức đảng được kiểm tra | C8: =SUM(C9:C16) -> 1 | D8: =SUM(D9:D16) -> 0 | E8: =SUM(E9:E16) -> 0 | F8: =SUM(F9:F16) -> 1 | G8: =SUM(G9:G16) -> 0 | H8: =SUM(H9:H16) -> 1 | I8: =SUM(I9:I16) -> 0 | J8: =SUM(J9:J16) -> 0 | ... R8: =SUM(R9:R16) -> 0 | S8: =IF(AND(J8<=I8,K8<=I8,L8<=I8,M8<=I8,N8<=I8),"Đúng","Sai") -> Đúng | T8: =IF(AND(C8=H8+I8),"Đúng","Sai") -> Đúng
B9: Tỉnh ủy, BTV tỉnh ủy và tương đương | C9: =SUM(D9:G9) -> 0 | S9: =IF(AND(J9<=I9,K9<=I9,L9<=I9,M9<=I9,N9<=I9),"Đúng","Sai") -> Đúng | T9: =IF(AND(C9=H9+I9),"Đúng","Sai") -> Đúng
B10: UBKT tỉnh ủy và tương đương | C10: =SUM(D10:G10) -> 0 | S10: =IF(AND(J10<=I10,K10<=I10,L10<=I10,M10<=I10,N10<=I10),"Đúng","Sai") -> Đúng | T10: =IF(AND(C10=H10+I10),"Đúng","Sai") -> Đúng
B11: Đảng ủy, BTV ĐU cấp trên trực tiếp cơ sở và tương đương | C11: =SUM(D11:G11) -> 0 | S11: =IF(AND(J11<=I11,K11<=I11,L11<=I11,M11<=I11,N11<=I11),"Đúng","Sai") -> Đúng | T11: =IF(AND(C11=H11+I11),"Đúng","Sai") -> Đúng
B12: UBKT đảng ủy cấp trên trực tiếp cơ sở và tương đương | C12: =SUM(D12:G12) -> 0 | S12: =IF(AND(J12<=I12,K12<=I12,L12<=I12,M12<=I12,N12<=I12),"Đúng","Sai") -> Đúng | T12: =IF(AND(C12=H12+I12),"Đúng","Sai") -> Đúng
B13: Đảng ủy cơ sở, BTV Đảng ủy cơ sở | C13: =SUM(D13:G13) -> 0 | S13: =IF(AND(J13<=I13,K13<=I13,L13<=I13,M13<=I13,N13<=I13),"Đúng","Sai") -> Đúng | T13: =IF(AND(C13=H13+I13),"Đúng","Sai") -> Đúng
B14: UBKT đảng ủy cơ sở | C14: =SUM(D14:G14) -> 0 | S14: =IF(AND(J14<=I14,K14<=I14,L14<=I14,M14<=I14,N14<=I14),"Đúng","Sai") -> Đúng | T14: =IF(AND(C14=H14+I14),"Đúng","Sai") -> Đúng
B15: Đảng ủy bộ phận | C15: =SUM(D15:G15) -> 0 | S15: =IF(AND(J15<=I15,K15<=I15,L15<=I15,M15<=I15,N15<=I15),"Đúng","Sai") -> Đúng | T15: =IF(AND(C15=H15+I15),"Đúng","Sai") -> Đúng
B16: Chi bộ, Chi ủy | C16: =SUM(D16:G16) -> 1 | F16: 1 | H16: 1 | S16: =IF(AND(J16<=I16,K16<=I16,L16<=I16,M16<=I16,N16<=I16),"Đúng","Sai") -> Đúng | T16: =IF(AND(C16=H16+I16),"Đúng","Sai") -> Đúng
A17: II | B17: Cấp kiểm tra | C17: =SUM(C18:C21) -> 0 | D17: =SUM(D18:D21) -> 0 | E17: =SUM(E18:E21) -> 0 | F17: =SUM(F18:F21) -> 0 | G17: =SUM(G18:G21) -> 0 | H17: =SUM(H18:H21) -> 0 | I17: =SUM(I18:I21) -> 0 | J17: =SUM(J18:J21) -> 0 | ... R17: =SUM(R18:R21) -> 0
B18: UBKT Trung ương
B19: UBKT tỉnh uỷ và tương đương
B20: UBKT đảng ủy cấp trên trực tiếp cơ sở và tương đương
B21: UBKT đảng uỷ cơ sở

Sheet B15
A1: ỦY BAN KIỂM TRA CÁC CẤP KIỂM TRA VIỆC THI HÀNH KỶ LUẬT CỦA TỔ CHỨC ĐẢNG CẤP DƯỚI | Z1: Biểu 15
A3: TT | B3: Nội dung | C3: Tổng số tổ chức đảng được kiểm tra | D3: Cấp kiểm tra (tổ chức đảng) | H3: Số ĐV bị THKL trong mốc thời gian kiểm tra | J3: Đảng viên bị THKL do từng cấp quản lý | N3: Số TCĐ bị THKL trong mốc thời gian kiểm tra | P3: Kết luận | V3: Kiến nghị sau kiểm tra
D4: UBKT Trung ương | E4: UBKT tỉnh uỷ và tương đương | F4: UBKT đảng ủy cấp trên trực tiếp cơ sở và tương đương | G4: UBKT đảng uỷ cơ sở | H4: Tổng số đảng viên | I4: Trong đó số ĐV có khiếu nại sau khi bị THKL | J4: Cấp tỉnh và tương đương | K4: Cấp trên trực tiếp cơ sở và tương đương | L4: Cấp cơ sở và tương đương | M4: Chi bộ | N4: Tổng số tổ chức đảng | O4: Trong đó số TCĐ có khiếu nại sau khi bị THKL | P4: Số tổ chức đảng làm tốt công tác THKL | Q4: Số tổ chức đảng chưa làm tốt công tác THKL | R4: Số bị THKL không đúng thẩm quyền, nguyên tắc, thủ tục | T4: Số bị THKL không đúng hình thức; vi phạm đến mức kỷ luật mà không THKL; bị oan, sai | V4: Tăng hình thức kỷ luật | X4: Giảm hình thức kỷ luật | Z4: Xóa kỷ luật
R5: Đảng viên | S5: TCĐ | T5: Đảng viên | U5: TCĐ | V5: Đảng viên | W5: TCĐ | X5: Đảng viên | Y5: TCĐ | Z5: Đảng viên | AA5: TCĐ
A6: 1 | B6: 2 | C6: 3 | D6: 4 | E6: 5 | F6: 6 | G6: 7 | H6: 8 | I6: 9 | J6: 10 | K6: 11 | L6: 12 | M6: 13 | N6: 14 | O6: 15 | P6: 16 | Q6: 17 | R6: 18 | S6: 19 | T6: 20 | U6: 21 | V6: 22 | W6: 23 | X6: 24 | Y6: 25 | Z6: 26 | AA6: 27
A7: I | B7: Tổ chức đảng được kiểm tra | C7: =SUM(C8:C14) -> 0 | D7: =SUM(D8:D14) -> 0 | E7: =SUM(E8:E14) -> 0 | F7: =SUM(F8:F14) -> 0 | G7: =SUM(G8:G14) -> 0 | H7: =SUM(H8:H14) -> 0 | I7: =SUM(I8:I14) -> 0 | J7: =SUM(J8:J14) -> 0 | ... AA7: =SUM(AA8:AA14) -> 0
B8: Tỉnh ủy, BTV tỉnh ủy và tương đương | C8: =SUM(D8:G8) -> 0 | H8: =SUM(J8:M8) -> 0 | AB8: =IF(AND((R8+T8)<=I8,I8<=H8,O8<=N8,(S8+U8)<=O8,(V8+X8+Z8)<=I8,(W8+Y8+AA8)<=O8),"Đúng","Sai") -> Đúng | AC8: =IF(H8=J8+K8+L8+M8,"Đúng","Sai") -> Đúng | AD8: =IF(C8=P8+Q8,"Đúng","Sai") -> Đúng
B9: UBKT tỉnh ủy và tương đương | C9: =SUM(D9:G9) -> 0 | H9: =SUM(J9:M9) -> 0 | AB9: =IF(AND((R9+T9)<=I9,I9<=H9,O9<=N9,(S9+U9)<=O9,(V9+X9+Z9)<=I9,(W9+Y9+AA9)<=O9),"Đúng","Sai") -> Đúng | AC9: =IF(H9=J9+K9+L9+M9,"Đúng","Sai") -> Đúng | AD9: =IF(C9=P9+Q9,"Đúng","Sai") -> Đúng
B10: Đảng ủy, BTV ĐU cấp trên trực tiếp cơ sở và tương đương | C10: =SUM(D10:G10) -> 0 | H10: =SUM(J10:M10) -> 0 | AB10: =IF(AND((R10+T10)<=I10,I10<=H10,O10<=N10,(S10+U10)<=O10,(V10+X10+Z10)<=I10,(W10+Y10+AA10)<=O10),"Đúng","Sai") -> Đúng | AC10: =IF(H10=J10+K10+L10+M10,"Đúng","Sai") -> Đúng | AD10: =IF(C10=P10+Q10,"Đúng","Sai") -> Đúng
B11: UBKT đảng ủy cấp trên trực tiếp cơ sở và tương đương | C11: =SUM(D11:G11) -> 0 | H11: =SUM(J11:M11) -> 0 | AB11: =IF(AND((R11+T11)<=I11,I11<=H11,O11<=N11,(S11+U11)<=O11,(V11+X11+Z11)<=I11,(W11+Y11+AA11)<=O11),"Đúng","Sai") -> Đúng | AC11: =IF(H11=J11+K11+L11+M11,"Đúng","Sai") -> Đúng | AD11: =IF(C11=P11+Q11,"Đúng","Sai") -> Đúng
B12: Đảng ủy cơ sở, BTV Đảng ủy cơ sở | C12: =SUM(D12:G12) -> 0 | H12: =SUM(J12:M12) -> 0 | AB12: =IF(AND((R12+T12)<=I12,I12<=H12,O12<=N12,(S12+U12)<=O12,(V12+X12+Z12)<=I12,(W12+Y12+AA12)<=O12),"Đúng","Sai") -> Đúng | AC12: =IF(H12=J12+K12+L12+M12,"Đúng","Sai") -> Đúng | AD12: =IF(C12=P12+Q12,"Đúng","Sai") -> Đúng
B13: UBKT đảng ủy cơ sở | C13: =SUM(D13:G13) -> 0 | H13: =SUM(J13:M13) -> 0 | AB13: =IF(AND((R13+T13)<=I13,I13<=H13,O13<=N13,(S13+U13)<=O13,(V13+X13+Z13)<=I13,(W13+Y13+AA13)<=O13),"Đúng","Sai") -> Đúng | AC13: =IF(H13=J13+K13+L13+M13,"Đúng","Sai") -> Đúng | AD13: =IF(C13=P13+Q13,"Đúng","Sai") -> Đúng
B14: Chi bộ | C14: =SUM(D14:G14) -> 0 | H14: =SUM(J14:M14) -> 0 | AB14: =IF(AND((R14+T14)<=I14,I14<=H14,O14<=N14,(S14+U14)<=O14,(V14+X14+Z14)<=I14,(W14+Y14+AA14)<=O14),"Đúng","Sai") -> Đúng | AC14: =IF(H14=J14+K14+L14+M14,"Đúng","Sai") -> Đúng | AD14: =IF(C14=P14+Q14,"Đúng","Sai") -> Đúng
A15: II | B15: Cấp kiểm tra | C15: =SUM(C16:C19) -> 0 | H15: =SUM(H16:H19) -> 0 | N15: =SUM(N16:N19) -> 0 | P15: =SUM(P16:P19) -> 0 | Q15: =SUM(Q16:Q19) -> 0 | R15: =SUM(R16:R19) -> 0 | S15: =SUM(S16:S19) -> 0 | T15: =SUM(T16:T19) -> 0 | U15: =SUM(U16:U19) -> 0 | V15: =SUM(V16:V19) -> 0 | W15: =SUM(W16:W19) -> 0 | ... AA15: =SUM(AA16:AA19) -> 0
B16: UBKT Trung ương | C16: =SUM(P16:Q16) -> 0
B17: UBKT tỉnh uỷ và tương đương | C17: =SUM(P17:Q17) -> 0
B18: UBKT đảng ủy cấp trên trực tiếp cơ sở và tương đương | C18: =SUM(P18:Q18) -> 0
B19: UBKT đảng uỷ cơ sở | C19: =SUM(P19:Q19) -> 0

Sheet B16
A1: GIÁM SÁT TỔ CHỨC ĐẢNG CỦA ỦY BAN KIỂM TRA CÁC CẤP | R1: Biểu 16
A2: (Giám sát theo chuyên đề) | Q2: (ĐVT: Tổ chức đảng)
A3: TT | B3: Nội dung | C3: Tổng số tổ chức đảng được giám sát | D3: Cấp giám sát | H3: Nội dung | Q3: Kết quả
D4: UBKT Trung ương | E4: UBKT tỉnh uỷ và tương đương | F4: UBKT đảng ủy cấp trên trực tiếp cơ sở và tương đương | G4: UBKT đảng ủy cơ sở | H4: Việc lãnh đạo, chỉ đạo, tổ chức thực hiện Cương lĩnh chính trị, Điều lệ Đảng, chủ trương, nghị quyết, chỉ thị, quy định, quyết định, quy chế, kết luận của Đảng, của cấp ủy cấp trên | I4: Việc ban hành và tổ chức thực hiện quy chế làm việc | J4: Việc chấp hành chính sách, pháp luật của Nhà nước | K4: Việc ban hành các văn bản có dấu hiệu trái với chủ trương, đường lối, nghị quyết của Đảng, pháp luật Nhà nước | L4: Việc thực hiện các kết luận, quyết định kiểm tra, giám sát và kỷ luật tổ chức đảng, đảng viên vi phạm | M4: Việc thực hiện các thông báo kết luận kiểm tra, giám sát, thanh tra, kiểm toán | N4: Việc lãnh đạo, chỉ đạo và tổ chức thực hiện kê khai, công khai tài sản, thu nhập | O4: Công tác cán bộ | P4: Khác | Q4: Số tổ chức đảng thực hiện tốt | R4: Số tổ chức đảng có hạn chế, khuyết điểm | S4: Số tổ chức đảng chuyển kiểm tra khi có dấu hiệu vi phạm
A5: 1 | B5: 2 | C5: 3 | D5: 4 | E5: 5 | F5: 6 | G5: 7 | H5: 8 | I5: 9 | J5: 10 | K5: 11 | L5: 12 | M5: 13 | N5: 14 | O5: 15 | P5: 16 | Q5: 17 | R5: 18 | S5: 19
A6: I | B6: Tổ chức đảng được giám sát | C6: =SUM(C7:C15) -> 1 | D6: =SUM(D7:D15) -> 0 | E6: =SUM(E7:E15) -> 0 | F6: =SUM(F7:F15) -> 0 | G6: =SUM(G7:G15) -> 1 | H6: =SUM(H7:H15) -> 1 | I6: =SUM(I7:I15) -> 0 | J6: =SUM(J7:J15) -> 0 | ... S6: =SUM(S7:S15) -> 0 | T6: =IF(AND(H6<=C6,I6<=C6,J6<=C6,K6<=C6,L6<=C6,O6<=C6,P6<=C6),"Đúng","Sai") -> Đúng | U6: =IF(C6=Q6+R6,"Đúng","Sai") -> Sai | V6: =IF(AND(S6<=R6),"Đúng","Sai") -> Đúng
B7: Các CQ tham mưu của Trung ương | C7: =SUM(D7:G7) -> 0 | T7: =IF(AND(H7<=C7,I7<=C7,J7<=C7,K7<=C7,L7<=C7,O7<=C7,P7<=C7),"Đúng","Sai") -> Đúng | U7: =IF(C7=Q7+R7,"Đúng","Sai") -> Đúng | V7: =IF(AND(S7<=R7),"Đúng","Sai") -> Đúng
B8: Tỉnh ủy, BTV tỉnh ủy và tương đương | C8: =SUM(D8:G8) -> 0 | T8: =IF(AND(H8<=C8,I8<=C8,J8<=C8,K8<=C8,L8<=C8,O8<=C8,P8<=C8),"Đúng","Sai") -> Đúng | U8: =IF(C8=Q8+R8,"Đúng","Sai") -> Đúng | V8: =IF(AND(S8<=R8),"Đúng","Sai") -> Đúng
B9: Các CQ tham mưu của cấp ủy tỉnh và tương đương | C9: =SUM(D9:G9) -> 0 | T9: =IF(AND(H9<=C9,I9<=C9,J9<=C9,K9<=C9,L9<=C9,O9<=C9,P9<=C9),"Đúng","Sai") -> Đúng | U9: =IF(C9=Q9+R9,"Đúng","Sai") -> Đúng | V9: =IF(AND(S9<=R9),"Đúng","Sai") -> Đúng
B10: Đảng ủy, BTV ĐU cấp trên trực tiếp cơ sở và tương đương | C10: =SUM(D10:G10) -> 0 | T10: =IF(AND(H10<=C10,I10<=C10,J10<=C10,K10<=C10,L10<=C10,O10<=C10,P10<=C10),"Đúng","Sai") -> Đúng | U10: =IF(C10=Q10+R10,"Đúng","Sai") -> Đúng | V10: =IF(AND(S10<=R10),"Đúng","Sai") -> Đúng
B11: Các CQ tham mưu của cấp ủy cấp trên trực tiếp cơ sở và tương đương | C11: =SUM(D11:G11) -> 0 | T11: =IF(AND(H11<=C11,I11<=C11,J11<=C11,K11<=C11,L11<=C11,O11<=C11,P11<=C11),"Đúng","Sai") -> Đúng | U11: =IF(C11=Q11+R11,"Đúng","Sai") -> Đúng | V11: =IF(AND(S11<=R11),"Đúng","Sai") -> Đúng
B12: Đảng ủy cơ sở, BTV Đảng ủy cơ sở | C12: =SUM(D12:G12) -> 0 | T12: =IF(AND(H12<=C12,I12<=C12,J12<=C12,K12<=C12,L12<=C12,O12<=C12,P12<=C12),"Đúng","Sai") -> Đúng | U12: =IF(C12=Q12+R12,"Đúng","Sai") -> Đúng | V12: =IF(AND(S12<=R12),"Đúng","Sai") -> Đúng
B13: Đảng ủy bộ phận | C13: =SUM(D13:G13) -> 0 | T13: =IF(AND(H13<=C13,I13<=C13,J13<=C13,K13<=C13,L13<=C13,O13<=C13,P13<=C13),"Đúng","Sai") -> Đúng | U13: =IF(C13=Q13+R13,"Đúng","Sai") -> Đúng | V13: =IF(AND(S13<=R13),"Đúng","Sai") -> Đúng
B14: Chi bộ, Chi ủy | C14: =SUM(D14:G14) -> 1 | G14: 1 | H14: 1 | T14: =IF(AND(H14<=C14,I14<=C14,J14<=C14,K14<=C14,L14<=C14,O14<=C14,P14<=C14),"Đúng","Sai") -> Đúng | U14: =IF(C14=Q14+R14,"Đúng","Sai") -> Sai | V14: =IF(AND(S14<=R14),"Đúng","Sai") -> Đúng
B15: Khác (ban chỉ đạo, tiểu ban, hội đồng, tổ đảng...) | C15: =SUM(D15:G15) -> 0 | T15: =IF(AND(H15<=C15,I15<=C15,J15<=C15,K15<=C15,L15<=C15,O15<=C15,P15<=C15),"Đúng","Sai") -> Đúng | U15: =IF(C15=Q15+R15,"Đúng","Sai") -> Đúng | V15: =IF(AND(S15<=R15),"Đúng","Sai") -> Đúng
A16: II | B16: Kết quả | C16: =SUM(C17:C18) -> 1 | D16: =SUM(D17:D18) -> 0 | E16: =SUM(E17:E18) -> 0 | F16: =SUM(F17:F18) -> 0 | G16: =SUM(G17:G18) -> 1
B17: Số tổ chức đảng thực hiện tốt | C17: =SUM(D17:G17) -> 1 | G17: 1 | H17: 1
B18: Số tổ chức đảng có hạn chế, khuyết điểm | C18: =SUM(D18:G18) -> 0
B19: Số tổ chức đảng chuyển kiểm tra khi có DHVP | C19: =SUM(D19:G19) -> 0

Sheet B17
A1: GIÁM SÁT ĐẢNG VIÊN CỦA ỦY BAN KIỂM TRA CÁC CẤP | R1: Biểu 17
A2: (Giám sát theo chuyên đề) | Q2: (ĐVT: Đảng viên)
A3: TT | B3: Đảng viên được giám sát | C3: Tổng số đảng viên được giám sát | D3: Cấp giám sát | H3: Nội dung | Q3: Kết quả
D4: UBKT Trung ương | E4: UBKT tỉnh uỷ và tương đương | F4: UBKT đảng ủy cấp trên trực tiếp cơ sở và tương đương | G4: UBKT đảng ủy cơ sở | H4: Việc chấp hành Cương lĩnh chính trị, Điều lệ Đảng, chủ trương, nghị quyết, chỉ thị, quy định, quyết định, quy chế, kết luận của Đảng, của cấp ủy cấp trên và cấp mình | I4: Việc chấp hành chính sách, pháp luật của Nhà nước | J4: Thực hiện các nguyên tắc tổ chức và hoạt động của Đảng, quy chế làm việc, chế độ công tác | K4: Tư tưởng chính trị, giữ gìn đạo đức, lối sống và và trách nhiệm nêu gương | L4: Về tiêu chuẩn đảng viên, tiêu chuẩn cấp ủy viên | M4: Về thực hiện nhiêm vụ đảng viên, nhiệm vụ cấp ủy viên | N4: Việc thực hiện các thông báo kết luận kiểm tra, giám sát, thanh tra, kiểm toán | O4: Kê khai tài sản, thu nhập cá nhân | P4: Khác | Q4: Số đảng viên thực hiện tốt | R4: Số đảng viên có hạn chế, khuyết điểm | S4: Số đảng viên chuyển kiểm tra khi có dấu hiệu vi phạm
A5: 1 | B5: 2 | C5: 3 | D5: 4 | E5: 5 | F5: 6 | G5: 7 | H5: 8 | I5: 9 | J5: 10 | K5: 11 | L5: 12 | M5: 13 | N5: 14 | O5: 15 | P5: 16 | Q5: 17 | R5: 18 | S5: 19
A6: I | B6: Cấp quản lý đảng viên | C6: =SUM(C7:C10) -> 0 | D6: =SUM(D7:D10) -> 0 | E6: =SUM(E7:E10) -> 0 | F6: =SUM(F7:F10) -> 0 | G6: =SUM(G7:G10) -> 0 | H6: =SUM(H7:H10) -> 0 | I6: =SUM(I7:I10) -> 0 | J6: =SUM(J7:J10) -> 0 | ... S6: =SUM(S7:S10) -> 0 | T6: =IF(AND(H6<=C6,I6<=C6,J6<=C6,K6<=C6,L6<=C6,M6<=C6,O6<=C6,P6<=C6),"Đúng","Sai") -> Đúng | U6: =IF(C6=Q6+R6,"Đúng","Sai") -> Đúng | V6: =IF(AND(S6<=R6),"Đúng","Sai") -> Đúng
B7: Trung ương | C7: =SUM(D7:G7) -> 0 | T7: =IF(AND(H7<=C7,I7<=C7,J7<=C7,K7<=C7,L7<=C7,M7<=C7,O7<=C7,P7<=C7),"Đúng","Sai") -> Đúng | U7: =IF(C7=Q7+R7,"Đúng","Sai") -> Đúng | V7: =IF(AND(S7<=R7),"Đúng","Sai") -> Đúng
B8: Cấp tỉnh và tương đương | C8: =SUM(D8:G8) -> 0 | T8: =IF(AND(H8<=C8,I8<=C8,J8<=C8,K8<=C8,L8<=C8,M8<=C8,O8<=C8,P8<=C8),"Đúng","Sai") -> Đúng | U8: =IF(C8=Q8+R8,"Đúng","Sai") -> Đúng | V8: =IF(AND(S8<=R8),"Đúng","Sai") -> Đúng
B9: Cấp trên trực tiếp cơ sở và tương đương | C9: =SUM(D9:G9) -> 0 | T9: =IF(AND(H9<=C9,I9<=C9,J9<=C9,K9<=C9,L9<=C9,M9<=C9,O9<=C9,P9<=C9),"Đúng","Sai") -> Đúng | U9: =IF(C9=Q9+R9,"Đúng","Sai") -> Đúng | V9: =IF(AND(S9<=R9),"Đúng","Sai") -> Đúng
B10: Cấp cơ sở | C10: =SUM(D10:G10) -> 0 | T10: =IF(AND(H10<=C10,I10<=C10,J10<=C10,K10<=C10,L10<=C10,M10<=C10,O10<=C10,P10<=C10),"Đúng","Sai") -> Đúng | U10: =IF(C10=Q10+R10,"Đúng","Sai") -> Đúng | V10: =IF(AND(S10<=R10),"Đúng","Sai") -> Đúng
A11: II | B11: Cấp ủy viên các cấp | C11: =C12+C13+C16+C19+C20+C21 -> 0 | D11: =D12+D13+D16+D19+D20+D21 -> 0 | E11: =E12+E13+E16+E19+E20+E21 -> 0 | F11: =F12+F13+F16+F19+F20+F21 -> 0 | G11: =G12+G13+G16+G19+G20+G21 -> 0 | H11: =H12+H13+H16+H19+H20+H21 -> 0 | I11: =I12+I13+I16+I19+I20+I21 -> 0 | J11: =J12+J13+J16+J19+J20+J21 -> 0 | ... S11: =S12+S13+S16+S19+S20+S21 -> 0 | T11: =IF(AND(H11<=C11,I11<=C11,J11<=C11,K11<=C11,L11<=C11,M11<=C11,O11<=C11,P11<=C11),"Đúng","Sai") -> Đúng | U11: =IF(C11=Q11+R11,"Đúng","Sai") -> Đúng | V11: =IF(AND(S11<=R11),"Đúng","Sai") -> Đúng
B12: Uỷ viên Trung ương | C12: =SUM(D12:G12) -> 0 | T12: =IF(AND(H12<=C12,I12<=C12,J12<=C12,K12<=C12,L12<=C12,M12<=C12,O12<=C12,P12<=C12),"Đúng","Sai") -> Đúng | U12: =IF(C12=Q12+R12,"Đúng","Sai") -> Đúng | V12: =IF(AND(S12<=R12),"Đúng","Sai") -> Đúng
B13: Tỉnh ủy viên và tương đương | C13: =SUM(D13:G13) -> 0 | T13: =IF(AND(H13<=C13,I13<=C13,J13<=C13,K13<=C13,L13<=C13,M13<=C13,O13<=C13,P13<=C13),"Đúng","Sai") -> Đúng | U13: =IF(C13=Q13+R13,"Đúng","Sai") -> Đúng | V13: =IF(AND(S13<=R13),"Đúng","Sai") -> Đúng
B14: Trong đó: Bí thư | C14: =SUM(D14:G14) -> 0 | T14: =IF(AND(H14<=C14,I14<=C14,J14<=C14,K14<=C14,L14<=C14,M14<=C14,O14<=C14,P14<=C14),"Đúng","Sai") -> Đúng | U14: =IF(C14=Q14+R14,"Đúng","Sai") -> Đúng | V14: =IF(AND(S14<=R14),"Đúng","Sai") -> Đúng
B15: Phó Bí thư | C15: =SUM(D15:G15) -> 0 | T15: =IF(AND(H15<=C15,I15<=C15,J15<=C15,K15<=C15,L15<=C15,M15<=C15,O15<=C15,P15<=C15),"Đúng","Sai") -> Đúng | U15: =IF(C15=Q15+R15,"Đúng","Sai") -> Đúng | V15: =IF(AND(S15<=R15),"Đúng","Sai") -> Đúng
B16: Đảng ủy viên ĐU cấp trên trực tiếp cơ sở và tương đương | C16: =SUM(D16:G16) -> 0 | T16: =IF(AND(H16<=C16,I16<=C16,J16<=C16,K16<=C16,L16<=C16,M16<=C16,O16<=C16,P16<=C16),"Đúng","Sai") -> Đúng | U16: =IF(C16=Q16+R16,"Đúng","Sai") -> Đúng | V16: =IF(AND(S16<=R16),"Đúng","Sai") -> Đúng
B17: Trong đó: Bí thư | C17: =SUM(D17:G17) -> 0 | T17: =IF(AND(H17<=C17,I17<=C17,J17<=C17,K17<=C17,L17<=C17,M17<=C17,O17<=C17,P17<=C17),"Đúng","Sai") -> Đúng | U17: =IF(C17=Q17+R17,"Đúng","Sai") -> Đúng | V17: =IF(AND(S17<=R17),"Đúng","Sai") -> Đúng
B18: Phó Bí thư | C18: =SUM(D18:G18) -> 0 | T18: =IF(AND(H18<=C18,I18<=C18,J18<=C18,K18<=C18,L18<=C18,M18<=C18,O18<=C18,P18<=C18),"Đúng","Sai") -> Đúng | U18: =IF(C18=Q18+R18,"Đúng","Sai") -> Đúng | V18: =IF(AND(S18<=R18),"Đúng","Sai") -> Đúng
B19: Đảng uỷ viên đảng ủy cơ sở | C19: =SUM(D19:G19) -> 0 | T19: =IF(AND(H19<=C19,I19<=C19,J19<=C19,K19<=C19,L19<=C19,M19<=C19,O19<=C19,P19<=C19),"Đúng","Sai") -> Đúng | U19: =IF(C19=Q19+R19,"Đúng","Sai") -> Đúng | V19: =IF(AND(S19<=R19),"Đúng","Sai") -> Đúng
B20: Đảng ủy viên đảng ủy bộ phận | C20: =SUM(D20:G20) -> 0 | T20: =IF(AND(H20<=C20,I20<=C20,J20<=C20,K20<=C20,L20<=C20,M20<=C20,O20<=C20,P20<=C20),"Đúng","Sai") -> Đúng | U20: =IF(C20=Q20+R20,"Đúng","Sai") -> Đúng | V20: =IF(AND(S20<=R20),"Đúng","Sai") -> Đúng
B21: Chi uỷ viên | C21: =SUM(D21:G21) -> 0 | T21: =IF(AND(H21<=C21,I21<=C21,J21<=C21,K21<=C21,L21<=C21,M21<=C21,O21<=C21,P21<=C21),"Đúng","Sai") -> Đúng | U21: =IF(C21=Q21+R21,"Đúng","Sai") -> Đúng | V21: =IF(AND(S21<=R21),"Đúng","Sai") -> Đúng
A22: III | B22: Đảng viên ở các lĩnh vực | C22: =SUM(C23:C29) -> 0 | D22: =SUM(D23:D29) -> 0 | E22: =SUM(E23:E29) -> 0 | F22: =SUM(F23:F29) -> 0 | G22: =SUM(G23:G29) -> 0 | H22: =SUM(H23:H29) -> 0 | I22: =SUM(I23:I29) -> 0 | J22: =SUM(J23:J29) -> 0 | ... S22: =SUM(S23:S29) -> 0 | T22: =IF(AND(H22<=C22,I22<=C22,J22<=C22,K22<=C22,L22<=C22,M22<=C22,O22<=C22,P22<=C22),"Đúng","Sai") -> Đúng | U22: =IF(C22=Q22+R22,"Đúng","Sai") -> Đúng | V22: =IF(AND(S22<=R22),"Đúng","Sai") -> Đúng
B23: Đảng | C23: =SUM(D23:G23) -> 0 | T23: =IF(AND(H23<=C23,I23<=C23,J23<=C23,K23<=C23,L23<=C23,M23<=C23,O23<=C23,P23<=C23),"Đúng","Sai") -> Đúng | U23: =IF(C23=Q23+R23,"Đúng","Sai") -> Đúng | V23: =IF(AND(S23<=R23),"Đúng","Sai") -> Đúng
B24: Hành chính, Nhà nước | C24: =SUM(D24:G24) -> 0 | T24: =IF(AND(H24<=C24,I24<=C24,J24<=C24,K24<=C24,L24<=C24,M24<=C24,O24<=C24,P24<=C24),"Đúng","Sai") -> Đúng | U24: =IF(C24=Q24+R24,"Đúng","Sai") -> Đúng | V24: =IF(AND(S24<=R24),"Đúng","Sai") -> Đúng
B25: Đoàn thể | C25: =SUM(D25:G25) -> 0 | T25: =IF(AND(H25<=C25,I25<=C25,J25<=C25,K25<=C25,L25<=C25,M25<=C25,O25<=C25,P25<=C25),"Đúng","Sai") -> Đúng | U25: =IF(C25=Q25+R25,"Đúng","Sai") -> Đúng | V25: =IF(AND(S25<=R25),"Đúng","Sai") -> Đúng
B26: Lực lượng vũ trang | C26: =SUM(D26:G26) -> 0 | T26: =IF(AND(H26<=C26,I26<=C26,J26<=C26,K26<=C26,L26<=C26,M26<=C26,O26<=C26,P26<=C26),"Đúng","Sai") -> Đúng | U26: =IF(C26=Q26+R26,"Đúng","Sai") -> Đúng | V26: =IF(AND(S26<=R26),"Đúng","Sai") -> Đúng
B27: Sự nghiệp công lập | C27: =SUM(D27:G27) -> 0 | T27: =IF(AND(H27<=C27,I27<=C27,J27<=C27,K27<=C27,L27<=C27,M27<=C27,O27<=C27,P27<=C27),"Đúng","Sai") -> Đúng | U27: =IF(C27=Q27+R27,"Đúng","Sai") -> Đúng | V27: =IF(AND(S27<=R27),"Đúng","Sai") -> Đúng
B28: Sản xuất kinh doanh, dịch vụ | C28: =SUM(D28:G28) -> 0 | T28: =IF(AND(H28<=C28,I28<=C28,J28<=C28,K28<=C28,L28<=C28,M28<=C28,O28<=C28,P28<=C28),"Đúng","Sai") -> Đúng | U28: =IF(C28=Q28+R28,"Đúng","Sai") -> Đúng | V28: =IF(AND(S28<=R28),"Đúng","Sai") -> Đúng
B29: Các lĩnh vực khác | C29: =SUM(D29:G29) -> 0 | T29: =IF(AND(H29<=C29,I29<=C29,J29<=C29,K29<=C29,L29<=C29,M29<=C29,O29<=C29,P29<=C29),"Đúng","Sai") -> Đúng | U29: =IF(C29=Q29+R29,"Đúng","Sai") -> Đúng | V29: =IF(AND(S29<=R29),"Đúng","Sai") -> Đúng
A30: IV | B30: Kết quả | C30: =SUM(C31:C32) -> 0 | D30: =SUM(D31:D32) -> 0 | E30: =SUM(E31:E32) -> 0 | F30: =SUM(F31:F32) -> 0 | G30: =SUM(G31:G32) -> 0
B31: Số đảng viên thực hiện tốt | C31: =SUM(D31:G31) -> 0
B32: Số đảng viên có hạn chế, khuyết điểm | C32: =SUM(D32:G32) -> 0
B33: Số đảng viên chuyển kiểm tra khi có DHVP | C33: =SUM(D33:G33) -> 0
C34: =IF(C6=C22, "Đúng","Sai") -> Đúng | D34: =IF(D6=D22, "Đúng","Sai") -> Đúng | E34: =IF(E6=E22, "Đúng","Sai") -> Đúng | F34: =IF(F6=F22, "Đúng","Sai") -> Đúng | G34: =IF(G6=G22, "Đúng","Sai") -> Đúng | H34: =IF(H6=H22, "Đúng","Sai") -> Đúng | I34: =IF(I6=I22, "Đúng","Sai") -> Đúng | J34: =IF(J6=J22, "Đúng","Sai") -> Đúng | ... S34: =IF(S6=S22, "Đúng","Sai") -> Đúng

Sheet B18
A1: THI HÀNH KỶ LUẬT ĐẢNG VIÊN CỦA ỦY BAN KIỂM TRA CÁC CẤP | Y1: Biểu 18
W2: (ĐVT: lượt đảng viên)
A3: TT | B3: Đảng viên bị thi hành kỷ luật | C3: Tổng số đảng viên bị thi hành kỷ luật | D3: Hình thức kỷ luật | H3: Đình chỉ sinh hoạt đảng | I3: Đình chỉ sinh hoạt cấp ủy | J3: Cấp THKL | N3: Nội dung vi phạm | W3: Xử lý pháp luật | Z3: Xử lý hành chính | AA3: Xử lý đoàn thể
D4: Khiển trách | E4: Cảnh cáo | F4: Cách chức | G4: Khai trừ | J4: UBKT Trung ương | K4: UBKT tỉnh uỷ và tương đương | L4: UBKT đảng ủy cấp trên trực tiếp cơ sở và tương đương | M4: UBKT đảng ủy cơ sở | N4: Những điều đảng viên không được làm | O4: Tiêu chuẩn đảng viên, tiêu chuẩn cấp ủy viên | P4: Việc thực hiện nhiệm vụ đảng viên, cấp ủy viên | Q4: Việc chấp hành nghị quyết, chỉ thị, quy định, kết luận của Đảng; chính sách, pháp luật của Nhà nước | R4: Việc chấp hành quy chế làm việc, nguyên tắc tập trung dân chủ, chế độ công tác | S4: Tư tưởng chính trị, đạo đức, lối sống, trách nhiệm nêu gương | T4: Tham nhũng, cố ý làm trái | U4: Kê khai tài sản, thu nhập | V4: Khác | W4: Số lượng | X4: Trong đó
X5: Bị phạt tù (kể cả án treo) | Y5: Hình thức khác
A6: 1 | B6: 2 | C6: 3 | D6: 4 | E6: 5 | F6: 6 | G6: 7 | H6: 8 | I6: 9 | J6: 10 | K6: 11 | L6: 12 | M6: 13 | N6: 14 | O6: 15 | P6: 16 | Q6: 17 | R6: 18 | S6: 19 | T6: 20 | U6: 21 | V6: 22 | W6: 23 | X6: 24 | Y6: 25 | Z6: 26 | AA6: 27
A7: I | B7: Cấp quản lý đảng viên | C7: =SUM(C8:C11) -> 0 | D7: =SUM(D8:D11) -> 0 | E7: =SUM(E8:E11) -> 0 | F7: =SUM(F8:F11) -> 0 | G7: =SUM(G8:G11) -> 0 | H7: =SUM(H8:H11) -> 0 | I7: =SUM(I8:I11) -> 0 | J7: =SUM(J8:J11) -> 0 | ... AA7: =SUM(AA8:AA11) -> 0 | AB7: =IF((SUM(J7:M7)=C7),"Đúng","Sai") -> Đúng | AC7: =IF(AND(N7<=C7,O7<=C7,P7<=C7,Q7<=C7,R7<=C7,S7<=C7,T7<=C7,U7<=C7,V7<=C7),"Đúng","Sai") -> Đúng | AD7: =IF(W7=X7+Y7,"Đúng","Sai") -> Đúng
B8: Trung ương | C8: =SUM(D8:G8) -> 0 | W8: =SUM(X8:Y8) -> 0 | AB8: =IF((SUM(J8:M8)=C8),"Đúng","Sai") -> Đúng | AC8: =IF(AND(N8<=C8,O8<=C8,P8<=C8,Q8<=C8,R8<=C8,S8<=C8,T8<=C8,U8<=C8,V8<=C8),"Đúng","Sai") -> Đúng | AD8: =IF(W8=X8+Y8,"Đúng","Sai") -> Đúng
B9: Cấp tỉnh và tương đương | C9: =SUM(D9:G9) -> 0 | W9: =SUM(X9:Y9) -> 0 | AB9: =IF((SUM(J9:M9)=C9),"Đúng","Sai") -> Đúng | AC9: =IF(AND(N9<=C9,O9<=C9,P9<=C9,Q9<=C9,R9<=C9,S9<=C9,T9<=C9,U9<=C9,V9<=C9),"Đúng","Sai") -> Đúng | AD9: =IF(W9=X9+Y9,"Đúng","Sai") -> Đúng
B10: Cấp trên trực tiếp cơ sở và tương đương | C10: =SUM(D10:G10) -> 0 | W10: =SUM(X10:Y10) -> 0 | AB10: =IF((SUM(J10:M10)=C10),"Đúng","Sai") -> Đúng | AC10: =IF(AND(N10<=C10,O10<=C10,P10<=C10,Q10<=C10,R10<=C10,S10<=C10,T10<=C10,U10<=C10,V10<=C10),"Đúng","Sai") -> Đúng | AD10: =IF(W10=X10+Y10,"Đúng","Sai") -> Đúng
B11: Cấp cơ sở | C11: =SUM(D11:G11) -> 0 | W11: =SUM(X11:Y11) -> 0 | AB11: =IF((SUM(J11:M11)=C11),"Đúng","Sai") -> Đúng | AC11: =IF(AND(N11<=C11,O11<=C11,P11<=C11,Q11<=C11,R11<=C11,S11<=C11,T11<=C11,U11<=C11,V11<=C11),"Đúng","Sai") -> Đúng | AD11: =IF(W11=X11+Y11,"Đúng","Sai") -> Đúng
A12: II | B12: Là cấp uỷ viên các cấp | C12: =SUM(C13:C17) -> 0 | D12: =SUM(D13:D17) -> 0 | E12: =SUM(E13:E17) -> 0 | F12: =SUM(F13:F17) -> 0 | G12: =SUM(G13:G17) -> 0 | H12: =SUM(H13:H17) -> 0 | I12: =SUM(I13:I17) -> 0 | J12: =SUM(J13:J17) -> 0 | ... AA12: =SUM(AA13:AA17) -> 0 | AB12: =IF((SUM(J12:M12)=C12),"Đúng","Sai") -> Đúng | AC12: =IF(AND(N12<=C12,O12<=C12,P12<=C12,Q12<=C12,R12<=C12,S12<=C12,T12<=C12,U12<=C12,V12<=C12),"Đúng","Sai") -> Đúng | AD12: =IF(W12=X12+Y12,"Đúng","Sai") -> Đúng
B13: Tỉnh ủy viên và tương đương | C13: =SUM(D13:G13) -> 0 | W13: =SUM(X13:Y13) -> 0 | AB13: =IF((SUM(J13:M13)=C13),"Đúng","Sai") -> Đúng | AC13: =IF(AND(N13<=C13,O13<=C13,P13<=C13,Q13<=C13,R13<=C13,S13<=C13,T13<=C13,U13<=C13,V13<=C13),"Đúng","Sai") -> Đúng | AD13: =IF(W13=X13+Y13,"Đúng","Sai") -> Đúng
B14: Đảng ủy viên ĐU cấp trên trực tiếp cơ sở và tương đương | C14: =SUM(D14:G14) -> 0 | W14: =SUM(X14:Y14) -> 0 | AB14: =IF((SUM(J14:M14)=C14),"Đúng","Sai") -> Đúng | AC14: =IF(AND(N14<=C14,O14<=C14,P14<=C14,Q14<=C14,R14<=C14,S14<=C14,T14<=C14,U14<=C14,V14<=C14),"Đúng","Sai") -> Đúng | AD14: =IF(W14=X14+Y14,"Đúng","Sai") -> Đúng
B15: Đảng ủy viên đảng ủy cơ sở | C15: =SUM(D15:G15) -> 0 | W15: =SUM(X15:Y15) -> 0 | AB15: =IF((SUM(J15:M15)=C15),"Đúng","Sai") -> Đúng | AC15: =IF(AND(N15<=C15,O15<=C15,P15<=C15,Q15<=C15,R15<=C15,S15<=C15,T15<=C15,U15<=C15,V15<=C15),"Đúng","Sai") -> Đúng | AD15: =IF(W15=X15+Y15,"Đúng","Sai") -> Đúng
B16: Đảng ủy viên đảng ủy bộ phận | C16: =SUM(D16:G16) -> 0 | W16: =SUM(X16:Y16) -> 0 | AB16: =IF((SUM(J16:M16)=C16),"Đúng","Sai") -> Đúng | AC16: =IF(AND(N16<=C16,O16<=C16,P16<=C16,Q16<=C16,R16<=C16,S16<=C16,T16<=C16,U16<=C16,V16<=C16),"Đúng","Sai") -> Đúng | AD16: =IF(W16=X16+Y16,"Đúng","Sai") -> Đúng
B17: Chi ủy viên | C17: =SUM(D17:G17) -> 0 | W17: =SUM(X17:Y17) -> 0 | AB17: =IF((SUM(J17:M17)=C17),"Đúng","Sai") -> Đúng | AC17: =IF(AND(N17<=C17,O17<=C17,P17<=C17,Q17<=C17,R17<=C17,S17<=C17,T17<=C17,U17<=C17,V17<=C17),"Đúng","Sai") -> Đúng | AD17: =IF(W17=X17+Y17,"Đúng","Sai") -> Đúng
A18: III | B18: Đảng viên ở các lĩnh vực | C18: =SUM(C19:C25) -> 0 | D18: =SUM(D19:D25) -> 0 | E18: =SUM(E19:E25) -> 0 | F18: =SUM(F19:F25) -> 0 | G18: =SUM(G19:G25) -> 0 | H18: =SUM(H19:H25) -> 0 | I18: =SUM(I19:I25) -> 0 | J18: =SUM(J19:J25) -> 0 | ... AA18: =SUM(AA19:AA25) -> 0 | AB18: =IF((SUM(J18:M18)=C18),"Đúng","Sai") -> Đúng | AC18: =IF(AND(N18<=C18,O18<=C18,P18<=C18,Q18<=C18,R18<=C18,S18<=C18,T18<=C18,U18<=C18,V18<=C18),"Đúng","Sai") -> Đúng | AD18: =IF(W18=X18+Y18,"Đúng","Sai") -> Đúng
B19: Đảng | C19: =SUM(D19:G19) -> 0 | W19: =SUM(X19:Y19) -> 0 | AB19: =IF((SUM(J19:M19)=C19),"Đúng","Sai") -> Đúng | AC19: =IF(AND(N19<=C19,O19<=C19,P19<=C19,Q19<=C19,R19<=C19,S19<=C19,T19<=C19,U19<=C19,V19<=C19),"Đúng","Sai") -> Đúng | AD19: =IF(W19=X19+Y19,"Đúng","Sai") -> Đúng
B20: Hành chính, Nhà nước | C20: =SUM(D20:G20) -> 0 | W20: =SUM(X20:Y20) -> 0 | AB20: =IF((SUM(J20:M20)=C20),"Đúng","Sai") -> Đúng | AC20: =IF(AND(N20<=C20,O20<=C20,P20<=C20,Q20<=C20,R20<=C20,S20<=C20,T20<=C20,U20<=C20,V20<=C20),"Đúng","Sai") -> Đúng | AD20: =IF(W20=X20+Y20,"Đúng","Sai") -> Đúng
B21: Đoàn thể | C21: =SUM(D21:G21) -> 0 | W21: =SUM(X21:Y21) -> 0 | AB21: =IF((SUM(J21:M21)=C21),"Đúng","Sai") -> Đúng | AC21: =IF(AND(N21<=C21,O21<=C21,P21<=C21,Q21<=C21,R21<=C21,S21<=C21,T21<=C21,U21<=C21,V21<=C21),"Đúng","Sai") -> Đúng | AD21: =IF(W21=X21+Y21,"Đúng","Sai") -> Đúng
B22: Lực lượng vũ trang | C22: =SUM(D22:G22) -> 0 | W22: =SUM(X22:Y22) -> 0 | AB22: =IF((SUM(J22:M22)=C22),"Đúng","Sai") -> Đúng | AC22: =IF(AND(N22<=C22,O22<=C22,P22<=C22,Q22<=C22,R22<=C22,S22<=C22,T22<=C22,U22<=C22,V22<=C22),"Đúng","Sai") -> Đúng | AD22: =IF(W22=X22+Y22,"Đúng","Sai") -> Đúng
B23: Sự nghiệp công lập | C23: =SUM(D23:G23) -> 0 | W23: =SUM(X23:Y23) -> 0 | AB23: =IF((SUM(J23:M23)=C23),"Đúng","Sai") -> Đúng | AC23: =IF(AND(N23<=C23,O23<=C23,P23<=C23,Q23<=C23,R23<=C23,S23<=C23,T23<=C23,U23<=C23,V23<=C23),"Đúng","Sai") -> Đúng | AD23: =IF(W23=X23+Y23,"Đúng","Sai") -> Đúng
B24: SXKD, dịch vụ | C24: =SUM(D24:G24) -> 0 | W24: =SUM(X24:Y24) -> 0 | AB24: =IF((SUM(J24:M24)=C24),"Đúng","Sai") -> Đúng | AC24: =IF(AND(N24<=C24,O24<=C24,P24<=C24,Q24<=C24,R24<=C24,S24<=C24,T24<=C24,U24<=C24,V24<=C24),"Đúng","Sai") -> Đúng | AD24: =IF(W24=X24+Y24,"Đúng","Sai") -> Đúng
B25: Lĩnh vực khác | C25: =SUM(D25:G25) -> 0 | W25: =SUM(X25:Y25) -> 0 | AB25: =IF((SUM(J25:M25)=C25),"Đúng","Sai") -> Đúng | AC25: =IF(AND(N25<=C25,O25<=C25,P25<=C25,Q25<=C25,R25<=C25,S25<=C25,T25<=C25,U25<=C25,V25<=C25),"Đúng","Sai") -> Đúng | AD25: =IF(W25=X25+Y25,"Đúng","Sai") -> Đúng
A26: IV | B26: Bị THKL từ nhiệm vụ | C26: =SUM(C27:C31) -> 0 | D26: =SUM(D27:D31) -> 0 | E26: =SUM(E27:E31) -> 0 | F26: =SUM(F27:F31) -> 0 | G26: =SUM(G27:G31) -> 0 | H26: =SUM(H27:H31) -> 0 | I26: =SUM(I27:I31) -> 0 | J26: =SUM(J27:J31) -> 0 | ... AA26: =SUM(AA27:AA31) -> 0 | AB26: =IF((SUM(J26:M26)=C26),"Đúng","Sai") -> Đúng | AC26: =IF(AND(N26<=C26,O26<=C26,P26<=C26,Q26<=C26,R26<=C26,S26<=C26,T26<=C26,U26<=C26,V26<=C26),"Đúng","Sai") -> Đúng | AD26: =IF(W26=X26+Y26,"Đúng","Sai") -> Đúng
B27: Kiểm tra khi có DHVP | C27: =SUM(D27:G27) -> 0 | W27: =SUM(X27:Y27) -> 0 | AB27: =IF((SUM(J27:M27)=C27),"Đúng","Sai") -> Đúng | AC27: =IF(AND(N27<=C27,O27<=C27,P27<=C27,Q27<=C27,R27<=C27,S27<=C27,T27<=C27,U27<=C27,V27<=C27),"Đúng","Sai") -> Đúng | AD27: =IF(W27=X27+Y27,"Đúng","Sai") -> Đúng
B28: Giải quyết tố cáo | C28: =SUM(D28:G28) -> 0 | W28: =SUM(X28:Y28) -> 0 | AB28: =IF((SUM(J28:M28)=C28),"Đúng","Sai") -> Đúng | AC28: =IF(AND(N28<=C28,O28<=C28,P28<=C28,Q28<=C28,R28<=C28,S28<=C28,T28<=C28,U28<=C28,V28<=C28),"Đúng","Sai") -> Đúng | AD28: =IF(W28=X28+Y28,"Đúng","Sai") -> Đúng
B29: Kiểm tra tài chính đảng (thu chi NSNN và SXKD) | C29: =SUM(D29:G29) -> 0 | W29: =SUM(X29:Y29) -> 0 | AB29: =IF((SUM(J29:M29)=C29),"Đúng","Sai") -> Đúng | AC29: =IF(AND(N29<=C29,O29<=C29,P29<=C29,Q29<=C29,R29<=C29,S29<=C29,T29<=C29,U29<=C29,V29<=C29),"Đúng","Sai") -> Đúng | AD29: =IF(W29=X29+Y29,"Đúng","Sai") -> Đúng
B30: Kiểm tra tài chính đảng (thu nộp, quản lý sử dụng ĐP) | C30: =SUM(D30:G30) -> 0 | W30: =SUM(X30:Y30) -> 0 | AB30: =IF((SUM(J30:M30)=C30),"Đúng","Sai") -> Đúng | AC30: =IF(AND(N30<=C30,O30<=C30,P30<=C30,Q30<=C30,R30<=C30,S30<=C30,T30<=C30,U30<=C30,V30<=C30),"Đúng","Sai") -> Đúng | AD30: =IF(W30=X30+Y30,"Đúng","Sai") -> Đúng
B31: Khác (từ đề nghị của TCĐ cấp dưới, từ chỉ đạo của cấp trên...) | C31: =SUM(D31:G31) -> 0 | W31: =SUM(X31:Y31) -> 0 | AB31: =IF((SUM(J31:M31)=C31),"Đúng","Sai") -> Đúng | AC31: =IF(AND(N31<=C31,O31<=C31,P31<=C31,Q31<=C31,R31<=C31,S31<=C31,T31<=C31,U31<=C31,V31<=C31),"Đúng","Sai") -> Đúng | AD31: =IF(W31=X31+Y31,"Đúng","Sai") -> Đúng
A32: V | B32: Cấp THKL | C32: =SUM(C33:C36) -> 0 | D32: =SUM(D33:D36) -> 0 | E32: =SUM(E33:E36) -> 0 | F32: =SUM(F33:F36) -> 0 | G32: =SUM(G33:G36) -> 0 | H32: =SUM(H33:H36) -> 0 | I32: =SUM(I33:I36) -> 0
B33: UBKT Trung ương | C33: =SUM(D33:I33) -> 0
B34: UBKT tỉnh uỷ và tương đương | C34: =SUM(D34:I34) -> 0
B35: UBKT đảng ủy cấp trên trực tiếp cơ sở và tương đương | C35: =SUM(D35:I35) -> 0
B36: UBKT đảng ủy cơ sở | C36: =SUM(D36:I36) -> 0
C38: =IF(AND(C26=C18,C7=C18),"Đúng","Sai") -> Đúng | D38: =IF(AND(D26=D18,D7=D18),"Đúng","Sai") -> Đúng | E38: =IF(AND(E26=E18,E7=E18),"Đúng","Sai") -> Đúng | F38: =IF(AND(F26=F18,F7=F18),"Đúng","Sai") -> Đúng | G38: =IF(AND(G26=G18,G7=G18),"Đúng","Sai") -> Đúng | H38: =IF(AND(H26=H18,H7=H18),"Đúng","Sai") -> Đúng | I38: =IF(AND(I26=I18,I7=I18),"Đúng","Sai") -> Đúng | J38: =IF(AND(J26=J18,J7=J18),"Đúng","Sai") -> Đúng | ... AA38: =IF(AND(AA26=AA18,AA7=AA18),"Đúng","Sai") -> Đúng

Sheet B19
A1: GIẢI QUYẾT TỐ CÁO TỔ CHỨC ĐẢNG CỦA ỦY BAN KIỂM TRA CÁC CẤP | S1: Biểu 19
O2: (ĐVT: Lượt giải quyết tố cáo Tổ chức đảng)
A3: TT | B3: Tổ chức đảng bị tố cáo | C3: Tổng số tổ chức đảng bị tố cáo đã giải quyết xong | D3: Cấp giải quyết | H3: Nội dung tố cáo | O3: Kết luận
D4: UBKT Trung ương | E4: UBKT tỉnh uỷ và tương đương | F4: UBKT đảng ủy cấp trên trực tiếp cơ sở và tương đương | G4: UBKT đảng uỷ cơ sở | H4: Việc chấp hành Cương lĩnh chính trị, Điều lệ Đảng, chủ trương, nghị quyết, chỉ thị, quy định, quy chế, kết luận của Đảng | I4: Việc chấp hành chính sách, pháp luật của Nhà nước | J4: Các nguyên tắc tổ chức và hoạt động của Đảng | K4: Đoàn kết nội bộ | L4: Việc thực hành tiết kiệm, phòng, chống tham nhũng, lãng phí, tiêu cực | M4: Công tác cán bộ | N4: Khác | O4: Cho rút đơn, không xem xét giải quyết | P4: Chưa có cơ sở kết luận | Q4: Tố sai | R4: Tố đúng và đúng một phần | S4: Trong đó
S5: Tố đúng, có vi phạm chưa đến mức phải kỷ luật | T5: Phải thi hành kỷ luật | U5: Đã thi hành kỷ luật
A6: 1 | B6: 2 | C6: 3 | D6: 4 | E6: 5 | F6: 6 | G6: 7 | H6: 8 | I6: 9 | J6: 10 | K6: 11 | L6: 12 | M6: 13 | N6: 14 | O6: 15 | P6: 16 | Q6: 17 | R6: 18 | S6: 19 | T6: 20 | U6: 21
A7: I | B7: Tổng số TCĐ bị tố cáo | C7: =SUM(C8:C13) -> 0 | D7: =SUM(D8:D13) -> 0 | E7: =SUM(E8:E13) -> 0 | F7: =SUM(F8:F13) -> 0 | G7: =SUM(G8:G13) -> 0 | H7: =SUM(H8:H13) -> 0 | I7: =SUM(I8:I13) -> 0 | J7: =SUM(J8:J13) -> 0 | ... U7: =SUM(U8:U13) -> 0 | V7: =IF(AND(H7<=C7,I7<=C7,J7<=C7,K7<=C7,L7<=C7,M7<=C7,N7<=C7),"Đúng","Sai") -> Đúng | W7: =IF(C7=O7+P7+Q7+R7,"Đúng","Sai") -> Đúng | X7: =IF(R7=S7+T7,"Đúng","Sai") -> Đúng | Y7: =IF(AND(U7<=T7),"Đúng","Sai") -> Đúng
B8: Tỉnh ủy, BTV tỉnh ủy và tương đương | C8: =SUM(D8:G8) -> 0 | V8: =IF(AND(H8<=C8,I8<=C8,J8<=C8,K8<=C8,L8<=C8,M8<=C8,N8<=C8),"Đúng","Sai") -> Đúng | W8: =IF(C8=O8+P8+Q8+R8,"Đúng","Sai") -> Đúng | X8: =IF(R8=S8+T8,"Đúng","Sai") -> Đúng | Y8: =IF(AND(U8<=T8),"Đúng","Sai") -> Đúng
B9: Đảng ủy, BTV ĐU cấp trên trực tiếp cơ sở và tương đương | C9: =SUM(D9:G9) -> 0 | V9: =IF(AND(H9<=C9,I9<=C9,J9<=C9,K9<=C9,L9<=C9,M9<=C9,N9<=C9),"Đúng","Sai") -> Đúng | W9: =IF(C9=O9+P9+Q9+R9,"Đúng","Sai") -> Đúng | X9: =IF(R9=S9+T9,"Đúng","Sai") -> Đúng | Y9: =IF(AND(U9<=T9),"Đúng","Sai") -> Đúng
B10: Đảng ủy, BTV đảng ủy cơ sở | C10: =SUM(D10:G10) -> 0 | V10: =IF(AND(H10<=C10,I10<=C10,J10<=C10,K10<=C10,L10<=C10,M10<=C10,N10<=C10),"Đúng","Sai") -> Đúng | W10: =IF(C10=O10+P10+Q10+R10,"Đúng","Sai") -> Đúng | X10: =IF(R10=S10+T10,"Đúng","Sai") -> Đúng | Y10: =IF(AND(U10<=T10),"Đúng","Sai") -> Đúng
B11: Đảng ủy bộ phận | C11: =SUM(D11:G11) -> 0 | V11: =IF(AND(H11<=C11,I11<=C11,J11<=C11,K11<=C11,L11<=C11,M11<=C11,N11<=C11),"Đúng","Sai") -> Đúng | W11: =IF(C11=O11+P11+Q11+R11,"Đúng","Sai") -> Đúng | X11: =IF(R11=S11+T11,"Đúng","Sai") -> Đúng | Y11: =IF(AND(U11<=T11),"Đúng","Sai") -> Đúng
B12: Chi bộ, Chi ủy | C12: =SUM(D12:G12) -> 0 | V12: =IF(AND(H12<=C12,I12<=C12,J12<=C12,K12<=C12,L12<=C12,M12<=C12,N12<=C12),"Đúng","Sai") -> Đúng | W12: =IF(C12=O12+P12+Q12+R12,"Đúng","Sai") -> Đúng | X12: =IF(R12=S12+T12,"Đúng","Sai") -> Đúng | Y12: =IF(AND(U12<=T12),"Đúng","Sai") -> Đúng
B13: Khác (tiểu ban, hội đồng, tổ đảng...) | C13: =SUM(D13:G13) -> 0 | V13: =IF(AND(H13<=C13,I13<=C13,J13<=C13,K13<=C13,L13<=C13,M13<=C13,N13<=C13),"Đúng","Sai") -> Đúng | W13: =IF(C13=O13+P13+Q13+R13,"Đúng","Sai") -> Đúng | X13: =IF(R13=S13+T13,"Đúng","Sai") -> Đúng | Y13: =IF(AND(U13<=T13),"Đúng","Sai") -> Đúng
A14: II | B14: Kết luận giải quyết tố cáo | C14: =SUM(D14:G14) -> 0 | D14: =SUM(D15:D18) -> 0 | E14: =SUM(E15:E18) -> 0 | F14: =SUM(F15:F18) -> 0 | G14: =SUM(G15:G18) -> 0 | H14: =SUM(H15:H18) -> 0 | I14: =SUM(I15:I18) -> 0 | J14: =SUM(J15:J18) -> 0 | K14: =SUM(K15:K18) -> 0 | ... N14: =SUM(N15:N18) -> 0
B15: Cho rút đơn, không xem xét giải quyết | C15: =SUM(D15:G15) -> 0 | V15: =IF(AND(H15<=C15,I15<=C15,J15<=C15,K15<=C15,L15<=C15,M15<=C15,N15<=C15),"Đúng","Sai") -> Đúng
B16: Chưa có cơ sở kết luận | C16: =SUM(D16:G16) -> 0 | V16: =IF(AND(H16<=C16,I16<=C16,J16<=C16,K16<=C16,L16<=C16,M16<=C16,N16<=C16),"Đúng","Sai") -> Đúng
B17: Tố sai | C17: =SUM(D17:G17) -> 0 | V17: =IF(AND(H17<=C17,I17<=C17,J17<=C17,K17<=C17,L17<=C17,M17<=C17,N17<=C17),"Đúng","Sai") -> Đúng
B18: Tố đúng và đúng một phần | C18: =SUM(D18:G18) -> 0 | V18: =IF(AND(H18<=C18,I18<=C18,J18<=C18,K18<=C18,L18<=C18,M18<=C18,N18<=C18),"Đúng","Sai") -> Đúng
B19: Đúng có vi phạm chưa đến mức phải kỷ luật | C19: =SUM(D19:G19) -> 0 | V19: =IF(AND(H19<=C19,I19<=C19,J19<=C19,K19<=C19,L19<=C19,M19<=C19,N19<=C19),"Đúng","Sai") -> Đúng
B20: Phải thi hành kỷ luật | C20: =SUM(D20:G20) -> 0 | V20: =IF(AND(H20<=C20,I20<=C20,J20<=C20,K20<=C20,L20<=C20,M20<=C20,N20<=C20),"Đúng","Sai") -> Đúng
B21: Đã thi hành kỷ luật | C21: =SUM(D21:G21) -> 0 | V21: =IF(AND(H21<=C21,I21<=C21,J21<=C21,K21<=C21,L21<=C21,M21<=C21,N21<=C21),"Đúng","Sai") -> Đúng
B22: Giải quyết đúng thời gian quy định | C22: =SUM(D22:G22) -> 0 | V22: =IF(AND(H22<=C22,I22<=C22,J22<=C22,K22<=C22,L22<=C22,M22<=C22,N22<=C22),"Đúng","Sai") -> Đúng
C24: =IF(C7=C14,"Đúng","Sai") -> Đúng | D24: =IF(D7=D14,"Đúng","Sai") -> Đúng | E24: =IF(E7=E14,"Đúng","Sai") -> Đúng | F24: =IF(F7=F14,"Đúng","Sai") -> Đúng | G24: =IF(G7=G14,"Đúng","Sai") -> Đúng | H24: =IF(H7=H14,"Đúng","Sai") -> Đúng | I24: =IF(I7=I14,"Đúng","Sai") -> Đúng | J24: =IF(J7=J14,"Đúng","Sai") -> Đúng | ... N24: =IF(N7=N14,"Đúng","Sai") -> Đúng
C25: =IF(C18=C19+C20,"Đúng","Sai") -> Đúng | D25: =IF(D18=D19+D20,"Đúng","Sai") -> Đúng | E25: =IF(E18=E19+E20,"Đúng","Sai") -> Đúng | F25: =IF(F18=F19+F20,"Đúng","Sai") -> Đúng | G25: =IF(G18=G19+G20,"Đúng","Sai") -> Đúng | H25: =IF(H18=H19+H20,"Đúng","Sai") -> Đúng | I25: =IF(I18=I19+I20,"Đúng","Sai") -> Đúng | J25: =IF(J18=J19+J20,"Đúng","Sai") -> Đúng | ... N25: =IF(N18=N19+N20,"Đúng","Sai") -> Đúng
C26: =IF(C21<=C20,"Đúng","Sai") -> Đúng | D26: =IF(D21<=D20,"Đúng","Sai") -> Đúng | E26: =IF(E21<=E20,"Đúng","Sai") -> Đúng | F26: =IF(F21<=F20,"Đúng","Sai") -> Đúng | G26: =IF(G21<=G20,"Đúng","Sai") -> Đúng | H26: =IF(H21<=H20,"Đúng","Sai") -> Đúng | I26: =IF(I21<=I20,"Đúng","Sai") -> Đúng | J26: =IF(J21<=J20,"Đúng","Sai") -> Đúng | ... N26: =IF(N21<=N20,"Đúng","Sai") -> Đúng
C27: =IF(C22<=C7,"Đúng","Sai") -> Đúng | D27: =IF(D22<=D7,"Đúng","Sai") -> Đúng | E27: =IF(E22<=E7,"Đúng","Sai") -> Đúng | F27: =IF(F22<=F7,"Đúng","Sai") -> Đúng | G27: =IF(G22<=G7,"Đúng","Sai") -> Đúng | H27: =IF(H22<=H7,"Đúng","Sai") -> Đúng | I27: =IF(I22<=I7,"Đúng","Sai") -> Đúng | J27: =IF(J22<=J7,"Đúng","Sai") -> Đúng | ... N27: =IF(N22<=N7,"Đúng","Sai") -> Đúng
C28: =IF(O7=C15,"Đúng","Sai") -> Đúng
C29: =IF(P7=C16,"Đúng","Sai") -> Đúng
C30: =IF(Q7=C17,"Đúng","Sai") -> Đúng
C31: =IF(R7=C18,"Đúng","Sai") -> Đúng
C32: =IF(S7=C19,"Đúng","Sai") -> Đúng
C33: =IF(T7=C20,"Đúng","Sai") -> Đúng
C34: =IF(U7=C21,"Đúng","Sai") -> Đúng

Sheet B20
A1: GIẢI QUYẾT TỐ CÁO ĐỐI VỚI ĐẢNG VIÊN CỦA ỦY BAN KIỂM TRA CÁC CẤP | W1: Biểu 20
R2: (ĐVT: lượt giải quyết tố cáo đảng viên)
A3: TT | B3: Đảng viên bị tố cáo | C3: Đã giải quyết xong | D3: Cấp giải quyết | H3: Nội dung tố cáo | R3: Kết luận
D4: UBKT Trung ương | E4: UBKT tỉnh uỷ và tương đương | F4: UBKT đảng ủy cấp trên trực tiếp cơ sở và tương đương | G4: UBKT đảng uỷ cơ sở | H4: Tiêu chuẩn đảng viên, tiêu chuẩn cấp ủy viên | I4: Việc chấp hành Cương lĩnh chính trị, Điều lệ Đảng, chủ trương, nghị quyết, chỉ thị, quy định, quy chế, kết luận của Đảng | J4: Về nguyên tắc tổ chức và sinh hoạt đảng | K4: Về thực hiện chức trách, nhiệm vụ được giao | L4: Về phẩm chất đạo đức, lối sống và trách nhiệm nêu gương | M4: Tham nhũng, cố ý làm trái | N4: Đất đai, tài nguyên, khoáng sản, nhà ở, môi trường | O4: Tài chính, ngân hàng, đầu tư,xây dựng, y tế, khoa học công nghệ | P4: Kê khai tài sản, thu nhập | Q4: Khác | R4: Cho rút đơn, không xem xét giải quyết | S4: Chưa có cơ sở kết luận | T4: Tố sai | U4: Tố đúng và đúng một phần | V4: Trong đó
V5: Tố đúng, có vi phạm nhưng chưa đến mức phải kỷ luật | W5: Phải thi hành kỷ luật | X5: Đã thi hành kỷ luật
A6: 1 | B6: 2 | C6: 3 | D6: 4 | E6: 5 | F6: 6 | G6: 7 | H6: 8 | I6: 9 | J6: 10 | K6: 11 | L6: 12 | M6: 13 | N6: 14 | O6: 15 | P6: 16 | Q6: 17 | R6: 18 | S6: 19 | T6: 20 | U6: 21 | V6: 22 | W6: 23 | X6: 24
A7: I | B7: Cấp quản lý đảng viên | C7: =SUM(C8:C11) -> 0 | D7: =SUM(D8:D11) -> 0 | E7: =SUM(E8:E11) -> 0 | F7: =SUM(F8:F11) -> 0 | G7: =SUM(G8:G11) -> 0 | H7: =SUM(H8:H11) -> 0 | I7: =SUM(I8:I11) -> 0 | J7: =SUM(J8:J11) -> 0 | ... X7: =SUM(X8:X11) -> 0 | Y7: =IF(AND(H7<=C7,I7<=C7,J7<=C7,K7<=C7,L7<=C7,M7<=C7,N7<=C7,O7<=C7,P7<=C7,Q7<=C7),"Đúng","Sai") -> Đúng | Z7: =IF(C7=R7+S7+T7+U7,"Đúng","Sai") -> Đúng | AA7: =IF(U7=V7+W7,"Đúng","Sai") -> Đúng | AB7: =IF(X7<=W7,"Đúng","Sai") -> Đúng
B8: Trung ương | C8: =SUM(D8:G8) -> 0 | Y8: =IF(AND(H8<=C8,I8<=C8,J8<=C8,K8<=C8,L8<=C8,M8<=C8,N8<=C8,O8<=C8,P8<=C8,Q8<=C8),"Đúng","Sai") -> Đúng | Z8: =IF(C8=R8+S8+T8+U8,"Đúng","Sai") -> Đúng | AA8: =IF(U8=V8+W8,"Đúng","Sai") -> Đúng | AB8: =IF(X8<=W8,"Đúng","Sai") -> Đúng
B9: Cấp tỉnh và tương đương | C9: =SUM(D9:G9) -> 0 | Y9: =IF(AND(H9<=C9,I9<=C9,J9<=C9,K9<=C9,L9<=C9,M9<=C9,N9<=C9,O9<=C9,P9<=C9,Q9<=C9),"Đúng","Sai") -> Đúng | Z9: =IF(C9=R9+S9+T9+U9,"Đúng","Sai") -> Đúng | AA9: =IF(U9=V9+W9,"Đúng","Sai") -> Đúng | AB9: =IF(X9<=W9,"Đúng","Sai") -> Đúng
B10: Cấp trên trực tiếp cơ sở và tương đương | C10: =SUM(D10:G10) -> 0 | Y10: =IF(AND(H10<=C10,I10<=C10,J10<=C10,K10<=C10,L10<=C10,M10<=C10,N10<=C10,O10<=C10,P10<=C10,Q10<=C10),"Đúng","Sai") -> Đúng | Z10: =IF(C10=R10+S10+T10+U10,"Đúng","Sai") -> Đúng | AA10: =IF(U10=V10+W10,"Đúng","Sai") -> Đúng | AB10: =IF(X10<=W10,"Đúng","Sai") -> Đúng
B11: Cấp cơ sở | C11: =SUM(D11:G11) -> 0 | Y11: =IF(AND(H11<=C11,I11<=C11,J11<=C11,K11<=C11,L11<=C11,M11<=C11,N11<=C11,O11<=C11,P11<=C11,Q11<=C11),"Đúng","Sai") -> Đúng | Z11: =IF(C11=R11+S11+T11+U11,"Đúng","Sai") -> Đúng | AA11: =IF(U11=V11+W11,"Đúng","Sai") -> Đúng | AB11: =IF(X11<=W11,"Đúng","Sai") -> Đúng
A12: II | B12: Là cấp uỷ viên các cấp | C12: =SUM(C13:C18) -> 0 | D12: =SUM(D13:D18) -> 0 | E12: =SUM(E13:E18) -> 0 | F12: =SUM(F13:F18) -> 0 | G12: =SUM(G13:G18) -> 0 | H12: =SUM(H13:H18) -> 0 | I12: =SUM(I13:I18) -> 0 | J12: =SUM(J13:J18) -> 0 | ... X12: =SUM(X13:X18) -> 0 | Y12: =IF(AND(H12<=C12,I12<=C12,J12<=C12,K12<=C12,L12<=C12,M12<=C12,N12<=C12,O12<=C12,P12<=C12,Q12<=C12),"Đúng","Sai") -> Đúng | Z12: =IF(C12=R12+S12+T12+U12,"Đúng","Sai") -> Đúng | AA12: =IF(U12=V12+W12,"Đúng","Sai") -> Đúng | AB12: =IF(X12<=W12,"Đúng","Sai") -> Đúng
B13: Uỷ viên Trung ương | C13: =SUM(D13:G13) -> 0 | Y13: =IF(AND(H13<=C13,I13<=C13,J13<=C13,K13<=C13,L13<=C13,M13<=C13,N13<=C13,O13<=C13,P13<=C13,Q13<=C13),"Đúng","Sai") -> Đúng | Z13: =IF(C13=R13+S13+T13+U13,"Đúng","Sai") -> Đúng | AA13: =IF(U13=V13+W13,"Đúng","Sai") -> Đúng | AB13: =IF(X13<=W13,"Đúng","Sai") -> Đúng
B14: Tỉnh uỷ viên và tương đương | C14: =SUM(D14:G14) -> 0 | Y14: =IF(AND(H14<=C14,I14<=C14,J14<=C14,K14<=C14,L14<=C14,M14<=C14,N14<=C14,O14<=C14,P14<=C14,Q14<=C14),"Đúng","Sai") -> Đúng | Z14: =IF(C14=R14+S14+T14+U14,"Đúng","Sai") -> Đúng | AA14: =IF(U14=V14+W14,"Đúng","Sai") -> Đúng | AB14: =IF(X14<=W14,"Đúng","Sai") -> Đúng
B15: Đảng ủy viên ĐU cấp trên trực tiếp cơ sở và tương đương | C15: =SUM(D15:G15) -> 0 | Y15: =IF(AND(H15<=C15,I15<=C15,J15<=C15,K15<=C15,L15<=C15,M15<=C15,N15<=C15,O15<=C15,P15<=C15,Q15<=C15),"Đúng","Sai") -> Đúng | Z15: =IF(C15=R15+S15+T15+U15,"Đúng","Sai") -> Đúng | AA15: =IF(U15=V15+W15,"Đúng","Sai") -> Đúng | AB15: =IF(X15<=W15,"Đúng","Sai") -> Đúng
B16: Đảng ủy viên đảng ủy cơ sở | C16: =SUM(D16:G16) -> 0 | Y16: =IF(AND(H16<=C16,I16<=C16,J16<=C16,K16<=C16,L16<=C16,M16<=C16,N16<=C16,O16<=C16,P16<=C16,Q16<=C16),"Đúng","Sai") -> Đúng | Z16: =IF(C16=R16+S16+T16+U16,"Đúng","Sai") -> Đúng | AA16: =IF(U16=V16+W16,"Đúng","Sai") -> Đúng | AB16: =IF(X16<=W16,"Đúng","Sai") -> Đúng
B17: Đảng ủy viên đảng ủy bộ phận | C17: =SUM(D17:G17) -> 0 | Y17: =IF(AND(H17<=C17,I17<=C17,J17<=C17,K17<=C17,L17<=C17,M17<=C17,N17<=C17,O17<=C17,P17<=C17,Q17<=C17),"Đúng","Sai") -> Đúng | Z17: =IF(C17=R17+S17+T17+U17,"Đúng","Sai") -> Đúng | AA17: =IF(U17=V17+W17,"Đúng","Sai") -> Đúng | AB17: =IF(X17<=W17,"Đúng","Sai") -> Đúng
B18: Chi uỷ viên | C18: =SUM(D18:G18) -> 0 | Y18: =IF(AND(H18<=C18,I18<=C18,J18<=C18,K18<=C18,L18<=C18,M18<=C18,N18<=C18,O18<=C18,P18<=C18,Q18<=C18),"Đúng","Sai") -> Đúng | Z18: =IF(C18=R18+S18+T18+U18,"Đúng","Sai") -> Đúng | AA18: =IF(U18=V18+W18,"Đúng","Sai") -> Đúng | AB18: =IF(X18<=W18,"Đúng","Sai") -> Đúng
A19: III | B19: Đảng viên ở các lĩnh vực | C19: =SUM(C20:C26) -> 0 | D19: =SUM(D20:D26) -> 0 | E19: =SUM(E20:E26) -> 0 | F19: =SUM(F20:F26) -> 0 | G19: =SUM(G20:G26) -> 0 | H19: =SUM(H20:H26) -> 0 | I19: =SUM(I20:I26) -> 0 | J19: =SUM(J20:J26) -> 0 | ... X19: =SUM(X20:X26) -> 0 | Y19: =IF(AND(H19<=C19,I19<=C19,J19<=C19,K19<=C19,L19<=C19,M19<=C19,N19<=C19,O19<=C19,P19<=C19,Q19<=C19),"Đúng","Sai") -> Đúng | Z19: =IF(C19=R19+S19+T19+U19,"Đúng","Sai") -> Đúng | AA19: =IF(U19=V19+W19,"Đúng","Sai") -> Đúng | AB19: =IF(X19<=W19,"Đúng","Sai") -> Đúng
B20: Đảng | C20: =SUM(D20:G20) -> 0 | Y20: =IF(AND(H20<=C20,I20<=C20,J20<=C20,K20<=C20,L20<=C20,M20<=C20,N20<=C20,O20<=C20,P20<=C20,Q20<=C20),"Đúng","Sai") -> Đúng | Z20: =IF(C20=R20+S20+T20+U20,"Đúng","Sai") -> Đúng | AA20: =IF(U20=V20+W20,"Đúng","Sai") -> Đúng | AB20: =IF(X20<=W20,"Đúng","Sai") -> Đúng
B21: Hành chính, Nhà nước | C21: =SUM(D21:G21) -> 0 | Y21: =IF(AND(H21<=C21,I21<=C21,J21<=C21,K21<=C21,L21<=C21,M21<=C21,N21<=C21,O21<=C21,P21<=C21,Q21<=C21),"Đúng","Sai") -> Đúng | Z21: =IF(C21=R21+S21+T21+U21,"Đúng","Sai") -> Đúng | AA21: =IF(U21=V21+W21,"Đúng","Sai") -> Đúng | AB21: =IF(X21<=W21,"Đúng","Sai") -> Đúng
B22: Đoàn thể | C22: =SUM(D22:G22) -> 0 | Y22: =IF(AND(H22<=C22,I22<=C22,J22<=C22,K22<=C22,L22<=C22,M22<=C22,N22<=C22,O22<=C22,P22<=C22,Q22<=C22),"Đúng","Sai") -> Đúng | Z22: =IF(C22=R22+S22+T22+U22,"Đúng","Sai") -> Đúng | AA22: =IF(U22=V22+W22,"Đúng","Sai") -> Đúng | AB22: =IF(X22<=W22,"Đúng","Sai") -> Đúng
B23: Lực lượng vũ trang | C23: =SUM(D23:G23) -> 0 | Y23: =IF(AND(H23<=C23,I23<=C23,J23<=C23,K23<=C23,L23<=C23,M23<=C23,N23<=C23,O23<=C23,P23<=C23,Q23<=C23),"Đúng","Sai") -> Đúng | Z23: =IF(C23=R23+S23+T23+U23,"Đúng","Sai") -> Đúng | AA23: =IF(U23=V23+W23,"Đúng","Sai") -> Đúng | AB23: =IF(X23<=W23,"Đúng","Sai") -> Đúng
B24: Sự nghiệp công lập | C24: =SUM(D24:G24) -> 0 | Y24: =IF(AND(H24<=C24,I24<=C24,J24<=C24,K24<=C24,L24<=C24,M24<=C24,N24<=C24,O24<=C24,P24<=C24,Q24<=C24),"Đúng","Sai") -> Đúng | Z24: =IF(C24=R24+S24+T24+U24,"Đúng","Sai") -> Đúng | AA24: =IF(U24=V24+W24,"Đúng","Sai") -> Đúng | AB24: =IF(X24<=W24,"Đúng","Sai") -> Đúng
B25: Sản xuất kinh doanh, dịch vụ | C25: =SUM(D25:G25) -> 0 | Y25: =IF(AND(H25<=C25,I25<=C25,J25<=C25,K25<=C25,L25<=C25,M25<=C25,N25<=C25,O25<=C25,P25<=C25,Q25<=C25),"Đúng","Sai") -> Đúng | Z25: =IF(C25=R25+S25+T25+U25,"Đúng","Sai") -> Đúng | AA25: =IF(U25=V25+W25,"Đúng","Sai") -> Đúng | AB25: =IF(X25<=W25,"Đúng","Sai") -> Đúng
B26: Các lĩnh vực khác | C26: =SUM(D26:G26) -> 0 | Y26: =IF(AND(H26<=C26,I26<=C26,J26<=C26,K26<=C26,L26<=C26,M26<=C26,N26<=C26,O26<=C26,P26<=C26,Q26<=C26),"Đúng","Sai") -> Đúng | Z26: =IF(C26=R26+S26+T26+U26,"Đúng","Sai") -> Đúng | AA26: =IF(U26=V26+W26,"Đúng","Sai") -> Đúng | AB26: =IF(X26<=W26,"Đúng","Sai") -> Đúng
A27: IV | B27: Kết luận | C27: =SUM(C28:C31) -> 0 | D27: =SUM(D28:D31) -> 0 | E27: =SUM(E28:E31) -> 0 | F27: =SUM(F28:F31) -> 0 | G27: =SUM(G28:G31) -> 0 | H27: =SUM(H28:H31) -> 0 | I27: =SUM(I28:I31) -> 0 | J27: =SUM(J28:J31) -> 0 | ... Q27: =SUM(Q28:Q31) -> 0
B28: Cho rút đơn, không xem xét giải quyết | C28: =SUM(D28:G28) -> 0
B29: Chưa có cơ sở kết luận | C29: =SUM(D29:G29) -> 0
B30: Tố sai | C30: =SUM(D30:G30) -> 0
B31: Tố đúng và đúng một phần | C31: =SUM(D31:G31) -> 0
B32: Đúng có vi phạm nhưng chưa đến mức phải kỷ luật | C32: =SUM(D32:G32) -> 0
B33: Phải thi hành kỷ luật | C33: =SUM(D33:G33) -> 0
B34: Đã thi hành kỷ luật | C34: =SUM(D34:G34) -> 0
B35: GQ đúng thời gian quy định | C35: =SUM(D35:G35) -> 0
C37: =IF(AND(C7=C27,C19=C27), "Đúng","Sai") -> Đúng | D37: =IF(D7=D27, "Đúng","Sai") -> Đúng | E37: =IF(E7=E27, "Đúng","Sai") -> Đúng | F37: =IF(F7=F27, "Đúng","Sai") -> Đúng | G37: =IF(G7=G27, "Đúng","Sai") -> Đúng | H37: =IF(H7=H27, "Đúng","Sai") -> Đúng | I37: =IF(I7=I27, "Đúng","Sai") -> Đúng | J37: =IF(J7=J27, "Đúng","Sai") -> Đúng | K37: =IF(K7=K27, "Đúng","Sai") -> Đúng | ... Q37: =IF(Q7=Q27, "Đúng","Sai") -> Đúng | R37: =IF(R7=R19, "Đúng","Sai") -> Đúng | S37: =IF(S7=S19, "Đúng","Sai") -> Đúng | T37: =IF(T7=T19, "Đúng","Sai") -> Đúng | U37: =IF(U7=U19, "Đúng","Sai") -> Đúng | V37: =IF(V7=V19, "Đúng","Sai") -> Đúng | W37: =IF(W7=W19, "Đúng","Sai") -> Đúng | X37: =IF(X7=X19, "Đúng","Sai") -> Đúng
C38: =IF(C31=C32+C33,"Đúng","Sai") -> Đúng | D38: =IF(D31=D32+D33,"Đúng","Sai") -> Đúng | E38: =IF(E31=E32+E33,"Đúng","Sai") -> Đúng | F38: =IF(F31=F32+F33,"Đúng","Sai") -> Đúng | G38: =IF(G31=G32+G33,"Đúng","Sai") -> Đúng | H38: =IF(H31=H32+H33,"Đúng","Sai") -> Đúng | I38: =IF(I31=I32+I33,"Đúng","Sai") -> Đúng | J38: =IF(J31=J32+J33,"Đúng","Sai") -> Đúng | ... Q38: =IF(Q31=Q32+Q33,"Đúng","Sai") -> Đúng
C39: =IF(C34<=C33,"Đúng","Sai") -> Đúng | D39: =IF(D34<=D33,"Đúng","Sai") -> Đúng | E39: =IF(E34<=E33,"Đúng","Sai") -> Đúng | F39: =IF(F34<=F33,"Đúng","Sai") -> Đúng | G39: =IF(G34<=G33,"Đúng","Sai") -> Đúng | H39: =IF(H34<=H33,"Đúng","Sai") -> Đúng | I39: =IF(I34<=I33,"Đúng","Sai") -> Đúng | J39: =IF(J34<=J33,"Đúng","Sai") -> Đúng | ... Q39: =IF(Q34<=Q33,"Đúng","Sai") -> Đúng
C40: =IF(C35<=C7,"Đúng","Sai") -> Đúng | D40: =IF(D35<=D7,"Đúng","Sai") -> Đúng | E40: =IF(E35<=E7,"Đúng","Sai") -> Đúng | F40: =IF(F35<=F7,"Đúng","Sai") -> Đúng | G40: =IF(G35<=G7,"Đúng","Sai") -> Đúng | H40: =IF(H35<=H7,"Đúng","Sai") -> Đúng | I40: =IF(I35<=I7,"Đúng","Sai") -> Đúng | J40: =IF(J35<=J7,"Đúng","Sai") -> Đúng | ... Q40: =IF(Q35<=Q7,"Đúng","Sai") -> Đúng
C41: =IF(R19=C28, "Đúng","Sai") -> Đúng
C42: =IF(S19=C29, "Đúng","Sai") -> Đúng
C43: =IF(T19=C30, "Đúng","Sai") -> Đúng
C44: =IF(U19=C31, "Đúng","Sai") -> Đúng
C45: =IF(V19=C32, "Đúng","Sai") -> Đúng
C46: =IF(W19=C33, "Đúng","Sai") -> Đúng
C47: =IF(X19=C34, "Đúng","Sai") -> Đúng

Sheet B21
A1: GIẢI QUYẾT KHIẾU NẠI KỶ LUẬT ĐẢNG VIÊN CỦA ỦY BAN KIỂM TRA CÁC CẤP | R1: Biểu 21
Q2: (ĐVT: Đảng viên)
A3: TT | B3: Đảng viên khiếu nại kỷ luật | C3: Tổng số đã giải quyết xong | D3: Cấp giải quyết | H3: Nội dung khiếu nại | K3: Kết luận
D4: UBKT Trung ương | E4: UBKT tỉnh uỷ và tương đương | F4: UBKT đảng ủy cấp trên trực tiếp cơ sở và tương đương | G4: UBKT đảng ủy cơ sở | H4: Nội dung vi phạm | I4: Hình thức kỷ luật | J4: Nguyên tắc, thủ tục, quy trình, thẩm quyền | K4: Cho rút đơn, không xem xét, giải quyết | L4: Giữ nguyên hình thức kỷ luật | M4: Thay đổi hình thức kỷ luật | N4: Trong đó | Q4: Nguyên nhân thay đổi hình thức kỷ luật
N5: Tăng hình thức kỷ luật | O5: Giảm hình thức kỷ luật | P5: Xoá kỷ luật | Q5: Vận dụng phương hướng, phương châm thi hành kỷ luật | R5: Thẩm tra, xác minh | S5: Khác
A6: 1 | B6: 2 | C6: 3 | D6: 4 | E6: 5 | F6: 6 | G6: 7 | H6: 8 | I6: 9 | J6: 10 | K6: 11 | L6: 12 | M6: 13 | N6: 14 | O6: 15 | P6: 16 | Q6: 17 | R6: 18 | S6: 19
A7: I | B7: Cấp quyết định kỷ luật | C7: =SUM(C8:C16) -> 0 | D7: =SUM(D8:D16) -> 0 | E7: =SUM(E8:E16) -> 0 | F7: =SUM(F8:F16) -> 0 | G7: =SUM(G8:G16) -> 0 | H7: =SUM(H8:H16) -> 0 | I7: =SUM(I8:I16) -> 0 | J7: =SUM(J8:J16) -> 0 | ... S7: =SUM(S8:S16) -> 0 | T7: =IF(AND(H7<=C7,I7<=C7,J7<=C7),"Đúng","Sai") -> Đúng | U7: =IF(C7=K7+L7+M7,"Đúng","Sai") -> Đúng | V7: =IF(M7=N7+O7+P7,"Đúng","Sai") -> Đúng
B8: Tỉnh ủy và tương đương | C8: =SUM(D8:G8) -> 0 | T8: =IF(AND(H8<=C8,I8<=C8,J8<=C8),"Đúng","Sai") -> Đúng | U8: =IF(C8=K8+L8+M8,"Đúng","Sai") -> Đúng | V8: =IF(M8=N8+O8+P8,"Đúng","Sai") -> Đúng
B9: BTV tỉnh ủy và tương đương | C9: =SUM(D9:G9) -> 0 | T9: =IF(AND(H9<=C9,I9<=C9,J9<=C9),"Đúng","Sai") -> Đúng | U9: =IF(C9=K9+L9+M9,"Đúng","Sai") -> Đúng | V9: =IF(M9=N9+O9+P9,"Đúng","Sai") -> Đúng
B10: UBKT tỉnh uỷ và tương đương | C10: =SUM(D10:G10) -> 0 | T10: =IF(AND(H10<=C10,I10<=C10,J10<=C10),"Đúng","Sai") -> Đúng | U10: =IF(C10=K10+L10+M10,"Đúng","Sai") -> Đúng | V10: =IF(M10=N10+O10+P10,"Đúng","Sai") -> Đúng
B11: Đảng ủy cấp trên trực tiếp cơ sở và tương đương | C11: =SUM(D11:G11) -> 0 | T11: =IF(AND(H11<=C11,I11<=C11,J11<=C11),"Đúng","Sai") -> Đúng | U11: =IF(C11=K11+L11+M11,"Đúng","Sai") -> Đúng | V11: =IF(M11=N11+O11+P11,"Đúng","Sai") -> Đúng
B12: BTV ĐU cấp trên trực tiếp cơ sở và tương đương | C12: =SUM(D12:G12) -> 0 | T12: =IF(AND(H12<=C12,I12<=C12,J12<=C12),"Đúng","Sai") -> Đúng | U12: =IF(C12=K12+L12+M12,"Đúng","Sai") -> Đúng | V12: =IF(M12=N12+O12+P12,"Đúng","Sai") -> Đúng
B13: UBKT đảng ủy cấp trên trực tiếp cơ sở và tương đương | C13: =SUM(D13:G13) -> 0 | T13: =IF(AND(H13<=C13,I13<=C13,J13<=C13),"Đúng","Sai") -> Đúng | U13: =IF(C13=K13+L13+M13,"Đúng","Sai") -> Đúng | V13: =IF(M13=N13+O13+P13,"Đúng","Sai") -> Đúng
B14: Đảng ủy cơ sở | C14: =SUM(D14:G14) -> 0 | T14: =IF(AND(H14<=C14,I14<=C14,J14<=C14),"Đúng","Sai") -> Đúng | U14: =IF(C14=K14+L14+M14,"Đúng","Sai") -> Đúng | V14: =IF(M14=N14+O14+P14,"Đúng","Sai") -> Đúng
B15: UBKT Đảng ủy cơ sở | C15: =SUM(D15:G15) -> 0 | T15: =IF(AND(H15<=C15,I15<=C15,J15<=C15),"Đúng","Sai") -> Đúng | U15: =IF(C15=K15+L15+M15,"Đúng","Sai") -> Đúng | V15: =IF(M15=N15+O15+P15,"Đúng","Sai") -> Đúng
B16: Chi bộ | C16: =SUM(D16:G16) -> 0 | T16: =IF(AND(H16<=C16,I16<=C16,J16<=C16),"Đúng","Sai") -> Đúng | U16: =IF(C16=K16+L16+M16,"Đúng","Sai") -> Đúng | V16: =IF(M16=N16+O16+P16,"Đúng","Sai") -> Đúng
A17: II | B17: Cấp quản lý đảng viên | C17: =SUM(C18:C21) -> 0 | D17: =SUM(D18:D21) -> 0 | E17: =SUM(E18:E21) -> 0 | F17: =SUM(F18:F21) -> 0 | G17: =SUM(G18:G21) -> 0 | H17: =SUM(H18:H21) -> 0 | I17: =SUM(I18:I21) -> 0 | J17: =SUM(J18:J21) -> 0 | ... S17: =SUM(S18:S21) -> 0 | T17: =IF(AND(H17<=C17,I17<=C17,J17<=C17),"Đúng","Sai") -> Đúng | U17: =IF(C17=K17+L17+M17,"Đúng","Sai") -> Đúng | V17: =IF(M17=N17+O17+P17,"Đúng","Sai") -> Đúng
B18: Trung ương | C18: =SUM(D18:G18) -> 0 | T18: =IF(AND(H18<=C18,I18<=C18,J18<=C18),"Đúng","Sai") -> Đúng | U18: =IF(C18=K18+L18+M18,"Đúng","Sai") -> Đúng | V18: =IF(M18=N18+O18+P18,"Đúng","Sai") -> Đúng
B19: Cấp tỉnh và tương đương | C19: =SUM(D19:G19) -> 0 | T19: =IF(AND(H19<=C19,I19<=C19,J19<=C19),"Đúng","Sai") -> Đúng | U19: =IF(C19=K19+L19+M19,"Đúng","Sai") -> Đúng | V19: =IF(M19=N19+O19+P19,"Đúng","Sai") -> Đúng
B20: Cấp trên trực tiếp cơ sở và tương đương | C20: =SUM(D20:G20) -> 0 | T20: =IF(AND(H20<=C20,I20<=C20,J20<=C20),"Đúng","Sai") -> Đúng | U20: =IF(C20=K20+L20+M20,"Đúng","Sai") -> Đúng | V20: =IF(M20=N20+O20+P20,"Đúng","Sai") -> Đúng
B21: Cấp cơ sở | C21: =SUM(D21:G21) -> 0 | T21: =IF(AND(H21<=C21,I21<=C21,J21<=C21),"Đúng","Sai") -> Đúng | U21: =IF(C21=K21+L21+M21,"Đúng","Sai") -> Đúng | V21: =IF(M21=N21+O21+P21,"Đúng","Sai") -> Đúng
A22: III | B22: Kết luận | C22: =SUM(C23:C25) -> 0 | D22: =SUM(D23:D25) -> 0 | E22: =SUM(E23:E25) -> 0 | F22: =SUM(F23:F25) -> 0 | G22: =SUM(G23:G25) -> 0
B23: Cho rút đơn, không xem xét giải quyết | C23: =SUM(D23:J23) -> 0
B24: Giữ nguyên hình thức kỷ luật | C24: =SUM(D24:J24) -> 0
B25: Thay đổi hình thức kỷ luật | C25: =SUM(D25:J25) -> 0
B26: Tăng hình thức kỷ luật | C26: =SUM(D26:J26) -> 0
B27: Giảm hình thức kỷ luật | C27: =SUM(D27:J27) -> 0
B28: Xoá kỷ luật | C28: =SUM(D28:J28) -> 0
B29: GQ đúng thời gian quy định | C29: =SUM(D29:G29) -> 0
C30: =IF(C7=C17, "Đúng","Sai") -> Đúng | D30: =IF(D7=D17, "Đúng","Sai") -> Đúng | E30: =IF(E7=E17, "Đúng","Sai") -> Đúng | F30: =IF(F7=F17, "Đúng","Sai") -> Đúng | G30: =IF(G7=G17, "Đúng","Sai") -> Đúng | H30: =IF(H7=H17, "Đúng","Sai") -> Đúng | I30: =IF(I7=I17, "Đúng","Sai") -> Đúng | J30: =IF(J7=J17, "Đúng","Sai") -> Đúng | ... S30: =IF(S7=S17, "Đúng","Sai") -> Đúng
C31: =IF(C29<=C7,"Đúng","Sai") -> Đúng | D31: =IF(D29<=D7,"Đúng","Sai") -> Đúng | E31: =IF(E29<=E7,"Đúng","Sai") -> Đúng | F31: =IF(F29<=F7,"Đúng","Sai") -> Đúng | G31: =IF(G29<=G7,"Đúng","Sai") -> Đúng

Sheet B22
A1: KIỂM TRA TÀI CHÍNH ĐẢNG (VỀ THU CHI NGÂN SÁCH VÀ SẢN XUẤT KINH DOANH) | AC1: Biểu 22
A3: TT | B3: Nội dung | C3: Tổng số tổ chức đảng được kiểm tra | D3: Cấp kiểm tra (ĐVT: TCĐ) | H3: Nội dung kiểm tra (ĐVT: TCĐ) | N3: Kết luận
N4: Số TCĐ có vi phạm | O4: Số có vi phạm nhưng chưa đến mức phải kỷ luật | P4: Số có vi phạm phải thi hành kỷ luật | Q4: Số có vi phạm đã thi hành kỷ luật | R4: Nội dung vi phạm | AB4: Đảng viên có vi phạm (ĐVT: đảng viên)
D5: UBKT Trung ương | E5: UBKT tỉnh uỷ và tương đương | F5: UBKT đảng ủy cấp trên trực tiếp cơ sở và tương đương | G5: UBKT đảng ủy cơ sở | H5: Tài chính của cấp ủy | I5: Tài chính của đơn vị hành chính | J5: Tài chính của đơn vị sự nghiệp | K5: Sản xuất kinh doanh | L5: Xây dựng cơ bản, sửa chữa, mua sắm tài sản | M5: Các nội dung khác | R5: Trong công tác tham mưu, thực hiện quy định, chính sách | S5: Trong công tác chỉ đạo, hướng dẫn, kiểm tra tài chính cấp dưới | T5: Trong chi tiêu, quản lý tài chính | U5: Trong công tác hạch toán, kế toán | V5: Trong đó | AB5: Tổng số | AC5: Có vi phạm chưa đến mức phải kỷ luật | AD5: Phải thi hành kỷ luật | AE5: Đã thi hành kỷ luật | AF5: Chuyển cơ quan pháp luật xử lý
V6: Số tiền vi phạm (ĐVT: Triệu đồng) | Y6: Đề nghị xử lý (ĐVT: Triệu đồng)
V7: Thất thoát, lãng phí | W7: Để ngoài sổ sách, sai chế độ | X7: Các vi phạm khác | Y7: Thu hồi, yêu cầu bồi thường | Z7: Xuất toán, hạch toán lại | AA7: Khác
A8: 1 | B8: 2 | C8: 3 | D8: 4 | E8: 5 | F8: 6 | G8: 7 | H8: 8 | I8: 9 | J8: 10 | K8: 11 | L8: 12 | M8: 13 | N8: 14 | O8: 15 | P8: 16 | Q8: 17 | R8: 18 | S8: 19 | T8: 20 | U8: 21 | V8: 22 | W8: 23 | X8: 24 | Y8: 25 | Z8: 26 | AA8: 27 | AB8: 28 | AC8: 29 | AD8: 30 | AE8: 31 | AF8: 32
A9: I | B9: Tổ chức đảng được kiểm tra | C9: =SUM(C10:C20) -> 0 | D9: =SUM(D10:D20) -> 0 | E9: =SUM(E10:E20) -> 0 | F9: =SUM(F10:F20) -> 0 | G9: =SUM(G10:G20) -> 0 | H9: =SUM(H10:H20) -> 0 | I9: =SUM(I10:I20) -> 0 | J9: =SUM(J10:J20) -> 0 | ... AF9: =SUM(AF10:AF20) -> 0
B10: Văn phòng Trung ương | C10: =SUM(D10:G10) -> 0 | N10: =SUM(O10:P10) -> 0 | AB10: =SUM(AC10:AD10) -> 0 | AG10: =IF(N10=O10+P10,"Đúng","Sai") -> Đúng | AH10: =IF(AND(R10<=N10,S10<=N10,T10<=N10,U10<=N10),"Đúng","Sai") -> Đúng | AI10: =IF(AB10=AC10+AD10,"Đúng","Sai") -> Đúng | AJ10: =IF(AE10<=AD10,"Đúng","Sai") -> Đúng
B11: Đơn vị dự toán ngân sách cấp dưới trực thuộc của Trung ương | C11: =SUM(D11:G11) -> 0 | N11: =SUM(O11:P11) -> 0 | AB11: =SUM(AC11:AD11) -> 0 | AG11: =IF(N11=O11+P11,"Đúng","Sai") -> Đúng | AH11: =IF(AND(R11<=N11,S11<=N11,T11<=N11,U11<=N11),"Đúng","Sai") -> Đúng | AI11: =IF(AB11=AC11+AD11,"Đúng","Sai") -> Đúng | AJ11: =IF(AE11<=AD11,"Đúng","Sai") -> Đúng
B12: Doanh nghiệp của Đảng ở Trung ương | C12: =SUM(D12:G12) -> 0 | N12: =SUM(O12:P12) -> 0 | AB12: =SUM(AC12:AD12) -> 0 | AG12: =IF(N12=O12+P12,"Đúng","Sai") -> Đúng | AH12: =IF(AND(R12<=N12,S12<=N12,T12<=N12,U12<=N12),"Đúng","Sai") -> Đúng | AI12: =IF(AB12=AC12+AD12,"Đúng","Sai") -> Đúng | AJ12: =IF(AE12<=AD12,"Đúng","Sai") -> Đúng
B13: Tỉnh ủy, BTV tỉnh ủy và tương đương | C13: =SUM(D13:G13) -> 0 | N13: =SUM(O13:P13) -> 0 | AB13: =SUM(AC13:AD13) -> 0 | AG13: =IF(N13=O13+P13,"Đúng","Sai") -> Đúng | AH13: =IF(AND(R13<=N13,S13<=N13,T13<=N13,U13<=N13),"Đúng","Sai") -> Đúng | AI13: =IF(AB13=AC13+AD13,"Đúng","Sai") -> Đúng | AJ13: =IF(AE13<=AD13,"Đúng","Sai") -> Đúng
B14: Cơ quan tài chính tỉnh ủy và tương đương | C14: =SUM(D14:G14) -> 0 | N14: =SUM(O14:P14) -> 0 | AB14: =SUM(AC14:AD14) -> 0 | AG14: =IF(N14=O14+P14,"Đúng","Sai") -> Đúng | AH14: =IF(AND(R14<=N14,S14<=N14,T14<=N14,U14<=N14),"Đúng","Sai") -> Đúng | AI14: =IF(AB14=AC14+AD14,"Đúng","Sai") -> Đúng | AJ14: =IF(AE14<=AD14,"Đúng","Sai") -> Đúng
B15: Đơn vị dự toán ngân sách cấp dưới trực thuộc của tỉnh ủy và tương đương | C15: =SUM(D15:G15) -> 0 | N15: =SUM(O15:P15) -> 0 | AB15: =SUM(AC15:AD15) -> 0 | AG15: =IF(N15=O15+P15,"Đúng","Sai") -> Đúng | AH15: =IF(AND(R15<=N15,S15<=N15,T15<=N15,U15<=N15),"Đúng","Sai") -> Đúng | AI15: =IF(AB15=AC15+AD15,"Đúng","Sai") -> Đúng | AJ15: =IF(AE15<=AD15,"Đúng","Sai") -> Đúng
B16: Doanh nghiệp của Đảng ở tỉnh ủy và tương đương | C16: =SUM(D16:G16) -> 0 | N16: =SUM(O16:P16) -> 0 | AB16: =SUM(AC16:AD16) -> 0 | AG16: =IF(N16=O16+P16,"Đúng","Sai") -> Đúng | AH16: =IF(AND(R16<=N16,S16<=N16,T16<=N16,U16<=N16),"Đúng","Sai") -> Đúng | AI16: =IF(AB16=AC16+AD16,"Đúng","Sai") -> Đúng | AJ16: =IF(AE16<=AD16,"Đúng","Sai") -> Đúng
B17: Đảng ủy, BTV ĐU cấp trên trực tiếp cơ sở và tương đương | C17: =SUM(D17:G17) -> 0 | N17: =SUM(O17:P17) -> 0 | AB17: =SUM(AC17:AD17) -> 0 | AG17: =IF(N17=O17+P17,"Đúng","Sai") -> Đúng | AH17: =IF(AND(R17<=N17,S17<=N17,T17<=N17,U17<=N17),"Đúng","Sai") -> Đúng | AI17: =IF(AB17=AC17+AD17,"Đúng","Sai") -> Đúng | AJ17: =IF(AE17<=AD17,"Đúng","Sai") -> Đúng
B18: Cơ quan tài chính cấp ủy cấp trên trực tiếp cơ sở và tương đương | C18: =SUM(D18:G18) -> 0 | N18: =SUM(O18:P18) -> 0 | AB18: =SUM(AC18:AD18) -> 0 | AG18: =IF(N18=O18+P18,"Đúng","Sai") -> Đúng | AH18: =IF(AND(R18<=N18,S18<=N18,T18<=N18,U18<=N18),"Đúng","Sai") -> Đúng | AI18: =IF(AB18=AC18+AD18,"Đúng","Sai") -> Đúng | AJ18: =IF(AE18<=AD18,"Đúng","Sai") -> Đúng
B19: Đảng ủy cơ sở, BTV đảng ủy cơ sở | C19: =SUM(D19:G19) -> 0 | N19: =SUM(O19:P19) -> 0 | AB19: =SUM(AC19:AD19) -> 0 | AG19: =IF(N19=O19+P19,"Đúng","Sai") -> Đúng | AH19: =IF(AND(R19<=N19,S19<=N19,T19<=N19,U19<=N19),"Đúng","Sai") -> Đúng | AI19: =IF(AB19=AC19+AD19,"Đúng","Sai") -> Đúng | AJ19: =IF(AE19<=AD19,"Đúng","Sai") -> Đúng
B20: Đảng ủy bộ phận, chi bộ trực thuộc | C20: =SUM(D20:G20) -> 0 | N20: =SUM(O20:P20) -> 0 | AB20: =SUM(AC20:AD20) -> 0 | AG20: =IF(N20=O20+P20,"Đúng","Sai") -> Đúng | AH20: =IF(AND(R20<=N20,S20<=N20,T20<=N20,U20<=N20),"Đúng","Sai") -> Đúng | AI20: =IF(AB20=AC20+AD20,"Đúng","Sai") -> Đúng | AJ20: =IF(AE20<=AD20,"Đúng","Sai") -> Đúng
A21: II | B21: Cấp kiểm tra | O21: =SUM(O22:O25) -> 0 | P21: =SUM(P22:P25) -> 0 | Q21: =SUM(Q22:Q25) -> 0 | AC21: =SUM(AC22:AC25) -> 0 | AD21: =SUM(AD22:AD25) -> 0 | AE21: =SUM(AE22:AE25) -> 0 | AF21: =SUM(AF22:AF25) -> 0
B22: UBKT Trung ương
B23: UBKT tỉnh uỷ và tương đương
B24: UBKT đảng ủy cấp trên trực tiếp cơ sở và tương đương
B25: UBKT đảng ủy cơ sở

Sheet B23
A1: KIỂM TRA TÀI CHÍNH ĐẢNG (VỀ VIỆC THU, NỘP, QUẢN LÝ VÀ SỬ DỤNG ĐẢNG PHÍ) | Z1: Biểu 23
A3: TT | B3: Nội dung | C3: Tổng số tổ chức đảng được kiểm tra | D3: Cấp kiểm tra (ĐVT: TCĐ) | H3: Số lượng đảng viên tại TCĐ được kiểm tra theo cấp kiểm tra (ĐVT: đảng viên) | M3: Kết luận
D4: UBKT Trung ương | E4: UBKT tỉnh uỷ và tương đương | F4: UBKT đảng ủy cấp trên trực tiếp cơ sở và tương đương | G4: UBKT đảng uỷ cơ sở | H4: Tổng số đảng viên | I4: UBKT Trung ương | J4: UBKT tỉnh uỷ và tương đương | K4: UBKT đảng ủy cấp trên trực tiếp cơ sở và tương đương | L4: UBKT đảng uỷ cơ sở | M4: Số tổ chức đảng có vi phạm | N4: Phải thi hành kỷ luật | O4: Đã thi hành kỷ luật | P4: Số tiền vi phạm (ĐVT: triệu đồng) | Y4: Đảng viên có vi phạm (ĐVT: đảng viên)
P5: Tổng số | Q5: Nội dung vi phạm | U5: Đề nghị xử lý | Y5: Tổng số | Z5: Có vi phạm nhưng chưa đến mức phải kỷ luật | AA5: Phải thi hành kỷ luật | AB5: Đã thi hành kỷ luật
Q6: Thu thiếu | R6: Thu thừa | S6: Chi sai chế độ | T6: Khác | U6: Xuất toán, thu hồi | V6: Hạch toán lại | W6: Giao đơn vị xử lý | X6: Khác
A7: 1 | B7: 2 | C7: 8 | D7: 9 | E7: 10 | F7: 11 | G7: 12 | H7: 3 | I7: 4 | J7: 5 | K7: 6 | L7: 7 | M7: 13 | N7: 14 | O7: 15 | P7: 16 | Q7: 17 | R7: 18 | S7: 19 | T7: 20 | U7: 21 | V7: 22 | W7: 23 | X7: 24 | Y7: 25 | Z7: 26 | AA7: 27 | AB7: 28
A8: I | B8: Tổ chức đảng được kiểm tra | C8: =SUM(C9:C15) -> 0 | D8: =SUM(D9:D15) -> 0 | E8: =SUM(E9:E15) -> 0 | F8: =SUM(F9:F15) -> 0 | G8: =SUM(G9:G15) -> 0 | H8: =SUM(H9:H15) -> 0 | I8: =SUM(I9:I15) -> 0 | J8: =SUM(J9:J15) -> 0 | ... AB8: =SUM(AB9:AB15) -> 0 | AC8: =IF(C8=SUM(D8:G8),"Đúng","Sai") -> Đúng | AD8: =IF(AND(O8<=N8,N8<=M8,M8<=C8),"Đúng","Sai") -> Đúng | AE8: =IF(P8=SUM(Q8:T8),"Đúng","Sai") -> Đúng | AF8: =IF(Y8=Z8+AA8,"Đúng","Sai") -> Đúng | AG8: =IF(AND(AB8<=AA8,Y8<=H8),"Đúng","Sai") -> Đúng
B9: Văn phòng Trung ương | C9: =SUM(D9:G9) -> 0 | H9: =SUM(I9:L9) -> 0 | P9: =SUM(Q9:T9) -> 0 | Y9: =Z9+AA9 -> 0 | AC9: =IF(C9=SUM(D9:G9),"Đúng","Sai") -> Đúng | AD9: =IF(AND(O9<=N9,N9<=M9,M9<=C9),"Đúng","Sai") -> Đúng | AE9: =IF(P9=SUM(Q9:T9),"Đúng","Sai") -> Đúng | AF9: =IF(Y9=Z9+AA9,"Đúng","Sai") -> Đúng | AG9: =IF(AB9<=AA9,"Đúng","Sai") -> Đúng
B10: Tỉnh ủy, BTV tỉnh ủy và tương đương | C10: =SUM(D10:G10) -> 0 | H10: =SUM(I10:L10) -> 0 | P10: =SUM(Q10:T10) -> 0 | Y10: =Z10+AA10 -> 0 | AC10: =IF(C10=SUM(D10:G10),"Đúng","Sai") -> Đúng | AD10: =IF(AND(O10<=N10,N10<=M10,M10<=C10),"Đúng","Sai") -> Đúng | AE10: =IF(P10=SUM(Q10:T10),"Đúng","Sai") -> Đúng | AF10: =IF(Y10=Z10+AA10,"Đúng","Sai") -> Đúng | AG10: =IF(AND(AB10<=AA10,Y10<=H10),"Đúng","Sai") -> Đúng
B11: Cơ quan tài chính tỉnh ủy và tương đương | C11: =SUM(D11:G11) -> 0 | H11: =SUM(I11:L11) -> 0 | P11: =SUM(Q11:T11) -> 0 | Y11: =Z11+AA11 -> 0 | AC11: =IF(C11=SUM(D11:G11),"Đúng","Sai") -> Đúng | AD11: =IF(AND(O11<=N11,N11<=M11,M11<=C11),"Đúng","Sai") -> Đúng | AE11: =IF(P11=SUM(Q11:T11),"Đúng","Sai") -> Đúng | AF11: =IF(Y11=Z11+AA11,"Đúng","Sai") -> Đúng | AG11: =IF(AND(AB11<=AA11,Y11<=H11),"Đúng","Sai") -> Đúng
B12: Đảng ủy, BTV ĐU cấp trên trực tiếp cơ sở và tương đương | C12: =SUM(D12:G12) -> 0 | H12: =SUM(I12:L12) -> 0 | P12: =SUM(Q12:T12) -> 0 | Y12: =Z12+AA12 -> 0 | AC12: =IF(C12=SUM(D12:G12),"Đúng","Sai") -> Đúng | AD12: =IF(AND(O12<=N12,N12<=M12,M12<=C12),"Đúng","Sai") -> Đúng | AE12: =IF(P12=SUM(Q12:T12),"Đúng","Sai") -> Đúng | AF12: =IF(Y12=Z12+AA12,"Đúng","Sai") -> Đúng | AG12: =IF(AND(AB12<=AA12,Y12<=H12),"Đúng","Sai") -> Đúng
B13: Cơ quan tài chính cấp ủy cấp trên trực tiếp cơ sở và tương đương | C13: =SUM(D13:G13) -> 0 | H13: =SUM(I13:L13) -> 0 | P13: =SUM(Q13:T13) -> 0 | Y13: =Z13+AA13 -> 0 | AC13: =IF(C13=SUM(D13:G13),"Đúng","Sai") -> Đúng | AD13: =IF(AND(O13<=N13,N13<=M13,M13<=C13),"Đúng","Sai") -> Đúng | AE13: =IF(P13=SUM(Q13:T13),"Đúng","Sai") -> Đúng | AF13: =IF(Y13=Z13+AA13,"Đúng","Sai") -> Đúng | AG13: =IF(AND(AB13<=AA13,Y13<=H13),"Đúng","Sai") -> Đúng
B14: Đảng ủy cơ sở, BTV đảng ủy cơ sở | C14: =SUM(D14:G14) -> 0 | H14: =SUM(I14:L14) -> 0 | P14: =SUM(Q14:T14) -> 0 | Y14: =Z14+AA14 -> 0 | AC14: =IF(C14=SUM(D14:G14),"Đúng","Sai") -> Đúng | AD14: =IF(AND(O14<=N14,N14<=M14,M14<=C14),"Đúng","Sai") -> Đúng | AE14: =IF(P14=SUM(Q14:T14),"Đúng","Sai") -> Đúng | AF14: =IF(Y14=Z14+AA14,"Đúng","Sai") -> Đúng | AG14: =IF(AND(AB14<=AA14,Y14<=H14),"Đúng","Sai") -> Đúng
B15: Chi bộ, đảng bộ trực thuộc, Chi ủy | C15: =SUM(D15:G15) -> 0 | H15: =SUM(I15:L15) -> 0 | P15: =SUM(Q15:T15) -> 0 | Y15: =Z15+AA15 -> 0 | AC15: =IF(C15=SUM(D15:G15),"Đúng","Sai") -> Đúng | AD15: =IF(AND(O15<=N15,N15<=M15,M15<=C15),"Đúng","Sai") -> Đúng | AE15: =IF(P15=SUM(Q15:T15),"Đúng","Sai") -> Đúng | AF15: =IF(Y15=Z15+AA15,"Đúng","Sai") -> Đúng | AG15: =IF(AND(AB15<=AA15,Y15<=H15),"Đúng","Sai") -> Đúng
A16: II | B16: Cấp kiểm tra | C16: =SUM(C17:C20) -> 0 | H16: =SUM(H17:H20) -> 0 | M16: =SUM(M17:M20) -> 0 | N16: =SUM(N17:N20) -> 0 | O16: =SUM(O17:O20) -> 0 | P16: =SUM(P17:P20) -> 0 | Q16: =SUM(Q17:Q20) -> 0 | R16: =SUM(R17:R20) -> 0 | S16: =SUM(S17:S20) -> 0 | T16: =SUM(T17:T20) -> 0 | ... AB16: =SUM(AB17:AB20) -> 0
B17: UBKT Trung ương | C17: =D8 -> 0 | H17: =I8 -> 0 | P17: =SUM(Q17:T17) -> 0 | Y17: =SUM(Z17:AA17) -> 0
B18: UBKT tỉnh uỷ và tương đương | C18: =E8 -> 0 | H18: =J8 -> 0 | P18: =SUM(Q18:T18) -> 0 | Y18: =SUM(Z18:AA18) -> 0
B19: UBKT đảng ủy cấp trên trực tiếp cơ sở và tương đương | C19: =F8 -> 0 | H19: =K8 -> 0 | P19: =SUM(Q19:T19) -> 0 | Y19: =SUM(Z19:AA19) -> 0
B20: UBKT đảng uỷ cơ sở | C20: =G8 -> 0 | H20: =L8 -> 0 | P20: =SUM(Q20:T20) -> 0 | Y20: =SUM(Z20:AA20) -> 0

Sheet B24
A1: TIẾP NHẬN, XỬ LÝ ĐƠN CỦA ỦY BAN KIỂM TRA CÁC CẤP | AA1: Biểu 24
AA2: (ĐVT: đơn)
A3: TT | B3: Ủy ban kiểm tra các cấp xử lý đơn thư | C3: Tổng số đơn thư | D3: Phân loại đơn | H3: Phân loại xử lý | J3: Nội dung | U3: Kết quả xử lý | AC3: Tổng số lượt tiếp đảng viên và công dân
D4: Đơn tố cáo | E4: Khiếu nại kỷ luật đảng | F4: Phản ánh, kiến nghị | G4: Khác | H4: Đơn đủ điều kiện xử lý | I4: Đơn không đủ điều kiện xử lý | J4: Việc chấp hành Cương lĩnh chính trị, Điều lệ Đảng, chủ trương, nghị quyết, chỉ thị, quy định, quy chế, kết luận của Đảng | K4: Việc chấp hành nguyên tắc tập trung dân chủ, quy chế làm việc, chế độ công tác; các nguyên tắc sinh hoạt của Đảng | L4: Việc chấp hành chính sách, pháp luật của Nhà nước | M4: Việc thực hiện nhiệm vụ đảng viên, nhiệm vụ cấp ủy viên; tiêu chuẩn đảng viên, tiêu chuẩn cấp ủy viên | N4: Việc ban hành các quyết định vi phạm quy định của Đảng, chính sách, pháp luật của Nhà nước | O4: Việc giữ gìn đoàn kết nội bộ | P4: Những điều đảng viên không được làm | Q4: Tham nhũng, cố ý làm trái | R4: Thiếu trách nhiệm, buông lỏng lãnh đạo | S4: Việc kê khai tài sản, thu nhập | T4: Khác | U4: Thành lập đoàn giải quyết tố cáo | V4: Thành lập đoàn giải quyết khiếu nại kỷ luật đảng | W4: Kết thúc đơn, không giải quyết tố cáo | X4: Kết thúc đơn, không giải quyết khiếu nại kỷ luật đảng | Y4: Đơn phục vụ công tác kiểm tra, giám sát | Z4: Chuyển đơn đến cơ quan có thẩm quyền | AA4: Hướng dẫn, trả đơn; kết thúc tố cáo | AB4: Lưu đơn
A5: 1 | B5: 2 | C5: 3 | D5: 4 | E5: 5 | F5: 6 | G5: 7 | H5: 8 | I5: 9 | J5: 10 | K5: 11 | L5: 12 | M5: 13 | N5: 14 | O5: 15 | P5: 16 | Q5: 17 | R5: 18 | S5: 19 | T5: 20 | U5: 21 | V5: 22 | W5: 23 | X5: 24 | Y5: 25 | Z5: 26 | AA5: 27 | AB5: 28 | AC5: 29
B6: Trung ương | C6: =SUM(D6:G6) -> 0 | AD6: =IF(AND(SUM(H6:I6)=C6,SUM(D6:G6)=C6),"Đúng","Sai") -> Đúng
B7: Cấp tỉnh | C7: =SUM(D7:G7) -> 0 | AD7: =IF(AND(SUM(H7:I7)=C7,SUM(D7:G7)=C7),"Đúng","Sai") -> Đúng
B8: Cấp trên trực tiếp cơ sở và tương đương | C8: =SUM(D8:G8) -> 0 | AD8: =IF(AND(SUM(H8:I8)=C8,SUM(D8:G8)=C8),"Đúng","Sai") -> Đúng
B9: Cấp cơ sở | C9: =SUM(D9:G9) -> 0 | AD9: =IF(AND(SUM(H9:I9)=C9,SUM(D9:G9)=C9),"Đúng","Sai") -> Đúng
A10: I | B10: CỘNG | C10: =SUM(C6:C9) -> 0 | D10: =SUM(D6:D9) -> 0 | E10: =SUM(E6:E9) -> 0 | F10: =SUM(F6:F9) -> 0 | G10: =SUM(G6:G9) -> 0 | H10: =SUM(H6:H9) -> 0 | I10: =SUM(I6:I9) -> 0 | J10: =SUM(J6:J9) -> 0 | ... AC10: =SUM(AC6:AC9) -> 0 | AD10: =IF(AND(SUM(H10:I10)=C10,SUM(D10:G10)=C10),"Đúng","Sai") -> Đúng

Sheet B25
A1: TÌNH HÌNH ĐỘI NGŨ CÁN BỘ NGÀNH KIỂM TRA CÁC CẤP | AI1: Biểu 25
AI2: (ĐVT: người)
A3: TT | B3: UBKT các cấp | C3: Tổng số | D3: Giới tính | F3: Đảng viên | G3: Độ tuổi | M3: Cơ cấu ngạch | R3: Trình độ | AE3: Luân chuyển trong kỳ1
R4: Chuyên môn | AB4: Lý luận chính trị
D5: Nam | E5: Nữ | G5: Từ 30 tuổi trở xuống | H5: từ 31 đến 40 | I5: từ 41 đến 50 | J5: Từ 51 đến 55 | K5: Từ 56 đến 60 | L5: Trên 60 tuổi | M5: KTVCC và tương đương | N5: KTVC hoặc tương đương | O5: KTV và tương đương | P5: Cán sự và tương đương | Q5: Nhân viên | R5: Học vị | U5: Lĩnh vực2 | AE5: Trong ngành | AK5: Ngoài ngành
R6: Cử nhân, kỹ sư, bác sỹ | S6: Thạc sĩ | T6: Tiến sĩ | U6: Chính trị - Hành chính | V6: Kinh tế | W6: Pháp luật | X6: Quốc phòng - An ninh | Y6: Khoa học kỹ thuật | Z6: khoa học công nghệ | AA6: Khác | AB6: Cử nhân, Cao cấp | AC6: Trung cấp | AD6: Sơ cấp | AE6: Cùng cấp | AG6: Khác cấp
AE7: Chuyển đi | AF7: Chuyển đến | AG7: Chuyển đi cấp trên | AH7: Chuyển đi cấp dưới | AI7: Cấp dưới chuyển lên | AJ7: Cấp trên chuyển xuống | AK7: Đi ngoài ngành | AL7: Ngoài ngành đến
A8: 1 | B8: 2 | C8: 3 | D8: 4 | E8: 5 | F8: 6 | G8: 7 | H8: 8 | I8: 9 | J8: 10 | K8: 11 | L8: 12 | M8: 13 | N8: 14 | O8: 15 | P8: 16 | Q8: 17 | R8: 18 | S8: 19 | T8: 20 | U8: 21 | V8: 22 | W8: 23 | X8: 24 | Y8: 25 | Z8: 26 | AA8: 27 | AB8: 28 | AC8: 29 | AD8: 30 | AE8: 31 | AF8: 32 | AG8: 33 | AH8: 34 | AI8: 35 | AJ8: 36 | AK8: 37 | AL8: 38
A9: I | B9: Trung ương | C9: =SUM(M9:Q9) -> 0 | D9: =SUM(D10:D15) -> 0 | E9: =SUM(E10:E15) -> 0 | F9: =SUM(F10:F15) -> 0 | G9: =SUM(G10:G15) -> 0 | H9: =SUM(H10:H15) -> 0 | I9: =SUM(I10:I15) -> 0 | J9: =SUM(J10:J15) -> 0 | K9: =SUM(K10:K15) -> 0 | ... AL9: =SUM(AL10:AL15) -> 0
B10: Chủ nhiệm | C10: =SUM(G10:L10) -> 0
B11: Phó Chủ nhiệm | C11: =SUM(G11:L11) -> 0
B12: Ủy viên chuyên trách | C12: =SUM(G12:L12) -> 0
B13: Ủy viên kiêm chức | C13: =SUM(G13:L13) -> 0
B14: Công chức kiểm tra | C14: =SUM(G14:L14) -> 0
B15: Khác | C15: =SUM(G15:L15) -> 0
A16: II | B16: Cấp tỉnh và tương đương | C16: =SUM(M16:Q16) -> 0 | D16: =SUM(D17:D22) -> 0 | E16: =SUM(E17:E22) -> 0 | F16: =SUM(F17:F22) -> 0 | G16: =SUM(G17:G22) -> 0 | H16: =SUM(H17:H22) -> 0 | I16: =SUM(I17:I22) -> 0 | J16: =SUM(J17:J22) -> 0 | K16: =SUM(K17:K22) -> 0 | ... AL16: =SUM(AL17:AL22) -> 0
B17: Chủ nhiệm | C17: =SUM(G17:L17) -> 0
B18: Phó Chủ nhiệm | C18: =SUM(G18:L18) -> 0
B19: Ủy viên chuyên trách | C19: =SUM(G19:L19) -> 0
B20: Ủy viên kiêm chức | C20: =SUM(G20:L20) -> 0
B21: Công chức kiểm tra | C21: =SUM(G21:L21) -> 0
B22: Khác | C22: =SUM(G22:L22) -> 0
A23: III | B23: Cấp trên trực tiếp cơ sở và tương đương | C23: =SUM(M23:Q23) -> 0 | D23: =SUM(D24:D29) -> 0 | E23: =SUM(E24:E29) -> 0 | F23: =SUM(F24:F29) -> 0 | G23: =SUM(G24:G29) -> 0 | H23: =SUM(H24:H29) -> 0 | I23: =SUM(I24:I29) -> 0 | J23: =SUM(J24:J29) -> 0 | K23: =SUM(K24:K29) -> 0 | ... AL23: =SUM(AL24:AL29) -> 0
B24: Chủ nhiệm | C24: =SUM(G24:L24) -> 0
B25: Phó Chủ nhiệm | C25: =SUM(G25:L25) -> 0
B26: Ủy viên chuyên trách | C26: =SUM(G26:L26) -> 0
B27: Ủy viên kiêm chức | C27: =SUM(G27:L27) -> 0
B28: Công chức kiểm tra | C28: =SUM(G28:L28) -> 0
B29: Khác | C29: =SUM(G29:L29) -> 0
A30: IV | B30: Cấp cơ sở | C30: =SUM(M30:Q30) -> 0 | D30: =SUM(D31:D36) -> 3 | E30: =SUM(E31:E36) -> 2 | F30: =SUM(F31:F36) -> 5 | G30: =SUM(G31:G36) -> 0 | H30: =SUM(H31:H36) -> 1 | I30: =SUM(I31:I36) -> 3 | J30: =SUM(J31:J36) -> 1 | K30: =SUM(K31:K36) -> 0 | ... AL30: =SUM(AL31:AL36) -> 0
B31: Chủ nhiệm | C31: =SUM(G31:L31) -> 1 | D31: 1 | F31: 1 | I31: 1 | S31: 1 | Y31: 1 | AB31: 1
B32: Phó Chủ nhiệm | C32: =SUM(G32:L32) -> 1 | D32: 1 | F32: 1 | J32: 1 | S32: 1 | Y32: 1 | AB32: 1
B33: Ủy viên chuyên trách | C33: =SUM(G33:L33) -> 0
B34: Ủy viên kiêm chức | C34: =SUM(G34:L34) -> 3 | D34: 1 | E34: 2 | F34: 3 | H34: 1 | I34: 2 | R34: 3 | V34: 1 | Y34: 2 | AC34: 2
B35: Công chức kiểm tra | C35: =SUM(G35:L35) -> 0
B36: Khác | C36: =SUM(G36:L36) -> 0
A37: V | B37: Cộng (I + II + III + IV) | C37: =C9+C16+C23+C30 -> 0 | D37: =D9+D16+D23+D30 -> 3 | E37: =E9+E16+E23+E30 -> 2 | F37: =F9+F16+F23+F30 -> 5 | G37: =G9+G16+G23+G30 -> 0 | H37: =H9+H16+H23+H30 -> 1 | I37: =I9+I16+I23+I30 -> 3 | J37: =J9+J16+J23+J30 -> 1 | ... AL37: =AL9+AL16+AL23+AL30 -> 0
C39: 1 Theo Quy định số 65-QĐ/TW, ngày 28/4/2022 của Bộ Chính trị.
C40: 2 Lĩnh vực có học vị cao nhất, nếu có nhiều học vị tương đương, thống kê học vị được cấp đầu tiên

Sheet B26
A2: TÌNH HÌNH ĐÀO TẠO, BỒI DƯỠNG CÁN BỘ, CÔNG CHỨC LÀM CÔNG TÁC KIỂM TRA | AK2: Biểu 26
AH3: (ĐVT: Người)
A4: TT | B4: UBKT các cấp | C4: Tổng số cán bộ, công chức được cử đi đào tạo | D4: Giới tính | F4: Chức danh | L4: Kết quả đào tạo, bồi dưỡng
L5: Chuyên môn | P5: Lý luận chính trị | S5: Quản lý nhà nước | V5: Lãnh đạo quản lý các cấp | Z5: Quốc phòng và an ninh | AD5: Nghiệp vụ kiểm tra | AK5: Bồi dưỡng khác
D6: Nam | E6: Nữ | F6: Chủ nhiệm | G6: Phó Chủ nhiệm | H6: Ủy viên chuyên trách | I6: Ủy viên kiêm chức | J6: Công chức kiểm tra | K6: Khác | L6: Tiến sỹ | M6: Thạc sỹ | N6: Đại học | O6: Cao đẳng | P6: Cử nhân chính trị trở lên, cao cấp | Q6: Trung cấp | R6: Sơ cấp | S6: Ngạch CVCC | T6: Ngạch CVC | U6: Ngạch CV | V6: Cấp vụ và tương đương | W6: Cấp sở và tương đương | X6: Cấp trên trực tiếp cơ sở và tương đương | Y6: Cấp phòng và tương đương | Z6: Đối tượng 1 | AA6: Đối tượng 2 | AB6: Đối tượng 3 | AC6: Đối tượng 4 | AD6: Đại học (chuyên ngành công tác kiểm tra) | AE6: Bồi dưỡng ngạch | AH6: Bồi dưỡng chức danh CN, PCN | AI6: Bồi dưỡng NV công tác KT, GS | AJ6: Khác | AK6: Tin học | AL6: Ngoại ngữ | AM6: Khác
AE7: Ngạch KTVCC | AF7: Ngạch KTVC | AG7: Ngạch KTV
A8: 1 | B8: 2 | C8: 3 | D8: 4 | E8: 5 | F8: 6 | G8: 7 | H8: 8 | I8: 9 | J8: 10 | K8: 11 | L8: 12 | M8: 13 | N8: 14 | O8: 15 | P8: 16 | Q8: 17 | R8: 18 | S8: 19 | T8: 20 | U8: 21 | V8: 22 | W8: 23 | X8: 24 | Y8: 25 | Z8: 26 | AA8: 27 | AB8: 28 | AC8: 29 | AD8: 30 | AE8: 31 | AF8: 32 | AG8: 33 | AH8: 34 | AI8: 35 | AJ8: 36 | AK8: 37 | AL8: 38 | AM8: 39
B9: Trung ương | C9: =SUM(F9:K9) -> 0
B10: Cấp tỉnh | C10: =SUM(F10:K10) -> 0
B11: Cấp trên trực tiếp cơ sở và tương đương | C11: =SUM(F11:K11) -> 0
B12: Cấp cơ sở | C12: =SUM(F12:K12) -> 0
A13: I | B13: Cộng | C13: =SUM(C9:C12) -> 0 | D13: =SUM(D9:D12) -> 0 | E13: =SUM(E9:E12) -> 0 | F13: =SUM(F9:F12) -> 0 | G13: =SUM(G9:G12) -> 0 | H13: =SUM(H9:H12) -> 0 | I13: =SUM(I9:I12) -> 0 | J13: =SUM(J9:J12) -> 0 | ... AM13: =SUM(AM9:AM12) -> 0
