Workbook

Sheet SGV

Sheet Bia 
B2: ĐẢNG BỘ ỦY BAN NHÂN DÂN TỈNH ĐẢNG ỦY SỞ XÂY DỰNG | G2: ĐẢNG CỘNG SẢN VIỆT NAM
B10: BÁO CÁO THỐNG KÊ SỐ LIỆU VỀ CÔNG TÁC KIỂM TRA, GIÁM SÁT
B11: VÀ THI HÀNH KỶ LUẬT ĐẢNG 9 THÁNG ĐẦU NĂM 2026
I23: Hưng Yên, ngày tháng năm 2026
C24: CÁN BỘ LẬP BIỂU | I24: T/M ĐẢNG ỦY
I25: CHỦ NHIỆM UBKT
C29: Trần Thị Minh Huệ | I29: Bùi Anh Tuấn

Sheet PTDL
A1: STT | B1: BIỂU TỔNG HỢP, PHÂN TÍCH DỮ LIỆU THỐNG KÊ | C1: Tổng cộng | D1: Nguồn số liệu | E1: …
A2: TT | B2: NỘI DUNG
A3: A | B3: KIỂM TRA, GIÁM SÁT CỦA ĐẢNG ỦY, BTV ĐẢNG ỦY, ĐẢNG ỦY BỘ PHẬN VÀ CHI BỘ TRỰC THUỘC
A4: I | B4: KIỂM TRA THEO ĐIỀU 30 ĐIỀU LỆ ĐẢNG
A5: 1 | B5: Kiểm tra tổ chức đảng | D5: Biểu 01
B6: Tổng số tổ chức đảng được kiểm tra | C6: 1
B7: Cấp kiểm tra
B8: Đảng uỷ cơ sở, BTV Đảng ủy cơ sở | C8: 1
B9: Đảng uỷ bộ phận | C9: ='B01'!K7 -> 0
B10: Nội dung kiểm tra
B11: Việc chấp hành Cương lĩnh chính trị, Điều lệ Đảng, chủ trương, nghị quyết, chỉ thị, quy định, quyết định, quy chế, kết luận, hướng dẫn của Đảng | C11: 0
B12: Việc chấp hành chính sách, pháp luật của Nhà nước | C12: ='B01'!M7 -> 1
B13: Việc chấp hành các nguyên tắc tổ chức và hoạt động của Đảng, giữ gìn đoàn kết nội bộ, quy chế làm việc, chế độ công tác, thực hiện dân chủ trong Đảng | C13: ='B01'!N7 -> 0
B14: Việc lãnh đạo, chỉ đạo thực hành tiết kiệm; phòng, chống tham nhũng, lãng phí, tiêu cực | C14: ='B01'!O7 -> 0
B15: Việc quản lý, rèn luyện phẩm chất, đạo đức, lối sống của đảng viên | C15: ='B01'!P7 -> 0
B16: Việc lãnh đạo, chỉ đạo và tổ chức thực hiện cải cách hành chính, cải cách pháp luật và tư pháp | C16: ='B01'!Q7 -> 0
B17: Việc lãnh đạo, chỉ đạo các cơ quan bảo vệ pháp luật trong công tác điều tra, truy tố, xét xử, thi hành án | C17: ='B01'!R7 -> 0
B18: Công tác cán bộ | C18: ='B01'!S7 -> 0
B19: Giải quyết khiếu nại, tố cáo | C19: ='B01'!T7 -> 0
B20: Việc thực hiện các thông báo kết luận kiểm tra, giám sát, thanh tra, kiểm toán | C20: ='B01'!U7 -> 0
B21: Việc lãnh đạo, chỉ đạo và tổ chức thực hiện kê khai, công khai tài sản, thu nhập | C21: ='B01'!V7 -> 0
B22: Khác | C22: ='B01'!W7 -> 0
B23: Tổ chức đảng được kiểm tra
B24: Đảng uỷ bộ phận | C24: ='B01'!C14 -> 0
B25: Chi bộ, Chi ủy | C25: 1
B26: Khác (ban chỉ đạo, tiểu ban, hội đồng...) | C26: ='B01'!C16 -> 0
B27: Kết luận | C27: ='B01'!C17 -> 0
B28: Thực hiện tốt | C28: 1
B29: Thực hiện chưa tốt | C29: ='B01'!C19 -> 0
B30: Trong đó: Có vi phạm, khuyết điểm chưa đến mức phải kỷ luật | C30: ='B01'!C20 -> 0
B31: Phải thi hành kỷ luật | C31: ='B01'!C21 -> 0
B32: Đã thi hành kỷ luật | C32: ='B01'!C22 -> 0
A33: 2 | B33: Kiểm tra đảng viên | D33: Biểu 02
B34: Tổng số đảng viên được kiểm tra | C34: 25
B35: Cấp kiểm tra
B36: Đảng ủy cơ sở, BTV Đảng ủy cơ sở | C36: 1
B37: Đảng ủy bộ phận | C37: ='B02'!K7 -> 0
B38: Chi bộ cơ sở | C38: ='B02'!L7 -> 0
B39: Chi bộ trực thuộc | C39: 24
B40: Nội dung kiểm tra
...

Sheet B01
A1: KIỂM TRA TỔ CHỨC ĐẢNG CẤP DƯỚI THEO ĐIỀU 30 ĐIỀU LỆ ĐẢNG | Z1: Biểu 01
X2: (ĐVT: Tổ chức đảng)
A3: TT | B3: Tổ chức đảng được kiểm tra | C3: Tổng số tổ chức đảng được kiểm tra | D3: Cấp kiểm tra | L3: Nội dung kiểm tra | X3: Kết luận
D4: BCH Trung ương, BCT, BBT | E4: Các CQ tham mưu của Trung ương | F4: Tỉnh ủy, BTV Tỉnh uỷ và tương đương | G4: Các CQ tham mưu của cấp ủy tỉnh và tương đương | H4: Đảng ủy, BTV ĐU cấp trên trực tiếp cơ sở và tương đương | I4: Các CQ tham mưu của cấp ủy cấp trên trực tiếp cơ sở và tương đương | J4: Đảng ủy cơ sở, BTV Đảng ủy cơ sở | K4: Đảng uỷ bộ phận | L4: Việc chấp hành Cương lĩnh chính trị, Điều lệ Đảng, chủ trương, nghị quyết, chỉ thị, quy định, quyết định, quy chế, kết luận, hướng dẫn của Đảng | M4: Việc chấp hành chính sách, pháp luật của Nhà nước | N4: Việc chấp hành các nguyên tắc tổ chức và hoạt động của Đảng, giữ gìn đoàn kết nội bộ, quy chế làm việc, chế độ công tác, thực hiện dân chủ trong Đảng | O4: Việc lãnh đạo, chỉ đạo thực hành tiết kiệm; phòng, chống tham nhũng, lãng phí, tiêu cực | P4: Việc quản lý, rèn luyện phẩm chất, đạo đức, lối sống của đảng viên | Q4: Việc lãnh đạo, chỉ đạo và tổ chức thực hiện cải cách hành chính, cải cách pháp luật và tư pháp | R4: Việc lãnh đạo, chỉ đạo các cơ quan bảo vệ pháp luật trong công tác điều tra, truy tố, xét xử, thi hành án | S4: Công tác cán bộ | T4: Giải quyết khiếu nại, tố cáo | U4: Việc thực hiện các thông báo kết luận kiểm tra, giám sát, thanh tra, kiểm toán | V4: Việc lãnh đạo, chỉ đạo và tổ chức thực hiện kê khai, công khai tài sản, thu nhập | W4: Khác | X4: Thực hiện tốt | Y4: Thực hiện chưa tốt | Z4: Trong đó
Z5: Có vi phạm, khuyết điểm chưa đến mức phải kỷ luật | AA5: Phải thi hành kỷ luật | AB5: Đã thi hành kỷ luật
A6: 1 | B6: 2 | C6: 3 | D6: 4 | E6: 5 | F6: 6 | G6: 7 | H6: 8 | I6: 9 | J6: 10 | K6: 11 | L6: 12 | M6: 13 | N6: 14 | O6: 15 | P6: 16 | Q6: 17 | R6: 18 | S6: 19 | T6: 20 | U6: 21 | V6: 22 | W6: 23 | X6: 24 | Y6: 25 | Z6: 26 | AA6: 27 | AB6: 28
A7: I | B7: Tổ chức đảng được kiểm tra | C7: =SUM(C8:C16) -> 0 | D7: =SUM(D8:D16) -> 0 | E7: =SUM(E8:E16) -> 0 | F7: =SUM(F8:F16) -> 0 | G7: =SUM(G8:G16) -> 0 | H7: =SUM(H8:H16) -> 0 | I7: =SUM(I8:I16) -> 0 | J7: =SUM(J8:J16) -> 0 | K7: =SUM(K8:K16) -> 0 | L7: 0 | M7: =SUM(M8:M16) -> 1 | N7: =SUM(N8:N16) -> 0 | O7: =SUM(O8:O16) -> 0 | P7: =SUM(P8:P16) -> 0 | Q7: =SUM(Q8:Q16) -> 0 | R7: =SUM(R8:R16) -> 0 | S7: =SUM(S8:S16) -> 0 | T7: =SUM(T8:T16) -> 0 | ... AB7: =SUM(AB8:AB16) -> 0 | AC7: =IF(AND(L7<=C7,M7<=C7,N7<=C7,O7<=C7,P7<=C7,Q7<=C7,R7<=C7,S7<=C7,T7<=C7,U7<=C7,V7<=C7,W7<=C7), "Đúng", "Sai") -> Sai | AD7: =IF(C7=X7+Y7, "Đúng", "Sai") -> Đúng | AE7: =IF(Y7=Z7+AA7, "Đúng", "Sai") -> Đúng | AF7: =IF(AB7<=AA7,"Đúng","Sai") -> Đúng
B8: Các CQ tham mưu của Trung ương | C8: =SUM(D8:K8) -> 0 | AC8: =IF(AND(L8<=C8,M8<=C8,N8<=C8,O8<=C8,P8<=C8,Q8<=C8,R8<=C8,S8<=C8,T8<=C8,U8<=C8,V8<=C8,W8<=C8), "Đúng", "Sai") -> Đúng | AD8: =IF(C8=X8+Y8, "Đúng", "Sai") -> Đúng | AE8: =IF(Y8=Z8+AA8, "Đúng", "Sai") -> Đúng | AF8: =IF(AB8<=AA8,"Đúng","Sai") -> Đúng
B9: Tỉnh uỷ, BTV tỉnh uỷ và tương đương | C9: =SUM(D9:K9) -> 0 | AC9: =IF(AND(L9<=C9,M9<=C9,N9<=C9,O9<=C9,P9<=C9,Q9<=C9,R9<=C9,S9<=C9,T9<=C9,U9<=C9,V9<=C9,W9<=C9), "Đúng", "Sai") -> Đúng | AD9: =IF(C9=X9+Y9, "Đúng", "Sai") -> Đúng | AE9: =IF(Y9=Z9+AA9, "Đúng", "Sai") -> Đúng | AF9: =IF(AB9<=AA9,"Đúng","Sai") -> Đúng
B10: Các CQ tham mưu của cấp ủy tỉnh và tương đương | C10: =SUM(D10:K10) -> 0 | AC10: =IF(AND(L10<=C10,M10<=C10,N10<=C10,O10<=C10,P10<=C10,Q10<=C10,R10<=C10,S10<=C10,T10<=C10,U10<=C10,V10<=C10,W10<=C10), "Đúng", "Sai") -> Đúng | AD10: =IF(C10=X10+Y10, "Đúng", "Sai") -> Đúng | AE10: =IF(Y10=Z10+AA10, "Đúng", "Sai") -> Đúng | AF10: =IF(AB10<=AA10,"Đúng","Sai") -> Đúng
B11: Đảng ủy, BTV ĐU cấp trên trực tiếp cơ sở và tương đương | C11: =SUM(D11:K11) -> 0 | AC11: =IF(AND(L11<=C11,M11<=C11,N11<=C11,O11<=C11,P11<=C11,Q11<=C11,R11<=C11,S11<=C11,T11<=C11,U11<=C11,V11<=C11,W11<=C11), "Đúng", "Sai") -> Đúng | AD11: =IF(C11=X11+Y11, "Đúng", "Sai") -> Đúng | AE11: =IF(Y11=Z11+AA11, "Đúng", "Sai") -> Đúng | AF11: =IF(AB11<=AA11,"Đúng","Sai") -> Đúng
B12: Các CQ tham mưu của cấp ủy cấp trên trực tiếp cơ sở và tương đương | C12: =SUM(D12:K12) -> 0 | AC12: =IF(AND(L12<=C12,M12<=C12,N12<=C12,O12<=C12,P12<=C12,Q12<=C12,R12<=C12,S12<=C12,T12<=C12,U12<=C12,V12<=C12,W12<=C12), "Đúng", "Sai") -> Đúng | AD12: =IF(C12=X12+Y12, "Đúng", "Sai") -> Đúng | AE12: =IF(Y12=Z12+AA12, "Đúng", "Sai") -> Đúng | AF12: =IF(AB12<=AA12,"Đúng","Sai") -> Đúng
B13: Đảng ủy cơ sở, BTV Đảng ủy cơ sở | C13: =SUM(D13:K13) -> 0 | L13: 0 | M13: 1 | AC13: =IF(AND(L13<=C13,M13<=C13,N13<=C13,O13<=C13,P13<=C13,Q13<=C13,R13<=C13,S13<=C13,T13<=C13,U13<=C13,V13<=C13,W13<=C13), "Đúng", "Sai") -> Sai | AD13: =IF(C13=X13+Y13, "Đúng", "Sai") -> Đúng | AE13: =IF(Y13=Z13+AA13, "Đúng", "Sai") -> Đúng | AF13: =IF(AB13<=AA13,"Đúng","Sai") -> Đúng
B14: Đảng ủy bộ phận | C14: =SUM(D14:K14) -> 0 | AC14: =IF(AND(L14<=C14,M14<=C14,N14<=C14,O14<=C14,P14<=C14,Q14<=C14,R14<=C14,S14<=C14,T14<=C14,U14<=C14,V14<=C14,W14<=C14), "Đúng", "Sai") -> Đúng | AD14: =IF(C14=X14+Y14, "Đúng", "Sai") -> Đúng | AE14: =IF(Y14=Z14+AA14, "Đúng", "Sai") -> Đúng | AF14: =IF(AB14<=AA14,"Đúng","Sai") -> Đúng
B15: Chi bộ, Chi ủy | C15: =SUM(D15:K15) -> 0 | AC15: =IF(AND(L15<=C15,M15<=C15,N15<=C15,O15<=C15,P15<=C15,Q15<=C15,R15<=C15,S15<=C15,T15<=C15,U15<=C15,V15<=C15,W15<=C15), "Đúng", "Sai") -> Đúng | AD15: =IF(C15=X15+Y15, "Đúng", "Sai") -> Đúng | AE15: =IF(Y15=Z15+AA15, "Đúng", "Sai") -> Đúng | AF15: =IF(AB15<=AA15,"Đúng","Sai") -> Đúng
B16: Khác (ban chỉ đạo, tiểu ban, hội đồng...) | C16: =SUM(D16:K16) -> 0 | AC16: =IF(AND(L16<=C16,M16<=C16,N16<=C16,O16<=C16,P16<=C16,Q16<=C16,R16<=C16,S16<=C16,T16<=C16,U16<=C16,V16<=C16,W16<=C16), "Đúng", "Sai") -> Đúng | AD16: =IF(C16=X16+Y16, "Đúng", "Sai") -> Đúng | AE16: =IF(Y16=Z16+AA16, "Đúng", "Sai") -> Đúng | AF16: =IF(AB16<=AA16,"Đúng","Sai") -> Đúng
A17: II | B17: Kết luận | C17: =C18+C19 -> 0 | D17: =D18+D19 -> 0 | E17: =E18+E19 -> 0 | F17: =F18+F19 -> 0 | G17: =G18+G19 -> 0 | H17: =H18+H19 -> 0 | I17: =I18+I19 -> 0 | J17: =J18+J19 -> 0 | ... W17: =W18+W19 -> 0
B18: Thực hiện tốt | C18: =SUM(D18:K18) -> 0 | L18: 0 | M18: 1
B19: Thực hiện chưa tốt | C19: =SUM(D19:K19) -> 0
B20: Có vi phạm, khuyết điểm chưa đến mức phải kỷ luật | C20: =SUM(D20:K20) -> 0
B21: Phải thi hành kỷ luật | C21: =SUM(D21:K21) -> 0
B22: Đã thi hành kỷ luật | C22: =SUM(D22:K22) -> 0
C24: =IF(C17=C7, "Đúng", "Sai") -> Đúng | D24: =IF(D17=D7, "Đúng", "Sai") -> Đúng | E24: =IF(E17=E7, "Đúng", "Sai") -> Đúng | F24: =IF(F17=F7, "Đúng", "Sai") -> Đúng | G24: =IF(G17=G7, "Đúng", "Sai") -> Đúng | H24: =IF(H17=H7, "Đúng", "Sai") -> Đúng | I24: =IF(I17=I7, "Đúng", "Sai") -> Đúng | J24: =IF(J17=J7, "Đúng", "Sai") -> Đúng | ... W24: =IF(W17=W7, "Đúng", "Sai") -> Đúng
C25: =IF(C19=C20+C21, "Đúng", "Sai") -> Đúng | D25: =IF(D19=D20+D21, "Đúng", "Sai") -> Đúng | E25: =IF(E19=E20+E21, "Đúng", "Sai") -> Đúng | F25: =IF(F19=F20+F21, "Đúng", "Sai") -> Đúng | G25: =IF(G19=G20+G21, "Đúng", "Sai") -> Đúng | H25: =IF(H19=H20+H21, "Đúng", "Sai") -> Đúng | I25: =IF(I19=I20+I21, "Đúng", "Sai") -> Đúng | J25: =IF(J19=J20+J21, "Đúng", "Sai") -> Đúng | ... W25: =IF(W19=W20+W21, "Đúng", "Sai") -> Đúng
C26: =IF(C22<=C21,"Đúng","Sai") -> Đúng | D26: =IF(D22<=D21,"Đúng","Sai") -> Đúng | E26: =IF(E22<=E21,"Đúng","Sai") -> Đúng | F26: =IF(F22<=F21,"Đúng","Sai") -> Đúng | G26: =IF(G22<=G21,"Đúng","Sai") -> Đúng | H26: =IF(H22<=H21,"Đúng","Sai") -> Đúng | I26: =IF(I22<=I21,"Đúng","Sai") -> Đúng | J26: =IF(J22<=J21,"Đúng","Sai") -> Đúng | ... W26: =IF(W22<=W21,"Đúng","Sai") -> Đúng
C27: =IF(C18=X7, "Đúng", "Sai") -> Đúng
C28: =IF(C19=Y7, "Đúng", "Sai") -> Đúng
C29: =IF(C20=Z7, "Đúng", "Sai") -> Đúng
C30: =IF(C21=AA7, "Đúng", "Sai") -> Đúng
C31: =IF(C22=AB7, "Đúng", "Sai") -> Đúng

Sheet B02
A1: KIỂM TRA ĐẢNG VIÊN THEO ĐIỀU 30 ĐIỀU LỆ ĐẢNG | Z1: Biểu 02
W2: (ĐVT: Đảng viên)
A3: TT | B3: Đảng viên được kiểm tra | C3: Tổng số đảng viên được kiểm tra | D3: Cấp kiểm tra | N3: Nội dung kiểm tra | W3: Kết luận
D4: BCHTW, BCT, Ban Bí thư | E4: Các CQ tham mưu của TW | F4: Tỉnh ủy, BTV tỉnh uỷ và tương đương | G4: Các CQ tham mưu của cấp ủy tỉnh và tương đương | H4: Đảng ủy, BTV ĐU cấp trên trực tiếp cơ sở và tương đương | I4: Các CQ tham mưu của cấp ủy cấp trên trực tiếp cơ sở và tương đương | J4: Đảng ủy cơ sở, BTV Đảng ủy cơ sở | K4: Đảng ủy bộ phận | L4: Chi bộ cơ sở | M4: Chi bộ trực thuộc | N4: Việc thực hiện những điều đảng viên không được làm | O4: Tiêu chuẩn đảng viên, tiêu chuẩn cấp ủy viên | P4: Việc thực hiện nhiệm vụ đảng viên, nhiệm vụ cấp ủy viên | Q4: Việc chấp hành nghị quyết, chỉ thị, quy định, kết luận của Đảng; chính sách, pháp luật của Nhà nước | R4: Việc chấp hành quy chế làm việc, nguyên tắc tập trung dân chủ, chế độ công tác | S4: Tư tưởng chính trị, đạo đức, lối sống, trách nhiệm nêu gương | T4: Việc thực hiện các thông báo kết luận kiểm tra, giám sát, thanh tra, kiểm toán | U4: Kê khai, công khai tài sản, thu nhập | V4: Khác | W4: Thực hiện tốt | X4: Thực hiện chưa tốt | Y4: Trong đó
Y5: Có vi phạm, khuyết điểm chưa đến mức phải kỷ luật | Z5: Phải thi hành kỷ luật | AA5: Đã thi hành kỷ luật
A6: 1 | B6: 2 | C6: 3 | D6: 4 | E6: 5 | F6: 6 | G6: 7 | H6: 8 | I6: 9 | J6: 10 | K6: 11 | L6: 12 | M6: 13 | N6: 14 | O6: 15 | P6: 16 | Q6: 17 | R6: 18 | S6: 19 | T6: 20 | U6: 21 | V6: 22 | W6: 23 | X6: 24 | Y6: 25 | Z6: 26 | AA6: 27
A7: I | B7: Cấp quản lý đảng viên | C7: =SUM(C8:C11) -> 25 | D7: =SUM(D8:D11) -> 0 | E7: =SUM(E8:E11) -> 0 | F7: =SUM(F8:F11) -> 0 | G7: =SUM(G8:G11) -> 0 | H7: =SUM(H8:H11) -> 0 | I7: =SUM(I8:I11) -> 0 | J7: =SUM(J8:J11) -> 0 | ... AA7: =SUM(AA8:AA11) -> 0 | AB7: =IF(AND(N7<=C7,O7<=C7,P7<=C7,Q7<=C7,R7<=C7,S7<=C7,U7<=C7,V7<=C7),"Đúng","Sai") -> Đúng | AC7: =IF(C7=W7+X7,"Đúng","Sai") -> Đúng | AD7: =IF(X7=Y7+Z7,"Đúng","Sai") -> Đúng | AE7: =IF(AA7<=Z7,"Đúng","Sai") -> Đúng
B8: Trung ương | C8: =SUM(D8:M8) -> 0 | AB8: =IF(AND(N8<=C8,O8<=C8,P8<=C8,Q8<=C8,R8<=C8,S8<=C8,U8<=C8,V8<=C8),"Đúng","Sai") -> Đúng | AC8: =IF(C8=W8+X8,"Đúng","Sai") -> Đúng | AD8: =IF(X8=Y8+Z8,"Đúng","Sai") -> Đúng | AE8: =IF(AA8<=Z8,"Đúng","Sai") -> Đúng
B9: Cấp tỉnh và tương đương | C9: =SUM(D9:M9) -> 0 | AB9: =IF(AND(N9<=C9,O9<=C9,P9<=C9,Q9<=C9,R9<=C9,S9<=C9,U9<=C9,V9<=C9),"Đúng","Sai") -> Đúng | AC9: =IF(C9=W9+X9,"Đúng","Sai") -> Đúng | AD9: =IF(X9=Y9+Z9,"Đúng","Sai") -> Đúng | AE9: =IF(AA9<=Z9,"Đúng","Sai") -> Đúng
B10: Cấp trên trực tiếp cơ sở và tương đương | C10: =SUM(D10:M10) -> 0 | AB10: =IF(AND(N10<=C10,O10<=C10,P10<=C10,Q10<=C10,R10<=C10,S10<=C10,U10<=C10,V10<=C10),"Đúng","Sai") -> Đúng | AC10: =IF(C10=W10+X10,"Đúng","Sai") -> Đúng | AD10: =IF(X10=Y10+Z10,"Đúng","Sai") -> Đúng | AE10: =IF(AA10<=Z10,"Đúng","Sai") -> Đúng
B11: Cấp cơ sở | C11: =SUM(N11:V11) -> 25 | M11: 25 | N11: 2 | O11: 1 | P11: 9 | Q11: 6 | R11: 1 | S11: 2 | V11: 4 | W11: 25 | AB11: =IF(AND(N11<=C11,O11<=C11,P11<=C11,Q11<=C11,R11<=C11,S11<=C11,U11<=C11,V11<=C11),"Đúng","Sai") -> Đúng | AC11: =IF(C11=W11+X11,"Đúng","Sai") -> Đúng | AD11: =IF(X11=Y11+Z11,"Đúng","Sai") -> Đúng | AE11: =IF(AA11<=Z11,"Đúng","Sai") -> Đúng
A12: II | B12: Là cấp uỷ viên các cấp | C12: =SUM(N12:V12) -> 6 | D12: =SUM(D13:D18) -> 0 | E12: =SUM(E13:E18) -> 0 | F12: =SUM(F13:F18) -> 0 | G12: =SUM(G13:G18) -> 0 | H12: =SUM(H13:H18) -> 0 | I12: =SUM(I13:I18) -> 0 | J12: =SUM(J13:J18) -> 0 | K12: =SUM(K13:K18) -> 0 | ... AA12: =SUM(AA13:AA18) -> 0 | AB12: =IF(AND(N12<=C12,O12<=C12,P12<=C12,Q12<=C12,R12<=C12,S12<=C12,U12<=C12,V12<=C12),"Đúng","Sai") -> Đúng | AC12: =IF(C12=W12+X12,"Đúng","Sai") -> Sai | AD12: =IF(X12=Y12+Z12,"Đúng","Sai") -> Đúng | AE12: =IF(AA12<=Z12,"Đúng","Sai") -> Đúng
B13: Uỷ viên Trung ương | C13: =SUM(N13:V13) -> 0 | AB13: =IF(AND(N13<=C13,O13<=C13,P13<=C13,Q13<=C13,R13<=C13,S13<=C13,U13<=C13,V13<=C13),"Đúng","Sai") -> Đúng | AC13: =IF(C13=W13+X13,"Đúng","Sai") -> Đúng | AD13: =IF(X13=Y13+Z13,"Đúng","Sai") -> Đúng | AE13: =IF(AA13<=Z13,"Đúng","Sai") -> Đúng
B14: Tỉnh ủy viên và tương đương | C14: =SUM(N14:V14) -> 0 | AB14: =IF(AND(N14<=C14,O14<=C14,P14<=C14,Q14<=C14,R14<=C14,S14<=C14,U14<=C14,V14<=C14),"Đúng","Sai") -> Đúng | AC14: =IF(C14=W14+X14,"Đúng","Sai") -> Đúng | AD14: =IF(X14=Y14+Z14,"Đúng","Sai") -> Đúng | AE14: =IF(AA14<=Z14,"Đúng","Sai") -> Đúng
B15: Đảng ủy viên ĐU cấp trên trực tiếp cơ sở và tương đương | C15: =SUM(N15:V15) -> 0 | AB15: =IF(AND(N15<=C15,O15<=C15,P15<=C15,Q15<=C15,R15<=C15,S15<=C15,U15<=C15,V15<=C15),"Đúng","Sai") -> Đúng | AC15: =IF(C15=W15+X15,"Đúng","Sai") -> Đúng | AD15: =IF(X15=Y15+Z15,"Đúng","Sai") -> Đúng | AE15: =IF(AA15<=Z15,"Đúng","Sai") -> Đúng
B16: Đảng ủy viên đảng ủy cơ sở | C16: =SUM(N16:V16) -> 0 | AB16: =IF(AND(N16<=C16,O16<=C16,P16<=C16,Q16<=C16,R16<=C16,S16<=C16,U16<=C16,V16<=C16),"Đúng","Sai") -> Đúng | AC16: =IF(C16=W16+X16,"Đúng","Sai") -> Đúng | AD16: =IF(X16=Y16+Z16,"Đúng","Sai") -> Đúng | AE16: =IF(AA16<=Z16,"Đúng","Sai") -> Đúng
B17: Đảng ủy viên đảng ủy bộ phận | C17: =SUM(N17:V17) -> 0 | AB17: =IF(AND(N17<=C17,O17<=C17,P17<=C17,Q17<=C17,R17<=C17,S17<=C17,U17<=C17,V17<=C17),"Đúng","Sai") -> Đúng | AC17: =IF(C17=W17+X17,"Đúng","Sai") -> Đúng | AD17: =IF(X17=Y17+Z17,"Đúng","Sai") -> Đúng | AE17: =IF(AA17<=Z17,"Đúng","Sai") -> Đúng
B18: Chi ủy viên | C18: =SUM(N18:V18) -> 6 | N18: 1 | P18: 2 | V18: 3 | AB18: =IF(AND(N18<=C18,O18<=C18,P18<=C18,Q18<=C18,R18<=C18,S18<=C18,U18<=C18,V18<=C18),"Đúng","Sai") -> Đúng | AC18: =IF(C18=W18+X18,"Đúng","Sai") -> Sai | AD18: =IF(X18=Y18+Z18,"Đúng","Sai") -> Đúng | AE18: =IF(AA18<=Z18,"Đúng","Sai") -> Đúng
A19: III | B19: Đảng viên ở các lĩnh vực | C19: =SUM(N19:V19) -> 25 | D19: =SUM(D20:D26) -> 0 | E19: =SUM(E20:E26) -> 0 | F19: =SUM(F20:F26) -> 0 | G19: =SUM(G20:G26) -> 0 | H19: =SUM(H20:H26) -> 0 | I19: =SUM(I20:I26) -> 0 | J19: =SUM(J20:J26) -> 0 | K19: =SUM(K20:K26) -> 0 | ... AA19: =SUM(AA20:AA26) -> 0 | AB19: =IF(AND(N19<=C19,O19<=C19,P19<=C19,Q19<=C19,R19<=C19,S19<=C19,U19<=C19,V19<=C19),"Đúng","Sai") -> Đúng | AC19: =IF(C19=W19+X19,"Đúng","Sai") -> Đúng | AD19: =IF(X19=Y19+Z19,"Đúng","Sai") -> Đúng | AE19: =IF(AA19<=Z19,"Đúng","Sai") -> Đúng
B20: Đảng | C20: =SUM(N20:V20) -> 0 | AB20: =IF(AND(N20<=C20,O20<=C20,P20<=C20,Q20<=C20,R20<=C20,S20<=C20,U20<=C20,V20<=C20),"Đúng","Sai") -> Đúng | AC20: =IF(C20=W20+X20,"Đúng","Sai") -> Đúng | AD20: =IF(X20=Y20+Z20,"Đúng","Sai") -> Đúng | AE20: =IF(AA20<=Z20,"Đúng","Sai") -> Đúng
B21: Hành chính, Nhà nước | C21: =SUM(N21:V21) -> 25 | M21: 25 | N21: 2 | O21: 1 | P21: 9 | Q21: 6 | R21: 1 | S21: 2 | V21: 4 | W21: 25 | AB21: =IF(AND(N21<=C21,O21<=C21,P21<=C21,Q21<=C21,R21<=C21,S21<=C21,U21<=C21,V21<=C21),"Đúng","Sai") -> Đúng | AC21: =IF(C21=W21+X21,"Đúng","Sai") -> Đúng | AD21: =IF(X21=Y21+Z21,"Đúng","Sai") -> Đúng | AE21: =IF(AA21<=Z21,"Đúng","Sai") -> Đúng
B22: Đoàn thể | C22: =SUM(N22:V22) -> 0 | AB22: =IF(AND(N22<=C22,O22<=C22,P22<=C22,Q22<=C22,R22<=C22,S22<=C22,U22<=C22,V22<=C22),"Đúng","Sai") -> Đúng | AC22: =IF(C22=W22+X22,"Đúng","Sai") -> Đúng | AD22: =IF(X22=Y22+Z22,"Đúng","Sai") -> Đúng | AE22: =IF(AA22<=Z22,"Đúng","Sai") -> Đúng
B23: Lực lượng vũ trang | C23: =SUM(N23:V23) -> 0 | AB23: =IF(AND(N23<=C23,O23<=C23,P23<=C23,Q23<=C23,R23<=C23,S23<=C23,U23<=C23,V23<=C23),"Đúng","Sai") -> Đúng | AC23: =IF(C23=W23+X23,"Đúng","Sai") -> Đúng | AD23: =IF(X23=Y23+Z23,"Đúng","Sai") -> Đúng | AE23: =IF(AA23<=Z23,"Đúng","Sai") -> Đúng
B24: Sự nghiệp công lập | C24: =SUM(N24:V24) -> 0 | AB24: =IF(AND(N24<=C24,O24<=C24,P24<=C24,Q24<=C24,R24<=C24,S24<=C24,U24<=C24,V24<=C24),"Đúng","Sai") -> Đúng | AC24: =IF(C24=W24+X24,"Đúng","Sai") -> Đúng | AD24: =IF(X24=Y24+Z24,"Đúng","Sai") -> Đúng | AE24: =IF(AA24<=Z24,"Đúng","Sai") -> Đúng
B25: Sản xuất kinh doanh, dịch vụ | C25: =SUM(N25:V25) -> 0 | AB25: =IF(AND(N25<=C25,O25<=C25,P25<=C25,Q25<=C25,R25<=C25,S25<=C25,U25<=C25,V25<=C25),"Đúng","Sai") -> Đúng | AC25: =IF(C25=W25+X25,"Đúng","Sai") -> Đúng | AD25: =IF(X25=Y25+Z25,"Đúng","Sai") -> Đúng | AE25: =IF(AA25<=Z25,"Đúng","Sai") -> Đúng
B26: Các lĩnh vực khác | C26: =SUM(N26:V26) -> 0 | AB26: =IF(AND(N26<=C26,O26<=C26,P26<=C26,Q26<=C26,R26<=C26,S26<=C26,U26<=C26,V26<=C26),"Đúng","Sai") -> Đúng | AC26: =IF(C26=W26+X26,"Đúng","Sai") -> Đúng | AD26: =IF(X26=Y26+Z26,"Đúng","Sai") -> Đúng | AE26: =IF(AA26<=Z26,"Đúng","Sai") -> Đúng
A27: IV | B27: Kết luận | C27: =SUM(N27:V27) -> 25 | D27: =D28+D29 -> 0 | E27: =E28+E29 -> 0 | F27: =F28+F29 -> 0 | G27: =G28+G29 -> 0 | H27: =H28+H29 -> 0 | I27: =I28+I29 -> 0 | J27: =J28+J29 -> 0 | K27: =K28+K29 -> 0 | ... V27: =V28+V29 -> 4 | W27: 20
B28: Thực hiện tốt | C28: =SUM(N28:V28) -> 25 | M28: 25 | N28: 2 | O28: 1 | P28: 9 | Q28: 6 | R28: 1 | S28: 2 | V28: 4 | W28: 25
B29: Thực hiện chưa tốt | C29: =SUM(N29:V29) -> 0
B30: Có vi phạm, khuyết điểm chưa đến mức phải kỷ luật | C30: =SUM(N30:V30) -> 0
B31: Phải thi hành kỷ luật | C31: =SUM(N31:V31) -> 0
B32: Đã thi hành kỷ luật | C32: =SUM(N32:V32) -> 0
C34: =IF(AND(C7=C19,C7=C27), "Đúng", "Sai") -> Đúng | D34: =IF(AND(D7=D19,D7=D27), "Đúng", "Sai") -> Đúng | E34: =IF(AND(E7=E19,E7=E27), "Đúng", "Sai") -> Đúng | F34: =IF(AND(F7=F19,F7=F27), "Đúng", "Sai") -> Đúng | G34: =IF(AND(G7=G19,G7=G27), "Đúng", "Sai") -> Đúng | H34: =IF(AND(H7=H19,H7=H27), "Đúng", "Sai") -> Đúng | I34: =IF(AND(I7=I19,I7=I27), "Đúng", "Sai") -> Đúng | J34: =IF(AND(J7=J19,J7=J27), "Đúng", "Sai") -> Đúng | ... V34: =IF(AND(V7=V19,V7=V27), "Đúng", "Sai") -> Đúng | W34: =IF(W7=W19, "Đúng", "Sai") -> Đúng | X34: =IF(X7=X19, "Đúng", "Sai") -> Đúng | Y34: =IF(Y7=Y19, "Đúng", "Sai") -> Đúng | Z34: =IF(Z7=Z19, "Đúng", "Sai") -> Đúng | AA34: =IF(AA7=AA19, "Đúng", "Sai") -> Đúng
C35: =IF(C29=C30+C31,"Đúng","Sai") -> Đúng | D35: =IF(D29=D30+D31,"Đúng","Sai") -> Đúng | E35: =IF(E29=E30+E31,"Đúng","Sai") -> Đúng | F35: =IF(F29=F30+F31,"Đúng","Sai") -> Đúng | G35: =IF(G29=G30+G31,"Đúng","Sai") -> Đúng | H35: =IF(H29=H30+H31,"Đúng","Sai") -> Đúng | I35: =IF(I29=I30+I31,"Đúng","Sai") -> Đúng | J35: =IF(J29=J30+J31,"Đúng","Sai") -> Đúng | ... V35: =IF(V29=V30+V31,"Đúng","Sai") -> Đúng
C36: =IF(C32<=C31,"Đúng","Sai") -> Đúng | D36: =IF(D32<=D31,"Đúng","Sai") -> Đúng | E36: =IF(E32<=E31,"Đúng","Sai") -> Đúng | F36: =IF(F32<=F31,"Đúng","Sai") -> Đúng | G36: =IF(G32<=G31,"Đúng","Sai") -> Đúng | H36: =IF(H32<=H31,"Đúng","Sai") -> Đúng | I36: =IF(I32<=I31,"Đúng","Sai") -> Đúng | J36: =IF(J32<=J31,"Đúng","Sai") -> Đúng | ... V36: =IF(V32<=V31,"Đúng","Sai") -> Đúng
C37: =IF(C28=W19, "Đúng", "Sai") -> Đúng
C38: =IF(C29=X19, "Đúng", "Sai") -> Đúng
C39: =IF(C30=Y19, "Đúng", "Sai") -> Đúng
C40: =IF(C31=Z19, "Đúng", "Sai") -> Đúng
C41: =IF(C32=AA19, "Đúng", "Sai") -> Đúng

Sheet B03
A1: KIỂM TRA TỔ CHỨC ĐẢNG KHI CÓ DẤU HIỆU VI PHẠM CỦA CẤP ỦY, BAN THƯỜNG VỤ CẤP ỦY | T1: Biểu 03
A3: TT | B3: Tổ chức đảng được kiểm tra | C3: Tổng số tổ chức đảng được kiểm tra | D3: Cấp kiểm tra | H3: Nội dung kiểm tra | R3: Kết luận
D4: BCHTW, Bộ Chính trị, Ban Bí thư | E4: Tỉnh ủy, BTV tỉnh ủy và tương đương | F4: Đảng ủy, BTV ĐU cấp trên trực tiếp cơ sở và tương đương | G4: Đảng ủy cơ sở, BTV đảng ủy cơ sở | H4: Việc chấp hành Cương lĩnh chính trị, Điều lệ Đảng, chủ trương, nghị quyết, chỉ thị, quy định, quyết định, quy chế, kết luận, hướng dẫn của Đảng | I4: Việc chấp hành chính sách, pháp luật của Nhà nước | J4: Việc chấp hành các nguyên tắc tổ chức và hoạt động của Đảng, giữ gìn đoàn kết nội bộ, quy chế làm việc, chế độ công tác, thực hiện dân chủ trong Đảng | K4: Việc lãnh đạo, chỉ đạo thực hành tiết kiệm; phòng, chống tham nhũng, lãng phí, tiêu cực | L4: Việc quản lý, rèn luyện phẩm chất, đạo đức, lối sống của đảng viên | M4: Việc lãnh đạo, chỉ đạo và tổ chức thực hiện cải cách hành chính, cải cách tư pháp | N4: Việc lãnh đạo, chỉ đạo các cơ quan bảo vệ pháp luật trong công tác điều tra, truy tố, xét xử, thi hành án | O4: Công tác cán bộ | P4: Giải quyết khiếu nại, tố cáo | Q4: Khác | R4: Số có vi phạm | S4: Trong đó
S5: Phải thi hành kỷ luật | T5: Đã thi hành kỷ luật | U5: Đề nghị cấp có thẩm quyền thi hành kỷ luật
A6: 1 | B6: 2 | C6: 3 | D6: 4 | E6: 5 | F6: 6 | G6: 7 | H6: 8 | I6: 9 | J6: 10 | K6: 11 | L6: 12 | M6: 13 | N6: 14 | O6: 15 | P6: 16 | Q6: 17 | R6: 18 | S6: 19 | T6: 20 | U6: 21
A7: I | B7: Tổ chức đảng được kiểm tra | C7: =SUM(C8:C16) -> 0 | D7: =SUM(D8:D16) -> 0 | E7: =SUM(E8:E16) -> 0 | F7: =SUM(F8:F16) -> 0 | G7: =SUM(G8:G16) -> 0 | H7: =SUM(H8:H16) -> 0 | I7: =SUM(I8:I16) -> 0 | J7: =SUM(J8:J16) -> 0 | ... U7: =SUM(U8:U16) -> 0 | V7: =IF(AND(H7<=C7,I7<=C7,J7<=C7,K7<=C7,L7<=C7,M7<=C7,N7<=C7,O7<=C7,P7<=C7,Q7<=C7,R7<=C7),"Đúng","Sai") -> Đúng | W7: =IF(AND(S7<=R7,T7<=S7,U7<=S7),"Đúng","Sai") -> Đúng
B8: Các CQ tham mưu của Trung ương | C8: =SUM(D8:G8) -> 0 | V8: =IF(AND(H8<=C8,I8<=C8,J8<=C8,K8<=C8,L8<=C8,M8<=C8,N8<=C8,O8<=C8,P8<=C8,Q8<=C8,R8<=C8),"Đúng","Sai") -> Đúng | W8: =IF(AND(S8<=R8,T8<=S8,U8<=S8),"Đúng","Sai") -> Đúng
B9: Tỉnh ủy, BTV, Thường trực tỉnh ủy và tương đương | C9: =SUM(D9:G9) -> 0 | V9: =IF(AND(H9<=C9,I9<=C9,J9<=C9,K9<=C9,L9<=C9,M9<=C9,N9<=C9,O9<=C9,P9<=C9,Q9<=C9,R9<=C9),"Đúng","Sai") -> Đúng | W9: =IF(AND(S9<=R9,T9<=S9,U9<=S9),"Đúng","Sai") -> Đúng
B10: Các CQ tham mưu của cấp ủy tỉnh và tương đương | C10: =SUM(D10:G10) -> 0 | V10: =IF(AND(H10<=C10,I10<=C10,J10<=C10,K10<=C10,L10<=C10,M10<=C10,N10<=C10,O10<=C10,P10<=C10,Q10<=C10,R10<=C10),"Đúng","Sai") -> Đúng | W10: =IF(AND(S10<=R10,T10<=S10,U10<=S10),"Đúng","Sai") -> Đúng
B11: Đảng ủy, BTV ĐU cấp trên trực tiếp cơ sở và tương đương | C11: =SUM(D11:G11) -> 0 | V11: =IF(AND(H11<=C11,I11<=C11,J11<=C11,K11<=C11,L11<=C11,M11<=C11,N11<=C11,O11<=C11,P11<=C11,Q11<=C11,R11<=C11),"Đúng","Sai") -> Đúng | W11: =IF(AND(S11<=R11,T11<=S11,U11<=S11),"Đúng","Sai") -> Đúng
B12: Các CQ tham mưu của cấp ủy cấp trên trực tiếp cơ sở và tương đương | C12: =SUM(D12:G12) -> 0 | V12: =IF(AND(H12<=C12,I12<=C12,J12<=C12,K12<=C12,L12<=C12,M12<=C12,N12<=C12,O12<=C12,P12<=C12,Q12<=C12,R12<=C12),"Đúng","Sai") -> Đúng | W12: =IF(AND(S12<=R12,T12<=S12,U12<=S12),"Đúng","Sai") -> Đúng
B13: Đảng ủy cơ sở, BTV đảng ủy cơ sở | C13: =SUM(D13:G13) -> 0 | V13: =IF(AND(H13<=C13,I13<=C13,J13<=C13,K13<=C13,L13<=C13,M13<=C13,N13<=C13,O13<=C13,P13<=C13,Q13<=C13,R13<=C13),"Đúng","Sai") -> Đúng | W13: =IF(AND(S13<=R13,T13<=S13,U13<=S13),"Đúng","Sai") -> Đúng
B14: Đảng ủy bộ phận | C14: =SUM(D14:G14) -> 0 | V14: =IF(AND(H14<=C14,I14<=C14,J14<=C14,K14<=C14,L14<=C14,M14<=C14,N14<=C14,O14<=C14,P14<=C14,Q14<=C14,R14<=C14),"Đúng","Sai") -> Đúng | W14: =IF(AND(S14<=R14,T14<=S14,U14<=S14),"Đúng","Sai") -> Đúng
B15: Chi bộ, Chi ủy | C15: =SUM(D15:G15) -> 0 | V15: =IF(AND(H15<=C15,I15<=C15,J15<=C15,K15<=C15,L15<=C15,M15<=C15,N15<=C15,O15<=C15,P15<=C15,Q15<=C15,R15<=C15),"Đúng","Sai") -> Đúng | W15: =IF(AND(S15<=R15,T15<=S15,U15<=S15),"Đúng","Sai") -> Đúng
B16: Khác (ban chỉ đạo, tiểu ban, hội đồng, tổ đảng,...) | C16: =SUM(D16:G16) -> 0 | V16: =IF(AND(H16<=C16,I16<=C16,J16<=C16,K16<=C16,L16<=C16,M16<=C16,N16<=C16,O16<=C16,P16<=C16,Q16<=C16,R16<=C16),"Đúng","Sai") -> Đúng | W16: =IF(AND(S16<=R16,T16<=S16,U16<=S16),"Đúng","Sai") -> Đúng
A17: II | B17: Kết luận
B18: Số có vi phạm | C18: =SUM(D18:G18) -> 0
B19: Phải thi hành kỷ luật | C19: =SUM(D19:G19) -> 0
B20: Đã thi hành kỷ luật | C20: =SUM(D20:G20) -> 0
B21: Đề nghị cấp có thẩm quyền thi hành kỷ luật | C21: =SUM(D21:G21) -> 0
C22: =IF(AND(C20<=C19,C19<=C18,C18<=C7),"Đúng","Sai") -> Đúng | D22: =IF(AND(D20<=D19,D19<=D18,D18<=D7),"Đúng","Sai") -> Đúng | E22: =IF(AND(E20<=E19,E19<=E18,E18<=E7),"Đúng","Sai") -> Đúng | F22: =IF(AND(F20<=F19,F19<=F18,F18<=F7),"Đúng","Sai") -> Đúng | G22: =IF(AND(G20<=G19,G19<=G18,G18<=G7),"Đúng","Sai") -> Đúng | H22: =IF(AND(H20<=H19,H19<=H18,H18<=H7),"Đúng","Sai") -> Đúng | I22: =IF(AND(I20<=I19,I19<=I18,I18<=I7),"Đúng","Sai") -> Đúng | J22: =IF(AND(J20<=J19,J19<=J18,J18<=J7),"Đúng","Sai") -> Đúng | ... Q22: =IF(AND(Q20<=Q19,Q19<=Q18,Q18<=Q7),"Đúng","Sai") -> Đúng
C23: =IF(R7=C18, "Đúng", "Sai") -> Đúng
C24: =IF(S7=C19, "Đúng", "Sai") -> Đúng
C25: =IF(T7=C20, "Đúng", "Sai") -> Đúng
C26: =IF(U7=C21, "Đúng", "Sai") -> Đúng

Sheet B04
A1: KIỂM TRA ĐẢNG VIÊN KHI CÓ DẤU HIỆU VI PHẠM CỦA CẤP ỦY, BAN THƯỜNG VỤ CẤP ỦY VÀ CHI BỘ | U1: Biểu 04
A3: TT | B3: Đảng viên được kiểm tra | C3: Tổng số đảng viên được kiểm tra | D3: Cấp kiểm tra | K3: Nội dung kiểm tra | T3: Kết luận
D4: BCHTW, Bộ Chính trị, Ban Bí thư | E4: Tỉnh ủy, BTV tỉnh ủy và tương đương | F4: Đảng ủy, BTV ĐU cấp trên trực tiếp cơ sở và tương đương | G4: Đảng ủy cơ sở, BTV đảng ủy cơ sở | H4: Đảng uy bộ phận | I4: Chi bộ cơ sở | J4: Chi bộ trực thuộc | K4: Việc thực hiện những điều đảng viên không được làm | L4: Tiêu chuẩn đảng viên, tiêu chuẩn cấp ủy viên | M4: Việc thực hiện nhiệm vụ đảng viên, cấp ủy viên | N4: Việc chấp hành nghị quyết, chỉ thị, quy định, kết luận của Đảng; chính sách, pháp luật của Nhà nước | O4: Việc chấp hành quy chế làm việc, nguyên tắc tập trung dân chủ, chế độ công tác | P4: Tư tưởng chính trị, đạo đức, lối sống, trách nhiệm nêu gương | Q4: Tham nhũng, tiêu cực, lãng phí | R4: Kê khai, công khai tài sản, thu nhập | S4: Khác | T4: Số có vi phạm | U4: Trong đó
O5: Việc chấp hành nghị quyết, chỉ thị, quy định của Đảng, pháp luật của Nhà nước | U5: Phải thi hành kỷ luật | V5: Đã thi hành kỷ luật | W5: Đề nghị cấp có thẩm quyền thi hành kỷ luật
A6: 1 | B6: 2 | C6: 3 | D6: 4 | E6: 5 | F6: 6 | G6: 7 | H6: 8 | I6: 9 | J6: 10 | K6: 11 | L6: 12 | M6: 13 | N6: 14 | O6: 15 | P6: 16 | Q6: 17 | R6: 18 | S6: 19 | T6: 20 | U6: 21 | V6: 22 | W6: 23
A7: I | B7: Cấp quản lý đảng viên | C7: =SUM(C8:C11) -> 0 | D7: =SUM(D8:D11) -> 0 | E7: =SUM(E8:E11) -> 0 | F7: =SUM(F8:F11) -> 0 | G7: =SUM(G8:G11) -> 0 | H7: =SUM(H8:H11) -> 0 | I7: =SUM(I8:I11) -> 0 | J7: =SUM(J8:J11) -> 0 | ... W7: =SUM(W8:W11) -> 0 | X7: =IF(AND(K7<=C7,L7<=C7,M7<=C7,N7<=C7,O7<=C7,P7<=C7,Q7<=C7,R7<=C7,S7<=C7,T7<=C7),"Đúng","Sai") -> Đúng | Y7: =IF(AND(U7<=T7,V7<=U7,W7<=U7),"Đúng","Sai") -> Đúng
B8: Trung ương | C8: =SUM(D8:J8) -> 0 | X8: =IF(AND(K8<=C8,L8<=C8,M8<=C8,N8<=C8,O8<=C8,P8<=C8,Q8<=C8,R8<=C8,S8<=C8,T8<=C8),"Đúng","Sai") -> Đúng | Y8: =IF(AND(U8<=T8,V8<=U8,W8<=U8),"Đúng","Sai") -> Đúng
B9: Cấp tỉnh và tương đương | C9: =SUM(D9:J9) -> 0 | X9: =IF(AND(K9<=C9,L9<=C9,M9<=C9,N9<=C9,O9<=C9,P9<=C9,Q9<=C9,R9<=C9,S9<=C9,T9<=C9),"Đúng","Sai") -> Đúng | Y9: =IF(AND(U9<=T9,V9<=U9,W9<=U9),"Đúng","Sai") -> Đúng
B10: Cấp trên trực tiếp cơ sở và tương đương | C10: =SUM(D10:J10) -> 0 | X10: =IF(AND(K10<=C10,L10<=C10,M10<=C10,N10<=C10,O10<=C10,P10<=C10,Q10<=C10,R10<=C10,S10<=C10,T10<=C10),"Đúng","Sai") -> Đúng | Y10: =IF(AND(U10<=T10,V10<=U10,W10<=U10),"Đúng","Sai") -> Đúng
B11: Cấp cơ sở | C11: =SUM(D11:J11) -> 0 | X11: =IF(AND(K11<=C11,L11<=C11,M11<=C11,N11<=C11,O11<=C11,P11<=C11,Q11<=C11,R11<=C11,S11<=C11,T11<=C11),"Đúng","Sai") -> Đúng | Y11: =IF(AND(U11<=T11,V11<=U11,W11<=U11),"Đúng","Sai") -> Đúng
A12: II | B12: Là cấp uỷ viên các cấp | C12: =SUM(C13:C18) -> 0 | D12: =SUM(D13:D18) -> 0 | E12: =SUM(E13:E18) -> 0 | F12: =SUM(F13:F18) -> 0 | G12: =SUM(G13:G18) -> 0 | H12: =SUM(H13:H18) -> 0 | I12: =SUM(I13:I18) -> 0 | J12: =SUM(J13:J18) -> 0 | ... W12: =SUM(W13:W18) -> 0 | X12: =IF(AND(K12<=C12,L12<=C12,M12<=C12,N12<=C12,O12<=C12,P12<=C12,Q12<=C12,R12<=C12,S12<=C12,T12<=C12),"Đúng","Sai") -> Đúng | Y12: =IF(AND(U12<=T12,V12<=U12,W12<=U12),"Đúng","Sai") -> Đúng
B13: Uỷ viên Trung ương | C13: =SUM(D13:J13) -> 0 | X13: =IF(AND(K13<=C13,L13<=C13,M13<=C13,N13<=C13,O13<=C13,P13<=C13,Q13<=C13,R13<=C13,S13<=C13,T13<=C13),"Đúng","Sai") -> Đúng | Y13: =IF(AND(U13<=T13,V13<=U13,W13<=U13),"Đúng","Sai") -> Đúng
B14: Tỉnh uỷ viên và tương đương | C14: =SUM(D14:J14) -> 0 | X14: =IF(AND(K14<=C14,L14<=C14,M14<=C14,N14<=C14,O14<=C14,P14<=C14,Q14<=C14,R14<=C14,S14<=C14,T14<=C14),"Đúng","Sai") -> Đúng | Y14: =IF(AND(U14<=T14,V14<=U14,W14<=U14),"Đúng","Sai") -> Đúng
B15: Đảng ủy viên ĐU cấp trên trực tiếp cơ sở và tương đương | C15: =SUM(D15:J15) -> 0 | X15: =IF(AND(K15<=C15,L15<=C15,M15<=C15,N15<=C15,O15<=C15,P15<=C15,Q15<=C15,R15<=C15,S15<=C15,T15<=C15),"Đúng","Sai") -> Đúng | Y15: =IF(AND(U15<=T15,V15<=U15,W15<=U15),"Đúng","Sai") -> Đúng
B16: Đảng uỷ viên đảng ủy cơ sở | C16: =SUM(D16:J16) -> 0 | X16: =IF(AND(K16<=C16,L16<=C16,M16<=C16,N16<=C16,O16<=C16,P16<=C16,Q16<=C16,R16<=C16,S16<=C16,T16<=C16),"Đúng","Sai") -> Đúng | Y16: =IF(AND(U16<=T16,V16<=U16,W16<=U16),"Đúng","Sai") -> Đúng
B17: Đảng ủy viên đảng ủy bộ phận | C17: =SUM(D17:J17) -> 0 | X17: =IF(AND(K17<=C17,L17<=C17,M17<=C17,N17<=C17,O17<=C17,P17<=C17,Q17<=C17,R17<=C17,S17<=C17,T17<=C17),"Đúng","Sai") -> Đúng | Y17: =IF(AND(U17<=T17,V17<=U17,W17<=U17),"Đúng","Sai") -> Đúng
B18: Chi uỷ viên | C18: =SUM(D18:J18) -> 0 | X18: =IF(AND(K18<=C18,L18<=C18,M18<=C18,N18<=C18,O18<=C18,P18<=C18,Q18<=C18,R18<=C18,S18<=C18,T18<=C18),"Đúng","Sai") -> Đúng | Y18: =IF(AND(U18<=T18,V18<=U18,W18<=U18),"Đúng","Sai") -> Đúng
A19: III | B19: Đảng viên ở các lĩnh vực | C19: =SUM(C20:C26) -> 0 | D19: =SUM(D20:D26) -> 0 | E19: =SUM(E20:E26) -> 0 | F19: =SUM(F20:F26) -> 0 | G19: =SUM(G20:G26) -> 0 | H19: =SUM(H20:H26) -> 0 | I19: =SUM(I20:I26) -> 0 | J19: =SUM(J20:J26) -> 0 | ... W19: =SUM(W20:W26) -> 0 | X19: =IF(AND(K19<=C19,L19<=C19,M19<=C19,N19<=C19,O19<=C19,P19<=C19,Q19<=C19,R19<=C19,S19<=C19,T19<=C19),"Đúng","Sai") -> Đúng | Y19: =IF(AND(U19<=T19,V19<=U19,W19<=U19),"Đúng","Sai") -> Đúng
B20: Đảng | C20: =SUM(D20:J20) -> 0 | X20: =IF(AND(K20<=C20,L20<=C20,M20<=C20,N20<=C20,O20<=C20,P20<=C20,Q20<=C20,R20<=C20,S20<=C20,T20<=C20),"Đúng","Sai") -> Đúng | Y20: =IF(AND(U20<=T20,V20<=U20,W20<=U20),"Đúng","Sai") -> Đúng
B21: Hành chính, Nhà nước | C21: =SUM(D21:J21) -> 0 | X21: =IF(AND(K21<=C21,L21<=C21,M21<=C21,N21<=C21,O21<=C21,P21<=C21,Q21<=C21,R21<=C21,S21<=C21,T21<=C21),"Đúng","Sai") -> Đúng | Y21: =IF(AND(U21<=T21,V21<=U21,W21<=U21),"Đúng","Sai") -> Đúng
B22: Đoàn thể | C22: =SUM(D22:J22) -> 0 | X22: =IF(AND(K22<=C22,L22<=C22,M22<=C22,N22<=C22,O22<=C22,P22<=C22,Q22<=C22,R22<=C22,S22<=C22,T22<=C22),"Đúng","Sai") -> Đúng | Y22: =IF(AND(U22<=T22,V22<=U22,W22<=U22),"Đúng","Sai") -> Đúng
B23: Lực lượng vũ trang | C23: =SUM(D23:J23) -> 0 | X23: =IF(AND(K23<=C23,L23<=C23,M23<=C23,N23<=C23,O23<=C23,P23<=C23,Q23<=C23,R23<=C23,S23<=C23,T23<=C23),"Đúng","Sai") -> Đúng | Y23: =IF(AND(U23<=T23,V23<=U23,W23<=U23),"Đúng","Sai") -> Đúng
B24: Sự nghiệp công lập | C24: =SUM(D24:J24) -> 0 | X24: =IF(AND(K24<=C24,L24<=C24,M24<=C24,N24<=C24,O24<=C24,P24<=C24,Q24<=C24,R24<=C24,S24<=C24,T24<=C24),"Đúng","Sai") -> Đúng | Y24: =IF(AND(U24<=T24,V24<=U24,W24<=U24),"Đúng","Sai") -> Đúng
B25: Sản xuất kinh doanh, dịch vụ | C25: =SUM(D25:J25) -> 0 | X25: =IF(AND(K25<=C25,L25<=C25,M25<=C25,N25<=C25,O25<=C25,P25<=C25,Q25<=C25,R25<=C25,S25<=C25,T25<=C25),"Đúng","Sai") -> Đúng | Y25: =IF(AND(U25<=T25,V25<=U25,W25<=U25),"Đúng","Sai") -> Đúng
B26: Lĩnh vực khác | C26: =SUM(D26:J26) -> 0 | X26: =IF(AND(K26<=C26,L26<=C26,M26<=C26,N26<=C26,O26<=C26,P26<=C26,Q26<=C26,R26<=C26,S26<=C26,T26<=C26),"Đúng","Sai") -> Đúng | Y26: =IF(AND(U26<=T26,V26<=U26,W26<=U26),"Đúng","Sai") -> Đúng
A27: IV | B27: Kết luận
B28: Số có vi phạm | C28: =SUM(D28:J28) -> 0
B29: Phải thi hành kỷ luật | C29: =SUM(D29:J29) -> 0
B30: Đã thi hành kỷ luật | C30: =SUM(D30:J30) -> 0
B31: Đề nghị cấp có thẩm quyền thi hành kỷ luật | C31: =SUM(D31:J31) -> 0
C32: =IF(C7=C19, "Đúng", "Sai") -> Đúng | D32: =IF(D7=D19, "Đúng", "Sai") -> Đúng | E32: =IF(E7=E19, "Đúng", "Sai") -> Đúng | F32: =IF(F7=F19, "Đúng", "Sai") -> Đúng | G32: =IF(G7=G19, "Đúng", "Sai") -> Đúng | H32: =IF(H7=H19, "Đúng", "Sai") -> Đúng | I32: =IF(I7=I19, "Đúng", "Sai") -> Đúng | J32: =IF(J7=J19, "Đúng", "Sai") -> Đúng | ... W32: =IF(W7=W19, "Đúng", "Sai") -> Đúng
C33: =IF(AND(C30<=C29,C29<=C28,C28<=C7),"Đúng","Sai") -> Đúng | D33: =IF(AND(D30<=D29,D29<=D28,D28<=D7),"Đúng","Sai") -> Đúng | E33: =IF(AND(E30<=E29,E29<=E28,E28<=E7),"Đúng","Sai") -> Đúng | F33: =IF(AND(F30<=F29,F29<=F28,F28<=F7),"Đúng","Sai") -> Đúng | G33: =IF(AND(G30<=G29,G29<=G28,G28<=G7),"Đúng","Sai") -> Đúng | H33: =IF(AND(H30<=H29,H29<=H28,H28<=H7),"Đúng","Sai") -> Đúng | I33: =IF(AND(I30<=I29,I29<=I28,I28<=I7),"Đúng","Sai") -> Đúng | J33: =IF(AND(J30<=J29,J29<=J28,J28<=J7),"Đúng","Sai") -> Đúng | ... S33: =IF(AND(S30<=S29,S29<=S28,S28<=S7),"Đúng","Sai") -> Đúng
C34: =IF(T7=C28, "Đúng", "Sai") -> Đúng
C35: =IF(U7=C29, "Đúng", "Sai") -> Đúng
C36: =IF(V7=C30, "Đúng", "Sai") -> Đúng
C37: =IF(W7=C31, "Đúng", "Sai") -> Đúng

Sheet B05
A1: GIÁM SÁT TỔ CHỨC ĐẢNG THEO ĐIỀU 30 ĐIỀU LỆ ĐẢNG | Z1: Biểu 05
A2: (Giám sát theo chuyên đề) | W2: (ĐVT: Tổ chức đảng)
A3: TT | B3: Tổ chức đảng được giám sát | C3: Tổng số tổ chức đảng được giám sát | D3: Cấp giám sát | L3: Nội dung | Y3: Kết quả
D4: BCH Trung ương, Bộ Chính trị, BBT | E4: Các CQ tham mưu của Trung ương | F4: Tỉnh uỷ, BTV tỉnh uỷ và tương đương | G4: Các CQ tham mưu của cấp ủy tỉnh và tương đương | H4: Đảng ủy, BTV ĐU cấp trên trực tiếp cơ sở và tương đương | I4: Các CQ tham mưu của cấp ủy cấp trên trực tiếp cơ sở và tương đương | J4: Đảng ủy cơ sở, BTV Đảng ủy cơ sở | K4: Đảng ủy bộ phận | L4: Việc chấp hành Cương lĩnh chính trị, Điều lệ Đảng, chủ trương, nghị quyết, chỉ thị, quy định, quyết định, quy chế, kết luận, hướng dẫn của Đảng | M4: Việc chấp hành chính sách, pháp luật của Nhà nước | N4: Việc chấp hành các nguyên tắc tổ chức và hoạt động của Đảng, giữ gìn đoàn kết nội bộ, quy chế làm việc, chế độ công tác, thực hiện dân chủ trong Đảng | O4: Việc lãnh đạo, chỉ đạo thực hành tiết kiệm; phòng, chống tham nhũng, lãng phí, tiêu cực | P4: Việc quản lý, rèn luyện phẩm chất, đạo đức, lối sống của đảng viên | Q4: Việc lãnh đạo, chỉ đạo và tổ chức thực hiện cải cách hành chính, cải cách tư pháp | R4: Việc lãnh đạo, chỉ đạo các cơ quan bảo vệ pháp luật trong công tác điều tra, truy tố, xét xử, thi hành án | S4: Việc thực hiện chức năng, nhiệm vụ, quyền hạn thuộc lĩnh vực phụ trách và những nội dung do cấp ủy giao | T4: Việc thực hiện các thông báo kết luận kiểm tra, giám sát, thanh tra, kiểm toán | U4: Việc lãnh đạo, chỉ đạo và tổ chức thực hiện kê khai, công khai tài sản, thu nhập | V4: Công tác cán bộ | W4: Giải quyết khiếu nại, tố cáo | X4: Khác | Y4: Số tổ chức đảng thực hiện tốt | Z4: Số tổ chức đảng có hạn chế, khuyết điểm | AA4: Số tổ chức đảng chuyển kiểm tra khi có dấu hiệu vi phạm
A5: 1 | B5: 2 | C5: 3 | D5: 4 | E5: 5 | F5: 6 | G5: 7 | H5: 8 | I5: 9 | J5: 10 | K5: 11 | L5: 12 | M5: 13 | N5: 14 | O5: 15 | P5: 16 | Q5: 17 | R5: 18 | S5: 19 | T5: 20 | U5: 21 | V5: 22 | W5: 23 | X5: 24 | Y5: 25 | Z5: 26 | AA5: 27
A6: I | B6: Cộng | C6: =SUM(C7:C15) -> 2 | D6: =SUM(D7:D15) -> 0 | E6: =SUM(E7:E15) -> 0 | F6: =SUM(F7:F15) -> 0 | G6: =SUM(G7:G15) -> 0 | H6: =SUM(H7:H15) -> 0 | I6: =SUM(I7:I15) -> 0 | J6: =SUM(J7:J15) -> 2 | ... AA6: =SUM(AA7:AA15) -> 0 | AB6: =IF(AND(L6<=C6,M6<=C6,N6<=C6,O6<=C6,P6<=C6,Q6<=C6,R6<=C6,S6<=C6,V6<=C6,W6<=C6,X6<=C6),"Đúng","Sai") -> Đúng | AC6: =IF(C6=Y6+Z6,"Đúng","Sai") -> Sai | AD6: =IF(AA6<=Z6,"Đúng","Sai") -> Đúng
B7: Các CQ tham mưu của Trung ương | C7: =SUM(D7:K7) -> 0 | AB7: =IF(AND(L7<=C7,M7<=C7,N7<=C7,O7<=C7,P7<=C7,Q7<=C7,R7<=C7,S7<=C7,V7<=C7,W7<=C7,X7<=C7),"Đúng","Sai") -> Đúng | AC7: =IF(C7=Y7+Z7,"Đúng","Sai") -> Đúng | AD7: =IF(AA7<=Z7,"Đúng","Sai") -> Đúng
B8: Tỉnh ủy, BTV tỉnh ủy và tương đương | C8: =SUM(D8:K8) -> 0 | AB8: =IF(AND(L8<=C8,M8<=C8,N8<=C8,O8<=C8,P8<=C8,Q8<=C8,R8<=C8,S8<=C8,V8<=C8,W8<=C8,X8<=C8),"Đúng","Sai") -> Đúng | AC8: =IF(C8=Y8+Z8,"Đúng","Sai") -> Đúng | AD8: =IF(AA8<=Z8,"Đúng","Sai") -> Đúng
B9: Các CQ tham mưu của cấp ủy tỉnh và tương đương | C9: =SUM(D9:K9) -> 0 | AB9: =IF(AND(L9<=C9,M9<=C9,N9<=C9,O9<=C9,P9<=C9,Q9<=C9,R9<=C9,S9<=C9,V9<=C9,W9<=C9,X9<=C9),"Đúng","Sai") -> Đúng | AC9: =IF(C9=Y9+Z9,"Đúng","Sai") -> Đúng | AD9: =IF(AA9<=Z9,"Đúng","Sai") -> Đúng
B10: Đảng ủy, BTV ĐU cấp trên trực tiếp cơ sở và tương đương | C10: =SUM(D10:K10) -> 0 | AB10: =IF(AND(L10<=C10,M10<=C10,N10<=C10,O10<=C10,P10<=C10,Q10<=C10,R10<=C10,S10<=C10,V10<=C10,W10<=C10,X10<=C10),"Đúng","Sai") -> Đúng | AC10: =IF(C10=Y10+Z10,"Đúng","Sai") -> Đúng | AD10: =IF(AA10<=Z10,"Đúng","Sai") -> Đúng
B11: Các CQ tham mưu của cấp ủy cấp trên trực tiếp cơ sở và tương đương | C11: =SUM(D11:K11) -> 0 | AB11: =IF(AND(L11<=C11,M11<=C11,N11<=C11,O11<=C11,P11<=C11,Q11<=C11,R11<=C11,S11<=C11,V11<=C11,W11<=C11,X11<=C11),"Đúng","Sai") -> Đúng | AC11: =IF(C11=Y11+Z11,"Đúng","Sai") -> Đúng | AD11: =IF(AA11<=Z11,"Đúng","Sai") -> Đúng
B12: Đảng ủy cơ sở, BTV Đảng ủy cơ sở | C12: =SUM(D12:K12) -> 0 | AB12: =IF(AND(L12<=C12,M12<=C12,N12<=C12,O12<=C12,P12<=C12,Q12<=C12,R12<=C12,S12<=C12,V12<=C12,W12<=C12,X12<=C12),"Đúng","Sai") -> Đúng | AC12: =IF(C12=Y12+Z12,"Đúng","Sai") -> Đúng | AD12: =IF(AA12<=Z12,"Đúng","Sai") -> Đúng
B13: Đảng ủy bộ phận | C13: =SUM(D13:K13) -> 0 | AB13: =IF(AND(L13<=C13,M13<=C13,N13<=C13,O13<=C13,P13<=C13,Q13<=C13,R13<=C13,S13<=C13,V13<=C13,W13<=C13,X13<=C13),"Đúng","Sai") -> Đúng | AC13: =IF(C13=Y13+Z13,"Đúng","Sai") -> Đúng | AD13: =IF(AA13<=Z13,"Đúng","Sai") -> Đúng
B14: Chi bộ, Chi ủy | C14: 2 | J14: 2 | L14: 1 | N14: 1 | AB14: =IF(AND(L14<=C14,M14<=C14,N14<=C14,O14<=C14,P14<=C14,Q14<=C14,R14<=C14,S14<=C14,V14<=C14,W14<=C14,X14<=C14),"Đúng","Sai") -> Đúng | AC14: =IF(C14=Y14+Z14,"Đúng","Sai") -> Sai | AD14: =IF(AA14<=Z14,"Đúng","Sai") -> Đúng
B15: Khác (Ban Chỉ đạo, tiểu ban, hội đồng, tổ đảng...) | C15: =SUM(D15:K15) -> 0 | AB15: =IF(AND(L15<=C15,M15<=C15,N15<=C15,O15<=C15,P15<=C15,Q15<=C15,R15<=C15,S15<=C15,V15<=C15,W15<=C15,X15<=C15),"Đúng","Sai") -> Đúng | AC15: =IF(C15=Y15+Z15,"Đúng","Sai") -> Đúng | AD15: =IF(AA15<=Z15,"Đúng","Sai") -> Đúng
A16: II | B16: Kết quả | C16: =SUM(C17:C18) -> 2 | D16: =SUM(D17:D18) -> 0 | E16: =SUM(E17:E18) -> 0 | F16: =SUM(F17:F18) -> 0 | G16: =SUM(G17:G18) -> 0 | H16: =SUM(H17:H18) -> 0 | I16: =SUM(I17:I18) -> 0 | J16: =SUM(J17:J18) -> 2 | ... AA16: =SUM(AA17:AA18) -> 0
B17: Số tổ chức đảng thực hiện tốt | C17: =SUM(D17:K17) -> 2 | J17: 2 | L17: 1 | N17: 1
B18: Số tổ chức đảng có hạn chế, khuyết điểm | C18: =SUM(D18:K18) -> 0
B19: Số tổ chức đảng chuyển kiểm tra khi có DHVP | C19: =SUM(D19:K19) -> 0

Sheet B06
A1: GIÁM SÁT ĐẢNG VIÊN THEO ĐIỀU 30 ĐIỀU LỆ ĐẢNG | X1: Biểu 06
A2: (Giám sát theo chuyên đề) | X2: (ĐVT: đảng viên)
A3: TT | B3: Đảng viên được giám sát | C3: Tổng số đảng viên được giám sát | D3: Cấp giám sát | N3: Nội dung | W3: Kết quả
D4: BCH TW, Bộ Chính trị, Ban Bí thư | E4: Các CQ tham mưu của Trung ương | F4: Tỉnh ủy, BTV tỉnh uỷ và tương đương | G4: Các CQ tham mưu của cấp ủy tỉnh và tương đương | H4: Đảng ủy, BTV ĐU cấp trên trực tiếp cơ sở và tương đương | I4: Các CQ tham mưu của cấp ủy cấp trên trực tiếp cơ sở và tương đương | J4: Đảng ủy cơ sở, BTV đảng ủy cơ sở | K4: Đảng ủy bộ phận | L4: Chi bộ cơ sở | M4: Chi bộ trực thuộc | N4: Việc thực hiện những điều đảng viên không được làm | O4: Tiêu chuẩn đảng viên, tiêu chuẩn cấp ủy viên | P4: Việc thực hiện nhiệm vụ đảng viên, nhiệm vụ cấp ủy viên | Q4: Việc chấp hành nghị quyết, chỉ thị, quy định, kết luận của Đảng; chính sách, pháp luật của Nhà nước | R4: Việc chấp hành quy chế làm việc, nguyên tắc tập trung dân chủ, chế độ công tác | S4: Tư tưởng chính trị, giữ gìn đạo đức, lối sống, trách nhiệm nêu gương | T4: Việc thực hiện các thông báo kết luận kiểm tra, giám sát, thanh tra, kiểm toán | U4: Kê khai tài sản, thu nhập | V4: Khác | W4: Số đảng viên thực hiện tốt | X4: Số đảng viên có hạn chế, khuyết điểm | Y4: Số đảng viên chuyển kiểm tra khi có dấu hiệu vi phạm
A5: 1 | B5: 2 | C5: 3 | D5: 4 | E5: 5 | F5: 6 | G5: 7 | H5: 8 | I5: 9 | J5: 10 | K5: 11 | L5: 12 | M5: 13 | N5: 14 | O5: 15 | P5: 16 | Q5: 17 | R5: 18 | S5: 19 | T5: 20 | U5: 21 | V5: 22 | W5: 23 | X5: 24 | Y5: 25
A6: I | B6: Cấp quản lý đảng viên | C6: =SUM(C7:C10) -> 26 | D6: =SUM(D7:D10) -> 0 | E6: =SUM(E7:E10) -> 0 | F6: =SUM(F7:F10) -> 0 | G6: =SUM(G7:G10) -> 0 | H6: =SUM(H7:H10) -> 0 | I6: =SUM(I7:I10) -> 0 | J6: =SUM(J7:J10) -> 1 | ... Y6: =SUM(Y7:Y10) -> 0 | Z6: =IF(AND(N6<=C6,O6<=C6,P6<=C6,Q6<=C6,R6<=C6,S6<=C6,U6<=C6,V6<=C6),"Đúng","Sai") -> Đúng | AA6: =IF(C6=W6+X6,"Đúng","Sai") -> Đúng | AB6: =IF(Y6<=X6,"Đúng","Sai") -> Đúng
B7: Trung ương | C7: =SUM(D7:M7) -> 0 | Z7: =IF(AND(N7<=C7,O7<=C7,P7<=C7,Q7<=C7,R7<=C7,S7<=C7,U7<=C7,V7<=C7),"Đúng","Sai") -> Đúng | AA7: =IF(C7=W7+X7,"Đúng","Sai") -> Đúng | AB7: =IF(Y7<=X7,"Đúng","Sai") -> Đúng
B8: Cấp tỉnh và tương đương | C8: =SUM(D8:M8) -> 0 | Z8: =IF(AND(N8<=C8,O8<=C8,P8<=C8,Q8<=C8,R8<=C8,S8<=C8,U8<=C8,V8<=C8),"Đúng","Sai") -> Đúng | AA8: =IF(C8=W8+X8,"Đúng","Sai") -> Đúng | AB8: =IF(Y8<=X8,"Đúng","Sai") -> Đúng
B9: Cấp trên trực tiếp cơ sở và tương đương | C9: =SUM(D9:M9) -> 0 | Z9: =IF(AND(N9<=C9,O9<=C9,P9<=C9,Q9<=C9,R9<=C9,S9<=C9,U9<=C9,V9<=C9),"Đúng","Sai") -> Đúng | AA9: =IF(C9=W9+X9,"Đúng","Sai") -> Đúng | AB9: =IF(Y9<=X9,"Đúng","Sai") -> Đúng
B10: Cấp cơ sở | C10: =SUM(N10:V10) -> 26 | J10: 1 | L10: 0 | M10: 25 | N10: 6 | P10: 2 | Q10: 7 | R10: 3 | S10: 5 | V10: 3 | W10: 26 | Z10: =IF(AND(N10<=C10,O10<=C10,P10<=C10,Q10<=C10,R10<=C10,S10<=C10,U10<=C10,V10<=C10),"Đúng","Sai") -> Đúng | AA10: =IF(C10=W10+X10,"Đúng","Sai") -> Đúng | AB10: =IF(Y10<=X10,"Đúng","Sai") -> Đúng
A11: II | B11: Cấp ủy viên các cấp | C11: =SUM(N11:V11) -> 3 | D11: =D12+D13+D16+D19+D20+D21 -> 0 | E11: =E12+E13+E16+E19+E20+E21 -> 0 | F11: =F12+F13+F16+F19+F20+F21 -> 0 | G11: =G12+G13+G16+G19+G20+G21 -> 0 | H11: =H12+H13+H16+H19+H20+H21 -> 0 | I11: =I12+I13+I16+I19+I20+I21 -> 0 | J11: =J12+J13+J16+J19+J20+J21 -> 1 | K11: =K12+K13+K16+K19+K20+K21 -> 0 | ... Y11: =Y12+Y13+Y16+Y19+Y20+Y21 -> 0 | Z11: =IF(AND(N11<=C11,O11<=C11,P11<=C11,Q11<=C11,R11<=C11,S11<=C11,U11<=C11,V11<=C11),"Đúng","Sai") -> Đúng | AA11: =IF(C11=W11+X11,"Đúng","Sai") -> Sai | AB11: =IF(Y11<=X11,"Đúng","Sai") -> Đúng
B12: Uỷ viên Trung ương | C12: =SUM(N12:V12) -> 0 | Z12: =IF(AND(N12<=C12,O12<=C12,P12<=C12,Q12<=C12,R12<=C12,S12<=C12,U12<=C12,V12<=C12),"Đúng","Sai") -> Đúng | AA12: =IF(C12=W12+X12,"Đúng","Sai") -> Đúng | AB12: =IF(Y12<=X12,"Đúng","Sai") -> Đúng
B13: Tỉnh ủy viên và tương đương | C13: =SUM(N13:V13) -> 0 | Z13: =IF(AND(N13<=C13,O13<=C13,P13<=C13,Q13<=C13,R13<=C13,S13<=C13,U13<=C13,V13<=C13),"Đúng","Sai") -> Đúng | AA13: =IF(C13=W13+X13,"Đúng","Sai") -> Đúng | AB13: =IF(Y13<=X13,"Đúng","Sai") -> Đúng
B14: Trong đó: Bí thư | C14: =SUM(N14:V14) -> 0 | Z14: =IF(AND(N14<=C14,O14<=C14,P14<=C14,Q14<=C14,R14<=C14,S14<=C14,U14<=C14,V14<=C14),"Đúng","Sai") -> Đúng | AA14: =IF(C14=W14+X14,"Đúng","Sai") -> Đúng | AB14: =IF(Y14<=X14,"Đúng","Sai") -> Đúng
B15: Phó Bí thư | C15: =SUM(N15:V15) -> 0 | Z15: =IF(AND(N15<=C15,O15<=C15,P15<=C15,Q15<=C15,R15<=C15,S15<=C15,U15<=C15,V15<=C15),"Đúng","Sai") -> Đúng | AA15: =IF(C15=W15+X15,"Đúng","Sai") -> Đúng | AB15: =IF(Y15<=X15,"Đúng","Sai") -> Đúng
B16: Đảng ủy viên ĐU cấp trên trực tiếp cơ sở và tương đương | C16: =SUM(N16:V16) -> 0 | Z16: =IF(AND(N16<=C16,O16<=C16,P16<=C16,Q16<=C16,R16<=C16,S16<=C16,U16<=C16,V16<=C16),"Đúng","Sai") -> Đúng | AA16: =IF(C16=W16+X16,"Đúng","Sai") -> Đúng | AB16: =IF(Y16<=X16,"Đúng","Sai") -> Đúng
B17: Trong đó: Bí thư | C17: =SUM(N17:V17) -> 0 | Z17: =IF(AND(N17<=C17,O17<=C17,P17<=C17,Q17<=C17,R17<=C17,S17<=C17,U17<=C17,V17<=C17),"Đúng","Sai") -> Đúng | AA17: =IF(C17=W17+X17,"Đúng","Sai") -> Đúng | AB17: =IF(Y17<=X17,"Đúng","Sai") -> Đúng
B18: Phó Bí thư | C18: =SUM(N18:V18) -> 0 | Z18: =IF(AND(N18<=C18,O18<=C18,P18<=C18,Q18<=C18,R18<=C18,S18<=C18,U18<=C18,V18<=C18),"Đúng","Sai") -> Đúng | AA18: =IF(C18=W18+X18,"Đúng","Sai") -> Đúng | AB18: =IF(Y18<=X18,"Đúng","Sai") -> Đúng
B19: Đảng uỷ viên đảng ủy cơ sở | C19: =SUM(N19:V19) -> 1 | J19: 1 | R19: 1 | Z19: =IF(AND(N19<=C19,O19<=C19,P19<=C19,Q19<=C19,R19<=C19,S19<=C19,U19<=C19,V19<=C19),"Đúng","Sai") -> Đúng | AA19: =IF(C19=W19+X19,"Đúng","Sai") -> Sai | AB19: =IF(Y19<=X19,"Đúng","Sai") -> Đúng
B20: Đảng ủy viên đảng ủy bộ phận | C20: =SUM(N20:V20) -> 0 | Z20: =IF(AND(N20<=C20,O20<=C20,P20<=C20,Q20<=C20,R20<=C20,S20<=C20,U20<=C20,V20<=C20),"Đúng","Sai") -> Đúng | AA20: =IF(C20=W20+X20,"Đúng","Sai") -> Đúng | AB20: =IF(Y20<=X20,"Đúng","Sai") -> Đúng
B21: Chi uỷ viên | C21: =SUM(N21:V21) -> 2 | M21: 2 | N21: 1 | S21: 1 | Z21: =IF(AND(N21<=C21,O21<=C21,P21<=C21,Q21<=C21,R21<=C21,S21<=C21,U21<=C21,V21<=C21),"Đúng","Sai") -> Đúng | AA21: =IF(C21=W21+X21,"Đúng","Sai") -> Sai | AB21: =IF(Y21<=X21,"Đúng","Sai") -> Đúng
A22: III | B22: Đảng viên ở các lĩnh vực | C22: =SUM(N22:V22) -> 26 | D22: =SUM(D23:D29) -> 0 | E22: =SUM(E23:E29) -> 0 | F22: =SUM(F23:F29) -> 0 | G22: =SUM(G23:G29) -> 0 | H22: =SUM(H23:H29) -> 0 | I22: =SUM(I23:I29) -> 0 | J22: =SUM(J23:J29) -> 1 | K22: =SUM(K23:K29) -> 0 | ... Y22: =SUM(Y23:Y29) -> 0 | Z22: =IF(AND(N22<=C22,O22<=C22,P22<=C22,Q22<=C22,R22<=C22,S22<=C22,U22<=C22,V22<=C22),"Đúng","Sai") -> Đúng | AA22: =IF(C22=W22+X22,"Đúng","Sai") -> Đúng | AB22: =IF(Y22<=X22,"Đúng","Sai") -> Đúng
B23: Đảng | C23: =SUM(N23:V23) -> 0 | Z23: =IF(AND(N23<=C23,O23<=C23,P23<=C23,Q23<=C23,R23<=C23,S23<=C23,U23<=C23,V23<=C23),"Đúng","Sai") -> Đúng | AA23: =IF(C23=W23+X23,"Đúng","Sai") -> Đúng | AB23: =IF(Y23<=X23,"Đúng","Sai") -> Đúng
B24: Hành chính, Nhà nước | C24: =SUM(N24:V24) -> 26 | J24: 1 | L24: 0 | M24: 25 | N24: 6 | P24: 2 | Q24: 7 | R24: 3 | S24: 5 | V24: 3 | W24: 26 | Z24: =IF(AND(N24<=C24,O24<=C24,P24<=C24,Q24<=C24,R24<=C24,S24<=C24,U24<=C24,V24<=C24),"Đúng","Sai") -> Đúng | AA24: =IF(C24=W24+X24,"Đúng","Sai") -> Đúng | AB24: =IF(Y24<=X24,"Đúng","Sai") -> Đúng
B25: Đoàn thể | C25: =SUM(N25:V25) -> 0 | Z25: =IF(AND(N25<=C25,O25<=C25,P25<=C25,Q25<=C25,R25<=C25,S25<=C25,U25<=C25,V25<=C25),"Đúng","Sai") -> Đúng | AA25: =IF(C25=W25+X25,"Đúng","Sai") -> Đúng | AB25: =IF(Y25<=X25,"Đúng","Sai") -> Đúng
B26: Lực lượng vũ trang | C26: =SUM(N26:V26) -> 0 | Z26: =IF(AND(N26<=C26,O26<=C26,P26<=C26,Q26<=C26,R26<=C26,S26<=C26,U26<=C26,V26<=C26),"Đúng","Sai") -> Đúng | AA26: =IF(C26=W26+X26,"Đúng","Sai") -> Đúng | AB26: =IF(Y26<=X26,"Đúng","Sai") -> Đúng
B27: Sự nghiệp công lập | C27: =SUM(N27:V27) -> 0 | Z27: =IF(AND(N27<=C27,O27<=C27,P27<=C27,Q27<=C27,R27<=C27,S27<=C27,U27<=C27,V27<=C27),"Đúng","Sai") -> Đúng | AA27: =IF(C27=W27+X27,"Đúng","Sai") -> Đúng | AB27: =IF(Y27<=X27,"Đúng","Sai") -> Đúng
B28: Sản xuất kinh doanh, dịch vụ | C28: =SUM(N28:V28) -> 0 | Z28: =IF(AND(N28<=C28,O28<=C28,P28<=C28,Q28<=C28,R28<=C28,S28<=C28,U28<=C28,V28<=C28),"Đúng","Sai") -> Đúng | AA28: =IF(C28=W28+X28,"Đúng","Sai") -> Đúng | AB28: =IF(Y28<=X28,"Đúng","Sai") -> Đúng
B29: Các lĩnh vực khác | C29: =SUM(N29:V29) -> 0 | Z29: =IF(AND(N29<=C29,O29<=C29,P29<=C29,Q29<=C29,R29<=C29,S29<=C29,U29<=C29,V29<=C29),"Đúng","Sai") -> Đúng | AA29: =IF(C29=W29+X29,"Đúng","Sai") -> Đúng | AB29: =IF(Y29<=X29,"Đúng","Sai") -> Đúng
A30: IV | B30: Kết quả | C30: =SUM(N30:V30) -> 0 | D30: =SUM(D31:D32) -> 0 | E30: =SUM(E31:E32) -> 0 | F30: =SUM(F31:F32) -> 0 | G30: =SUM(G31:G32) -> 0 | H30: =SUM(H31:H32) -> 0 | I30: =SUM(I31:I32) -> 0 | J30: =SUM(J31:J32) -> 1 | K30: =SUM(K31:K32) -> 0 | ... M30: =SUM(M31:M32) -> 26
B31: Số đảng viên thực hiện tốt | C31: =SUM(N31:V31) -> 26 | J31: 1 | M31: 26 | N31: 6 | P31: 2 | Q31: 7 | R31: 3 | S31: 5 | V31: 3 | W31: 26
B32: Số đảng viên có hạn chế, khuyết điểm | C32: =SUM(N32:V32) -> 0
B33: Số đảng viên chuyển kiểm tra DHVP | C33: =SUM(N33:V33) -> 0
C35: =IF(AND(C6=C22,C22=C30), "Đúng", "Sai") -> Sai | D35: =IF(AND(D6=D22,D22=D30), "Đúng", "Sai") -> Đúng | E35: =IF(AND(E6=E22,E22=E30), "Đúng", "Sai") -> Đúng | F35: =IF(AND(F6=F22,F22=F30), "Đúng", "Sai") -> Đúng | G35: =IF(AND(G6=G22,G22=G30), "Đúng", "Sai") -> Đúng | H35: =IF(AND(H6=H22,H22=H30), "Đúng", "Sai") -> Đúng | I35: =IF(AND(I6=I22,I22=I30), "Đúng", "Sai") -> Đúng | J35: =IF(AND(J6=J22,J22=J30), "Đúng", "Sai") -> Đúng | ... M35: =IF(AND(M6=M22,M22=M30), "Đúng", "Sai") -> Sai | N35: =IF(N6=N22, "Đúng", "Sai") -> Đúng | O35: =IF(O6=O22, "Đúng", "Sai") -> Đúng | P35: =IF(P6=P22, "Đúng", "Sai") -> Đúng | Q35: =IF(Q6=Q22, "Đúng", "Sai") -> Đúng | R35: =IF(R6=R22, "Đúng", "Sai") -> Đúng | S35: =IF(S6=S22, "Đúng", "Sai") -> Đúng | T35: =IF(T6=T22, "Đúng", "Sai") -> Đúng | U35: =IF(U6=U22, "Đúng", "Sai") -> Đúng | ... Y35: =IF(Y6=Y22, "Đúng", "Sai") -> Đúng

Sheet B07
A1: THI HÀNH KỶ LUẬT TỔ CHỨC ĐẢNG CỦA CẤP ỦY CÁC CẤP | R1: Biểu 07
Q2: (ĐVT: Tổ chức đảng)
A3: TT | B3: Tổ chức đảng bị thi hành kỷ luật | C3: Tổng số tổ chức đảng bị thi hành kỷ luật | D3: Hình thức kỷ luật | G3: Cấp thi hành kỷ luật | K3: Nội dung vi phạm
D4: Khiển trách | E4: Cảnh cáo | F4: Giải tán | G4: BCHTW, Bộ Chính trị, Ban Bí thư | H4: Tỉnh uỷ, BTV tỉnh uỷ và tương đương | I4: Đảng ủy, BTV ĐU cấp trên trực tiếp cơ sở và tương đương | J4: Đảng uỷ cơ sở, BTV Đảng uỷ cơ sở | K4: Việc chấp hành Cương lĩnh chính trị, Điều lệ Đảng, chủ trương, nghị quyết, chỉ thị, quy định, quyết định, quy chế, kết luận, hướng dẫn của Đảng | L4: Việc chấp hành chính sách, pháp luật của Nhà nước | M4: Việc chấp hành các nguyên tắc tổ chức và hoạt động của Đảng, giữ gìn đoàn kết nội bộ, quy chế làm việc, chế độ công tác, thực hiện dân chủ trong Đảng | N4: Việc lãnh đạo, chỉ đạo thực hành tiết kiệm; phòng, chống tham nhũng, lãng phí; quản lý, tèn luyện phẩm chất, đạo đức, lối sống của đảng viên | O4: Việc lãnh đạo, chỉ đạo và tổ chức thực hiện cải cách hành chính, cải cách tư pháp | P4: Việc lãnh đạo, chỉ đạo các cơ quan bảo vệ pháp luật trong công tác điều tra, truy tố, xét xử, thi hành án | Q4: Công tác cán bộ | R4: Giải quyết khiếu nại, tố cáo | S4: Khác
A5: 1 | B5: 2 | C5: 3 | D5: 4 | E5: 5 | F5: 6 | G5: 7 | H5: 8 | I5: 9 | J5: 10 | K5: 11 | L5: 12 | M5: 13 | N5: 14 | O5: 15 | P5: 16 | Q5: 17 | R5: 18 | S5: 19
A6: I | B6: Tổ chức đảng bị THKL | C6: =SUM(C7:C15) -> 0 | D6: =SUM(D7:D15) -> 0 | E6: =SUM(E7:E15) -> 0 | F6: =SUM(F7:F15) -> 0 | G6: =SUM(G7:G15) -> 0 | H6: =SUM(H7:H15) -> 0 | I6: =SUM(I7:I15) -> 0 | J6: =SUM(J7:J15) -> 0 | ... S6: =SUM(S7:S15) -> 0 | T6: =IF((C6=SUM(G6:J6)),"Đúng","Sai") -> Đúng | U6: =IF(AND(K6<=C6,L6<=C6,M6<=C6,N6<=C6,O6<=C6,P6<=C6,Q6<=C6,R6<=C6,S6<=C6),"Đúng","Sai") -> Đúng
B7: Các CQ tham mưu của Trung ương | C7: =SUM(D7:F7) -> 0 | T7: =IF((C7=SUM(G7:J7)),"Đúng","Sai") -> Đúng | U7: =IF(AND(K7<=C7,L7<=C7,M7<=C7,N7<=C7,O7<=C7,P7<=C7,Q7<=C7,R7<=C7,S7<=C7),"Đúng","Sai") -> Đúng
B8: Tỉnh uỷ, BTV tỉnh uỷ và tương đương | C8: =SUM(D8:F8) -> 0 | T8: =IF((C8=SUM(G8:J8)),"Đúng","Sai") -> Đúng | U8: =IF(AND(K8<=C8,L8<=C8,M8<=C8,N8<=C8,O8<=C8,P8<=C8,Q8<=C8,R8<=C8,S8<=C8),"Đúng","Sai") -> Đúng
B9: Các CQ tham mưu của cấp ủy tỉnh và tương đương | C9: =SUM(D9:F9) -> 0 | T9: =IF((C9=SUM(G9:J9)),"Đúng","Sai") -> Đúng | U9: =IF(AND(K9<=C9,L9<=C9,M9<=C9,N9<=C9,O9<=C9,P9<=C9,Q9<=C9,R9<=C9,S9<=C9),"Đúng","Sai") -> Đúng
B10: Đảng ủy, BTV ĐU cấp trên trực tiếp cơ sở và tương đương | C10: =SUM(D10:F10) -> 0 | T10: =IF((C10=SUM(G10:J10)),"Đúng","Sai") -> Đúng | U10: =IF(AND(K10<=C10,L10<=C10,M10<=C10,N10<=C10,O10<=C10,P10<=C10,Q10<=C10,R10<=C10,S10<=C10),"Đúng","Sai") -> Đúng
B11: Các CQ tham mưu của cấp ủy cấp trên trực tiếp cơ sở và tương đương | C11: =SUM(D11:F11) -> 0 | T11: =IF((C11=SUM(G11:J11)),"Đúng","Sai") -> Đúng | U11: =IF(AND(K11<=C11,L11<=C11,M11<=C11,N11<=C11,O11<=C11,P11<=C11,Q11<=C11,R11<=C11,S11<=C11),"Đúng","Sai") -> Đúng
B12: Đảng uỷ cơ sở, BTV đảng ủy cơ sở | C12: =SUM(D12:F12) -> 0 | T12: =IF((C12=SUM(G12:J12)),"Đúng","Sai") -> Đúng | U12: =IF(AND(K12<=C12,L12<=C12,M12<=C12,N12<=C12,O12<=C12,P12<=C12,Q12<=C12,R12<=C12,S12<=C12),"Đúng","Sai") -> Đúng
B13: Đảng uỷ bộ phận | C13: =SUM(D13:F13) -> 0 | T13: =IF((C13=SUM(G13:J13)),"Đúng","Sai") -> Đúng | U13: =IF(AND(K13<=C13,L13<=C13,M13<=C13,N13<=C13,O13<=C13,P13<=C13,Q13<=C13,R13<=C13,S13<=C13),"Đúng","Sai") -> Đúng
B14: Chi bộ, Chi ủy | C14: =SUM(D14:F14) -> 0 | T14: =IF((C14=SUM(G14:J14)),"Đúng","Sai") -> Đúng | U14: =IF(AND(K14<=C14,L14<=C14,M14<=C14,N14<=C14,O14<=C14,P14<=C14,Q14<=C14,R14<=C14,S14<=C14),"Đúng","Sai") -> Đúng
B15: Khác (ban chỉ đạo, tiểu ban, hội đồng,..) | C15: =SUM(D15:F15) -> 0 | T15: =IF((C15=SUM(G15:J15)),"Đúng","Sai") -> Đúng | U15: =IF(AND(K15<=C15,L15<=C15,M15<=C15,N15<=C15,O15<=C15,P15<=C15,Q15<=C15,R15<=C15,S15<=C15),"Đúng","Sai") -> Đúng
A16: II | B16: Bị THKT từ nhiệm vụ | C16: =SUM(C17:C20) -> 0 | D16: =SUM(D17:D20) -> 0 | E16: =SUM(E17:E20) -> 0 | F16: =SUM(F17:F20) -> 0 | G16: =SUM(G17:G20) -> 0 | H16: =SUM(H17:H20) -> 0 | I16: =SUM(I17:I20) -> 0 | J16: =SUM(J17:J20) -> 0 | ... S16: =SUM(S17:S20) -> 0 | T16: =IF((C16=SUM(G16:J16)),"Đúng","Sai") -> Đúng | U16: =IF(AND(K16<=C16,L16<=C16,M16<=C16,N16<=C16,O16<=C16,P16<=C16,Q16<=C16,R16<=C16,S16<=C16),"Đúng","Sai") -> Đúng
B17: Kiểm tra theo Điều 30 của ĐLĐ | C17: =SUM(D17:F17) -> 0 | T17: =IF((C17=SUM(G17:J17)),"Đúng","Sai") -> Đúng | U17: =IF(AND(K17<=C17,L17<=C17,M17<=C17,N17<=C17,O17<=C17,P17<=C17,Q17<=C17,R17<=C17,S17<=C17),"Đúng","Sai") -> Đúng
B18: Kiểm tra khi có DHVP của BTV cấp ủy và chi bộ | C18: =SUM(D18:F18) -> 0 | T18: =IF((C18=SUM(G18:J18)),"Đúng","Sai") -> Đúng | U18: =IF(AND(K18<=C18,L18<=C18,M18<=C18,N18<=C18,O18<=C18,P18<=C18,Q18<=C18,R18<=C18,S18<=C18),"Đúng","Sai") -> Đúng
B19: Giải quyết tố cáo của cấp ủy các cấp | C19: =SUM(D19:F19) -> 0 | T19: =IF((C19=SUM(G19:J19)),"Đúng","Sai") -> Đúng | U19: =IF(AND(K19<=C19,L19<=C19,M19<=C19,N19<=C19,O19<=C19,P19<=C19,Q19<=C19,R19<=C19,S19<=C19),"Đúng","Sai") -> Đúng
B20: Khác (từ đề nghị của TCĐ, UBKT cấp dưới, từ chỉ đạo của cấp trên giao...) | C20: =SUM(D20:F20) -> 0 | T20: =IF((C20=SUM(G20:J20)),"Đúng","Sai") -> Đúng | U20: =IF(AND(K20<=C20,L20<=C20,M20<=C20,N20<=C20,O20<=C20,P20<=C20,Q20<=C20,R20<=C20,S20<=C20),"Đúng","Sai") -> Đúng
A21: III | B21: Cấp thi hành kỷ luật | C21: =SUM(C22:C25) -> 0 | D21: =SUM(D22:D25) -> 0 | E21: =SUM(E22:E25) -> 0 | F21: =SUM(F22:F25) -> 0
B22: BCHTW, Bộ Chính trị, Ban Bí thư | C22: =SUM(D22:F22) -> 0
B23: Tỉnh uỷ, BTV tỉnh uỷ và tương đương | C23: =SUM(D23:F23) -> 0
B24: Đảng ủy, BTV ĐU cấp trên trực tiếp cơ sở và tương đương | C24: =SUM(D24:F24) -> 0
B25: Đảng uỷ cơ sở, BTV Đảng uỷ cơ sở | C25: =SUM(D25:F25) -> 0
C26: =IF(C6=C16,"Đúng","Sai") -> Đúng | D26: =IF(D6=D16,"Đúng","Sai") -> Đúng | E26: =IF(E6=E16,"Đúng","Sai") -> Đúng | F26: =IF(F6=F16,"Đúng","Sai") -> Đúng | G26: =IF(G6=G16,"Đúng","Sai") -> Đúng | H26: =IF(H6=H16,"Đúng","Sai") -> Đúng | I26: =IF(I6=I16,"Đúng","Sai") -> Đúng | J26: =IF(J6=J16,"Đúng","Sai") -> Đúng | ... S26: =IF(S6=S16,"Đúng","Sai") -> Đúng

Sheet B08
A1: THI HÀNH KỶ LUẬT ĐẢNG VIÊN CỦA CẤP ỦY CÁC CẤP VÀ CHI BỘ | AB1: Biểu 08
Z2: (ĐVT: lượt đảng viên)
A3: TT | B3: Đảng viên bị thi hành kỷ luật | C3: Tổng số đảng viên bị THKL | D3: Hình thức kỷ luật | H3: Đình chỉ sinh hoạt đảng | I3: Đình chỉ sinh hoạt cấp ủy viên | J3: Xóa tên, cho rút | K3: Cấp thi hành kỷ luật | Q3: Nội dung vi phạm | Z3: Xử lý pháp luật | AC3: Xử lý hành chính | AD3: Xử lý đoàn thể
D4: Khiển trách | E4: Cảnh cáo | F4: Cách chức | G4: Khai trừ | K4: BCHTW, Bộ Chính trị, Ban Bí thư | L4: Tỉnh uỷ, BTV tỉnh uỷ và tương đương | M4: Đảng ủy, BTV ĐU cấp trên trực tiếp cơ sở và tương đương | N4: Đảng uỷ cơ sở , BTV đảng ủy cơ sở | O4: Chi bộ cơ sở | P4: Chi bộ trực thuộc | Q4: Những điều đảng viên không được làm | R4: Tiêu chuẩn đảng viên, tiêu chuẩn cấp ủy viên | S4: Việc thực hiện nhiệm vụ đảng viên, cấp ủy viên | T4: Việc chấp hành nghị quyết, chỉ thị, quy định, kết luận của Đảng; chính sách, pháp luật của Nhà nước | U4: Việc chấp hành quy chế làm việc, nguyên tắc tập trung dân chủ, chế độ công tác | V4: Tư tưởng chính trị, đạo đức, lối sống, trách nhiệm nêu gương | W4: Tham nhũng, tiêu cực, lãng phí | X4: Kê khai tài sản, thu nhập | Y4: Khác | Z4: Số lượng | AA4: Trong đó
AA5: Bị phạt tù (kể cả án treo) | AB5: Hình thức khác
A6: 1 | B6: 2 | C6: 3 | D6: 4 | E6: 5 | F6: 6 | G6: 7 | H6: 8 | I6: 9 | J6: 10 | K6: 11 | L6: 12 | M6: 13 | N6: 14 | O6: 15 | P6: 16 | Q6: 17 | R6: 18 | S6: 19 | T6: 20 | U6: 21 | V6: 22 | W6: 23 | X6: 24 | Y6: 25 | Z6: 26 | AA6: 27 | AB6: 28 | AC6: 29 | AD6: 30
A7: I | B7: Cấp quản lý đảng viên | C7: =SUM(C8:C11) -> 0 | D7: =SUM(D8:D11) -> 0 | E7: =SUM(E8:E11) -> 0 | F7: =SUM(F8:F11) -> 0 | G7: =SUM(G8:G11) -> 0 | H7: =SUM(H8:H11) -> 0 | I7: =SUM(I8:I11) -> 0 | J7: =SUM(J8:J11) -> 0 | ... AD7: =SUM(AD8:AD11) -> 0 | AE7: =IF(C7=(SUM(K7:P7)),"Đúng","Sai") -> Đúng | AF7: =IF(AND(Q7<=C7,R7<=C7,S7<=C7,T7<=C7,U7<=C7,V7<=C7,W7<=C7,Y7<=C7,X7<=C7),"Đúng","Sai") -> Đúng | AG7: =IF(Z7=AA7+AB7,"Đúng","Sai") -> Đúng
B8: Trung ương | C8: =SUM(D8:G8) -> 0 | AE8: =IF(C8=(SUM(K8:P8)),"Đúng","Sai") -> Đúng | AF8: =IF(AND(Q8<=C8,R8<=C8,S8<=C8,T8<=C8,U8<=C8,V8<=C8,W8<=C8,Y8<=C8,X8<=C8),"Đúng","Sai") -> Đúng | AG8: =IF(Z8=AA8+AB8,"Đúng","Sai") -> Đúng
B9: Cấp tỉnh và tương đương | C9: =SUM(D9:G9) -> 0 | AE9: =IF(C9=(SUM(K9:P9)),"Đúng","Sai") -> Đúng | AF9: =IF(AND(Q9<=C9,R9<=C9,S9<=C9,T9<=C9,U9<=C9,V9<=C9,W9<=C9,Y9<=C9,X9<=C9),"Đúng","Sai") -> Đúng | AG9: =IF(Z9=AA9+AB9,"Đúng","Sai") -> Đúng
B10: Cấp trên trực tiếp cơ sở và tương đương | C10: =SUM(D10:G10) -> 0 | AE10: =IF(C10=(SUM(K10:P10)),"Đúng","Sai") -> Đúng | AF10: =IF(AND(Q10<=C10,R10<=C10,S10<=C10,T10<=C10,U10<=C10,V10<=C10,W10<=C10,Y10<=C10,X10<=C10),"Đúng","Sai") -> Đúng | AG10: =IF(Z10=AA10+AB10,"Đúng","Sai") -> Đúng
B11: Cấp cơ sở | C11: =SUM(D11:G11) -> 0 | AE11: =IF(C11=(SUM(K11:P11)),"Đúng","Sai") -> Đúng | AF11: =IF(AND(Q11<=C11,R11<=C11,S11<=C11,T11<=C11,U11<=C11,V11<=C11,W11<=C11,Y11<=C11,X11<=C11),"Đúng","Sai") -> Đúng | AG11: =IF(Z11=AA11+AB11,"Đúng","Sai") -> Đúng
